Report for autodie-2.29

Back
From: metabase:user:323dcade-2aae-11df-837a-5e0a49663a4f
Subject: PASS autodie-2.29 v5.20.3 GNU/Linux
Date: 2015-10-16T21:55:21Z

This distribution has been tested as part of the CPAN Testers
project, supporting the Perl programming language.  See
http://wiki.cpantesters.org/ for more information or email
questions to cpan-testers-discuss@perl.org


--
Dear Paul Jamieson Fenwick,

This is a computer-generated report for autodie-2.29
on perl 5.20.3, created by CPAN-Reporter-1.2011.

Thank you for uploading your work to CPAN.  Congratulations!
All tests were successful.

Sections of this report:

    * Tester comments
    * Program output
    * Prerequisites
    * Environment and other context

------------------------------
TESTER COMMENTS
------------------------------

Additional comments from tester:

this report is from an automated smoke testing program
and was not reviewed by a human for accuracy

------------------------------
PROGRAM OUTPUT
------------------------------

Output from '/usr/bin/make test':

PERL_DL_NONLAZY=1 "/usr/local/bin/perl5.20.3d" "-MExtUtils::Command::MM" "-MTest::Harness" "-e" "undef *Test::Harness::Switches; test_harness(0, 'blib/lib', 'blib/arch')" t/*.t
t/00-load.t ...................... ok
t/args.t ......................... ok
t/author-critic.t ................ skipped: these tests are for testing by the author
t/autodie.t ...................... ok
t/backcompat.t ................... ok
t/basic_exceptions.t ............. ok
t/binmode.t ...................... ok
t/blog_hints.t ................... ok
t/caller.t ....................... ok
t/chmod.t ........................ ok
t/chown.t ........................ ok
t/context.t ...................... ok
t/context_lexical.t .............. ok
t/core-trampoline-slurp.t ........ ok
t/crickey.t ...................... ok
t/critic.t ....................... skipped: Author test.  Set $ENV{AUTHOR_TESTING} to true to run.
t/dbmopen.t ...................... ok
t/eval_error.t ................... ok
t/exception_class.t .............. ok
t/exceptions.t ................... ok
t/exec.t ......................... ok
t/Fatal.t ........................ ok
t/filehandles.t .................. ok
t/fileno.t ....................... ok
t/flock.t ........................ ok
t/fork.t ......................... skipped: BSD::Resource required to test fork()
t/format-clobber.t ............... ok
# Sub::Identify is loaded
t/hints.t ........................ ok
t/hints_insist.t ................. ok
t/hints_pod_examples.t ........... ok
t/hints_provider_does.t .......... ok
t/hints_provider_easy_does_it.t .. ok
t/hints_provider_isa.t ........... ok
t/import-into.t .................. ok
t/internal-backcompat.t .......... ok
t/internal.t ..................... ok
t/kill.t ......................... ok
t/kwalitee.t ..................... skipped: Author test.  Set $ENV{RELEASE_TESTING} to true to run.
t/lethal.t ....................... ok
t/lex58.t ........................ ok
t/mkdir.t ........................ ok
t/no_carp.t ...................... ok
t/open.t ......................... ok
t/pod-coverage.t ................. skipped: Author test.  Set $ENV{AUTHOR_TESTING} to true to run.
t/pod.t .......................... skipped: Author test.  Set $ENV{AUTHOR_TESTING} to true to run.
t/read.t ......................... ok
t/recv.t ......................... ok
t/release-pod-coverage.t ......... skipped: these tests are for release candidate testing
t/release-pod-syntax.t ........... skipped: these tests are for release candidate testing
t/repeat.t ....................... ok
t/rt-74246.t ..................... ok
t/scope_leak.t ................... ok
t/skip.t ......................... ok
t/socket.t ....................... skipped: Author test.  Set $ENV{AUTHOR_TESTING} to true to run.
t/string-eval-basic.t ............ ok
t/string-eval-leak.t ............. ok
t/sysopen.t ...................... ok
t/system.t ....................... ok
t/truncate.t ..................... ok
t/unlink.t ....................... ok
t/user-context.t ................. ok
t/usersub.t ...................... ok
t/utf8_open.t .................... ok
t/utime.t ........................ ok
t/version.t ...................... skipped: Release test.  Set $ENV{RELEASE_TESTING} to true to run.
t/version_tag.t .................. ok
All tests successful.
Files=66, Tests=510,  7 wallclock secs ( 0.40 usr  0.03 sys +  6.04 cusr  0.20 csys =  6.67 CPU)
Result: PASS

------------------------------
PREREQUISITES
------------------------------

Prerequisite modules loaded:

requires:

    Module              Need     Have    
    ------------------- -------- --------
    B                   0        1.48    
    Carp                0        1.3301  
    constant            0        1.33    
    Exporter            5.57     5.72    
    Fcntl               0        1.11    
    overload            0        1.22    
    parent              0        0.228   
    perl                5.008004 5.020003
    POSIX               0        1.38_03 
    Scalar::Util        0        1.42    
    strict              0        1.08    
    Tie::RefHash        0        1.39    
    warnings            0        1.23    

build_requires:

    Module              Need     Have    
    ------------------- -------- --------
    ExtUtils::MakeMaker 0        7.10    
    File::Copy          0        2.30    
    File::Spec          0        3.48_01 
    File::Temp          0        0.2304  
    FindBin             0        1.51    
    if                  0        0.0606  
    IO::Handle          0        1.35    
    lib                 0        0.63    
    Socket              0        2.013   
    Test::More          0        1.001014

configure_requires:

    Module              Need     Have    
    ------------------- -------- --------
    ExtUtils::MakeMaker 0        7.10    


------------------------------
ENVIRONMENT AND OTHER CONTEXT
------------------------------

Environment variables:

    AUTOMATED_TESTING = 1
    LANG = en_US.utf8
    NONINTERACTIVE_TESTING = 1
    PATH = /home/rurban/bin:/usr/local/bin:/usr/bin:/bin:/usr/local/games:/usr/games
    PERL5LIB = 
    PERL5OPT = 
    PERL5_CPANPLUS_IS_RUNNING = 16861
    PERL5_CPAN_IS_RUNNING = 16861
    PERL_MM_USE_DEFAULT = 1
    SHELL = /bin/bash
    TERM = xterm-256color

Perl special variables (and OS-specific diagnostics, for MSWin32):

    $^X = /usr/local/bin/perl5.20.3d
    $UID/$EUID = 1000 / 1000
    $GID = 1000 27 124 125 1000
    $EGID = 1000 27 124 125 1000

Perl module toolchain versions installed:

    Module              Have    
    ------------------- --------
    CPAN                2.10    
    CPAN::Meta          2.150005
    Cwd                 3.48_01 
    ExtUtils::CBuilder  0.280224
    ExtUtils::Command   7.10    
    ExtUtils::Install   2.04    
    ExtUtils::MakeMaker 7.10    
    ExtUtils::Manifest  1.70    
    ExtUtils::ParseXS   3.30    
    File::Spec          3.48_01 
    JSON                2.90    
    JSON::PP            2.27203 
    Module::Build       0.4214  
    Module::Signature   0.79    
    Parse::CPAN::Meta   1.4417  
    Test::Harness       3.35    
    Test::More          1.001014
    YAML                1.15    
    YAML::Syck          n/a     
    version             0.9912  


--

Summary of my perl5 (revision 5 version 20 subversion 3) configuration:
   
  Platform:
    osname=linux, osvers=4.1.0-2-amd64, archname=x86_64-linux-thread-debug
    uname='linux reini 4.1.0-2-amd64 #1 smp debian 4.1.6-1 (2015-08-23) x86_64 gnulinux '
    config_args='-de -Dusedevel -Uversiononly -Dinstallman1dir=none -Dinstallman3dir=none -Dinstallsiteman1dir=none -Dinstallsiteman3dir=none -DEBUGGING -Doptimize='-g3' -Duseithreads -Accflags=''-msse4.2'' -Accflags=''-march=corei7'' -Dcf_email=''rurban@cpanel.net'' -Dperladmin=''rurban@cpanel.net'''
    hint=recommended, useposix=true, d_sigaction=define
    useithreads=define, usemultiplicity=define
    use64bitint=define, use64bitall=define, uselongdouble=undef
    usemymalloc=n, bincompat5005=undef
  Compiler:
    cc='cc', ccflags ='-D_REENTRANT -D_GNU_SOURCE -msse4.2 -march=corei7 -fwrapv -DDEBUGGING -fno-strict-aliasing -pipe -fstack-protector -I/usr/local/include -D_LARGEFILE_SOURCE -D_FILE_OFFSET_BITS=64',
    optimize='-g3',
    cppflags='-D_REENTRANT -D_GNU_SOURCE -msse4.2 -march=corei7 -fwrapv -DDEBUGGING -fno-strict-aliasing -pipe -fstack-protector -I/usr/local/include'
    ccversion='', gccversion='5.2.1 20151010', gccosandvers=''
    intsize=4, longsize=8, ptrsize=8, doublesize=8, byteorder=12345678
    d_longlong=define, longlongsize=8, d_longdbl=define, longdblsize=16
    ivtype='long', ivsize=8, nvtype='double', nvsize=8, Off_t='off_t', lseeksize=8
    alignbytes=8, prototype=define
  Linker and Libraries:
    ld='cc', ldflags =' -fstack-protector -L/usr/local/lib'
    libpth=/usr/local/lib /usr/lib/gcc/x86_64-linux-gnu/5/include-fixed /usr/include/x86_64-linux-gnu /usr/lib /lib/x86_64-linux-gnu /lib/../lib /usr/lib/x86_64-linux-gnu /usr/lib/../lib /lib /lib64 /usr/lib64 /usr/local/lib64
    libs=-lpthread -lnsl -lgdbm -ldb -ldl -lm -lcrypt -lutil -lc -lgdbm_compat
    perllibs=-lpthread -lnsl -ldl -lm -lcrypt -lutil -lc
    libc=libc-2.19.so, so=so, useshrplib=false, libperl=libperl.a
    gnulibc_version='2.19'
  Dynamic Linking:
    dlsrc=dl_dlopen.xs, dlext=so, d_dlsymun=undef, ccdlflags='-Wl,-E'
    cccdlflags='-fPIC', lddlflags='-shared -g3 -L/usr/local/lib -fstack-protector'


Characteristics of this binary (from libperl): 
  Compile-time options: DEBUGGING HAS_TIMES MULTIPLICITY PERLIO_LAYERS
                        PERL_DONT_CREATE_GVSV
                        PERL_HASH_FUNC_ONE_AT_A_TIME_HARD
                        PERL_IMPLICIT_CONTEXT PERL_MALLOC_WRAP
                        PERL_NEW_COPY_ON_WRITE PERL_PRESERVE_IVUV
                        PERL_TRACK_MEMPOOL PERL_USE_DEVEL USE_64_BIT_ALL
                        USE_64_BIT_INT USE_ITHREADS USE_LARGE_FILES
                        USE_LOCALE USE_LOCALE_COLLATE USE_LOCALE_CTYPE
                        USE_LOCALE_NUMERIC USE_PERLIO USE_PERL_ATOF
                        USE_REENTRANT_API
  Locally applied patches:
	Devel::PatchPerl 1.30
  Built under linux
  Compiled at Oct 16 2015 20:09:53
  %ENV:
    PERL5LIB=""
    PERL5OPT=""
    PERL5_CPANPLUS_IS_RUNNING="16861"
    PERL5_CPAN_IS_RUNNING="16861"
    PERL_MM_USE_DEFAULT="1"
  @INC:
    /usr/local/lib/perl5/site_perl/5.20.3/x86_64-linux-thread-debug
    /usr/local/lib/perl5/site_perl/5.20.3
    /usr/local/lib/perl5/5.20.3/x86_64-linux-thread-debug
    /usr/local/lib/perl5/5.20.3
    /usr/local/lib/perl5/site_perl/5.20.2
    /usr/local/lib/perl5/site_perl/5.20.1
    /usr/local/lib/perl5/site_perl/5.20.0/x86_64-linux-thread-debug
    /usr/local/lib/perl5/site_perl/5.20.0
    /usr/local/lib/perl5/site_perl/5.19.11
    /usr/local/lib/perl5/site_perl/5.19.10
    /usr/local/lib/perl5/site_perl/5.19.9
    /usr/local/lib/perl5/site_perl/5.19.8
    /usr/local/lib/perl5/site_perl/5.19.7
    /usr/local/lib/perl5/site_perl/5.19.6
    /usr/local/lib/perl5/site_perl/5.19.5
    /usr/local/lib/perl5/site_perl/5.19.4
    /usr/local/lib/perl5/site_perl/5.19.3
    /usr/local/lib/perl5/site_perl/5.19.2
    /usr/local/lib/perl5/site_perl/5.19.1
    /usr/local/lib/perl5/site_perl/5.19.0
    /usr/local/lib/perl5/site_perl/5.18.4
    /usr/local/lib/perl5/site_perl/5.18.2
    /usr/local/lib/perl5/site_perl/5.18.1
    /usr/local/lib/perl5/site_perl/5.18.0
    /usr/local/lib/perl5/site_perl/5.17.11
    /usr/local/lib/perl5/site_perl/5.17.10
    /usr/local/lib/perl5/site_perl/5.17.8
    /usr/local/lib/perl5/site_perl/5.17.7
    /usr/local/lib/perl5/site_perl/5.17.6
    /usr/local/lib/perl5/site_perl/5.17.5
    /usr/local/lib/perl5/site_perl/5.17.4
    /usr/local/lib/perl5/site_perl/5.17.3
    /usr/local/lib/perl5/site_perl/5.17.2
    /usr/local/lib/perl5/site_perl/5.17.1
    /usr/local/lib/perl5/site_perl/5.17.0
    /usr/local/lib/perl5/site_perl/5.17
    /usr/local/lib/perl5/site_perl/5.16.3
    /usr/local/lib/perl5/site_perl/5.16.2
    /usr/local/lib/perl5/site_perl/5.16.1
    /usr/local/lib/perl5/site_perl/5.16.0
    /usr/local/lib/perl5/site_perl/5.15.9
    /usr/local/lib/perl5/site_perl/5.15.8
    /usr/local/lib/perl5/site_perl/5.15.7
    /usr/local/lib/perl5/site_perl/5.15.6
    /usr/local/lib/perl5/site_perl/5.15.5
    /usr/local/lib/perl5/site_perl/5.15.4
    /usr/local/lib/perl5/site_perl/5.15.3
    /usr/local/lib/perl5/site_perl/5.15.2
    /usr/local/lib/perl5/site_perl/5.14.4
    /usr/local/lib/perl5/site_perl/5.14.3
    /usr/local/lib/perl5/site_perl/5.14.2
    /usr/local/lib/perl5/site_perl/5.14.1
    /usr/local/lib/perl5/site_perl/5.12.5
    /usr/local/lib/perl5/site_perl/5.12.4
    /usr/local/lib/perl5/site_perl/5.10.1
    /usr/local/lib/perl5/site_perl/5.8.9
    /usr/local/lib/perl5/site_perl/5.8.8
    /usr/local/lib/perl5/site_perl/5.8.7
    /usr/local/lib/perl5/site_perl/5.8.6
    /usr/local/lib/perl5/site_perl/5.8.5
    /usr/local/lib/perl5/site_perl/5.8.4
    /usr/local/lib/perl5/site_perl/5.8.3
    /usr/local/lib/perl5/site_perl/5.8.2
    /usr/local/lib/perl5/site_perl/5.8.1
    /usr/local/lib/perl5/site_perl/5.6.2
    /usr/local/lib/perl5/site_perl
    .