Mastodon-Client v0.012 Perl 5 v5.26.0 x86_64-linux
- Status
- Pass
- From
- Slaven Rezić (SREZIC)
- Dist
-
Mastodon-Client v0.012
- Platform
- Perl 5 v5.26.0 x86_64-linux
- Date
- 2017-12-10 12:56:53
- ID
- 98a2758e-dda9-11e7-adaa-e1de86c17d35
This distribution has been tested as part of the CPAN Testers
project, supporting the Perl programming language. See
http://wiki.cpantesters.org/ for more information or email
questions to cpan-testers-discuss@perl.org
--
Dear Jose Joaquin Atria,
This is a computer-generated report for Mastodon-Client-0.012
on perl 5.26.0, created by CPAN-Reporter-1.2018.
Thank you for uploading your work to CPAN. Congratulations!
All tests were successful.
Sections of this report:
* Tester comments
* Program output
* Prerequisites
* Environment and other context
------------------------------
TESTER COMMENTS
------------------------------
Additional comments from tester:
none provided
------------------------------
PROGRAM OUTPUT
------------------------------
Output from '/usr/bin/make test':
PERL_DL_NONLAZY=1 "/opt/perl-5.26.0/bin/perl" "-MExtUtils::Command::MM" "-MTest::Harness" "-e" "undef *Test::Harness::Switches; test_harness(0, 'blib/lib', 'blib/arch')" t/*.t
t/00_basic.t ............ ok
t/01_entities.t ......... ok
t/02_entity_coercion.t .. ok
t/05_authorize.t ........ ok
t/10_tcp.t .............. ok
t/author-pod-syntax.t ... skipped: these tests are for testing by the author
All tests successful.
Files=6, Tests=168, 2 wallclock secs ( 0.04 usr 0.03 sys + 1.53 cusr 0.32 csys = 1.92 CPU)
Result: PASS
------------------------------
PREREQUISITES
------------------------------
Prerequisite modules loaded:
requires:
Module Need Have
--------------------------- -------- --------
AnyEvent 7.13 7.14
AnyEvent::Emitter 0.02 0.02
AnyEvent::HTTP 2.23 2.23
Carp 0 1.42
Class::Load 0 0.24
Data::Dumper 0 2.167
DateTime 1.42 1.44
DateTime::Format::Strptime 1.73 1.74
Encode 0 2.93
HTTP::Request::Common 0 6.13
Image::Info 0 1.41
JSON::MaybeXS 1.003009 1.003009
List::Util 1.47 1.49
Log::Any 1.049 1.701
LWP::UserAgent 6.25 6.29
MIME::Base64 0 3.15
Moo 2.003002 2.003004
Moo::Role 0 2.003004
Path::Tiny 0 0.104
perl 5.010 5.026000
strict 0 1.11
Try::Tiny 0.28 0.28
Type::Library 0 1.002001
Type::Params 1.000006 1.002001
Type::Utils 0 1.002001
Types::Common::String 1.000006 1.002001
Types::Path::Tiny 0.005 0.005
Types::Standard 1.000006 1.002001
URI 1.71 1.71
URI::QueryParam 0 1.71
warnings 0 1.37
build_requires:
Module Need Have
--------------------------- -------- --------
AnyEvent 7.13 7.14
Config::Tiny 0 2.23
diagnostics 0 1.36
ExtUtils::MakeMaker 0 7.30
HTML::FormatText::WithLinks 0 0.15
lib 0 0.64
Lingua::EN::Inflexion 0 0.001004
Log::Any::Adapter 0 1.701
parent 0 0.236
Plack 1.0043 1.0044
Plack::Component 0 0
Plack::Runner 0 0
Plack::Util 0 0
Term::ANSIColor 0 4.06
Test::Exception 0.043 0.43
Test::More 1.302078 1.302120
Test::Pod 1.51 1.51
Test::TCP 2.17 2.19
Test::Warnings 0.026 0.026
configure_requires:
Module Need Have
--------------------------- -------- --------
ExtUtils::MakeMaker 0 7.30
perl v5.10.0 5.026000
------------------------------
ENVIRONMENT AND OTHER CONTEXT
------------------------------
Environment variables:
LANG = C
PATH = /usr/local/bin:/usr/bin:/bin:/usr/local/sbin:/usr/sbin:/sbin:/home/cpansand/bin/linux-gnu:/home/cpansand/bin/sh:/home/cpansand/bin:/usr/games:/home/cpansand/devel:/home/eserte/src/srezic-misc/scripts
PERL5LIB = /home/cpansand/.cpan/build/2017121009/AnyEvent-Emitter-0.02-0/blib/arch:/home/cpansand/.cpan/build/2017121009/AnyEvent-Emitter-0.02-0/blib/lib:/home/cpansand/.cpan/build/2017121009/JIRA-REST-Class-0.12-0/blib/arch:/home/cpansand/.cpan/build/2017121009/JIRA-REST-Class-0.12-0/blib/lib:/home/cpansand/.cpan/build/2017121009/Clone-Any-1.01-0/blib/arch:/home/cpansand/.cpan/build/2017121009/Clone-Any-1.01-0/blib/lib:/home/cpansand/.cpan/build/2017121009/Devel-UseAnyFunc-1-0/blib/arch:/home/cpansand/.cpan/build/2017121009/Devel-UseAnyFunc-1-0/blib/lib:/home/cpansand/.cpan/build/2017121009/Class-Factory-Enhanced-1.101420-0/blib/arch:/home/cpansand/.cpan/build/2017121009/Class-Factory-Enhanced-1.101420-0/blib/lib:/home/cpansand/.cpan/build/2017121009/Hadoop-HDFS-Command-0.005-0/blib/arch:/home/cpansand/.cpan/build/2017121009/Hadoop-HDFS-Command-0.005-0/blib/lib:/home/cpansand/.cpan/build/2017121009/HTTP-RobotsTag-0.00001-0/blib/arch:/home/cpansand/.cpan/build/2017121009/HTTP-RobotsTag-0.00001-0/blib/lib
PERL5OPT =
PERL5_CPANPLUS_IS_RUNNING = 16325
PERL5_CPAN_IS_RUNNING = 16325
PERL5_CPAN_IS_RUNNING_IN_RECURSION = 28175,16325
PERLDOC = -MPod::Perldoc::ToTextOverstrike
PERL_BATCH = yes
PERL_CANARY_STABILITY_NOPROMPT = 1
PERL_CPAN_REPORTER_CONFIG = /var/tmp/cpansmoker-1023/2017120921/cpanreporter_000_config.ini
PERL_EXTUTILS_AUTOINSTALL = --defaultdeps
PERL_USE_UNSAFE_INC = 1
SHELL = /usr/bin/zsh
TERM = screen
TMPDIR = /var/tmp/cpansmoker-1023/2017120921
Perl special variables (and OS-specific diagnostics, for MSWin32):
$^X = /opt/perl-5.26.0/bin/perl
$UID/$EUID = 1023 / 1023
$GID = 1023 1023
$EGID = 1023 1023
Perl module toolchain versions installed:
Module Have
------------------- --------
CPAN 2.18
CPAN::Meta 2.150010
Cwd 3.67
ExtUtils::CBuilder 0.280230
ExtUtils::Command 7.30
ExtUtils::Install 2.06
ExtUtils::MakeMaker 7.30
ExtUtils::Manifest 1.70
ExtUtils::ParseXS 3.34
File::Spec 3.67
JSON 2.94
JSON::PP 2.95
Module::Build 0.4224
Module::Signature 0.81
Parse::CPAN::Meta 2.150010
Test::Harness 3.39
Test::More 1.302120
YAML 1.24
YAML::Syck 1.30
version 0.9917
--
Summary of my perl5 (revision 5 version 26 subversion 0) configuration:
Platform:
osname=linux
osvers=4.9.0-3-amd64
archname=x86_64-linux
uname='linux debian9 4.9.0-3-amd64 #1 smp debian 4.9.30-2+deb9u1 (2017-06-18) x86_64 gnulinux '
config_args='-ds -e -Dprefix=/opt/perl-5.26.0 -Dcf_email=srezic@cpan.org'
hint=recommended
useposix=true
d_sigaction=define
useithreads=undef
usemultiplicity=undef
use64bitint=define
use64bitall=define
uselongdouble=undef
usemymalloc=n
default_inc_excludes_dot=define
bincompat5005=undef
Compiler:
cc='cc'
ccflags ='-fwrapv -fno-strict-aliasing -pipe -fstack-protector-strong -I/usr/local/include -D_LARGEFILE_SOURCE -D_FILE_OFFSET_BITS=64'
optimize='-O2'
cppflags='-fwrapv -fno-strict-aliasing -pipe -fstack-protector-strong -I/usr/local/include'
ccversion=''
gccversion='6.3.0 20170516'
gccosandvers=''
intsize=4
longsize=8
ptrsize=8
doublesize=8
byteorder=12345678
doublekind=3
d_longlong=define
longlongsize=8
d_longdbl=define
longdblsize=16
longdblkind=3
ivtype='long'
ivsize=8
nvtype='double'
nvsize=8
Off_t='off_t'
lseeksize=8
alignbytes=8
prototype=define
Linker and Libraries:
ld='cc'
ldflags =' -fstack-protector-strong -L/usr/local/lib'
libpth=/usr/local/lib /usr/lib/gcc/x86_64-linux-gnu/6/include-fixed /usr/include/x86_64-linux-gnu /usr/lib /lib/x86_64-linux-gnu /lib/../lib /usr/lib/x86_64-linux-gnu /usr/lib/../lib /lib
libs=-lpthread -lnsl -lgdbm -ldb -ldl -lm -lcrypt -lutil -lc -lgdbm_compat
perllibs=-lpthread -lnsl -ldl -lm -lcrypt -lutil -lc
libc=libc-2.24.so
so=so
useshrplib=false
libperl=libperl.a
gnulibc_version='2.24'
Dynamic Linking:
dlsrc=dl_dlopen.xs
dlext=so
d_dlsymun=undef
ccdlflags='-Wl,-E'
cccdlflags='-fPIC'
lddlflags='-shared -O2 -L/usr/local/lib -fstack-protector-strong'
Characteristics of this binary (from libperl):
Compile-time options:
HAS_TIMES
PERLIO_LAYERS
PERL_COPY_ON_WRITE
PERL_DONT_CREATE_GVSV
PERL_MALLOC_WRAP
PERL_OP_PARENT
PERL_PRESERVE_IVUV
USE_64_BIT_ALL
USE_64_BIT_INT
USE_LARGE_FILES
USE_LOCALE
USE_LOCALE_COLLATE
USE_LOCALE_CTYPE
USE_LOCALE_NUMERIC
USE_LOCALE_TIME
USE_PERLIO
USE_PERL_ATOF
Built under linux
Compiled at Jun 23 2017 06:17:13
%ENV:
PERL5LIB="/home/cpansand/.cpan/build/2017121009/AnyEvent-Emitter-0.02-0/blib/arch:/home/cpansand/.cpan/build/2017121009/AnyEvent-Emitter-0.02-0/blib/lib:/home/cpansand/.cpan/build/2017121009/JIRA-REST-Class-0.12-0/blib/arch:/home/cpansand/.cpan/build/2017121009/JIRA-REST-Class-0.12-0/blib/lib:/home/cpansand/.cpan/build/2017121009/Clone-Any-1.01-0/blib/arch:/home/cpansand/.cpan/build/2017121009/Clone-Any-1.01-0/blib/lib:/home/cpansand/.cpan/build/2017121009/Devel-UseAnyFunc-1-0/blib/arch:/home/cpansand/.cpan/build/2017121009/Devel-UseAnyFunc-1-0/blib/lib:/home/cpansand/.cpan/build/2017121009/Class-Factory-Enhanced-1.101420-0/blib/arch:/home/cpansand/.cpan/build/2017121009/Class-Factory-Enhanced-1.101420-0/blib/lib:/home/cpansand/.cpan/build/2017121009/Hadoop-HDFS-Command-0.005-0/blib/arch:/home/cpansand/.cpan/build/2017121009/Hadoop-HDFS-Command-0.005-0/blib/lib:/home/cpansand/.cpan/build/2017121009/HTTP-RobotsTag-0.00001-0/blib/arch:/home/cpansand/.cpan/build/2017121009/HTTP-RobotsTag-0.00001-0/blib/lib"
PERL5OPT=""
PERL5_CPANPLUS_IS_RUNNING="16325"
PERL5_CPAN_IS_RUNNING="16325"
PERL5_CPAN_IS_RUNNING_IN_RECURSION="28175,16325"
PERLDOC="-MPod::Perldoc::ToTextOverstrike"
PERL_BATCH="yes"
PERL_CANARY_STABILITY_NOPROMPT="1"
PERL_CPAN_REPORTER_CONFIG="/var/tmp/cpansmoker-1023/2017120921/cpanreporter_000_config.ini"
PERL_EXTUTILS_AUTOINSTALL="--defaultdeps"
PERL_USE_UNSAFE_INC="1"
@INC:
/home/cpansand/.cpan/build/2017121009/AnyEvent-Emitter-0.02-0/blib/arch
/home/cpansand/.cpan/build/2017121009/AnyEvent-Emitter-0.02-0/blib/lib
/home/cpansand/.cpan/build/2017121009/JIRA-REST-Class-0.12-0/blib/arch
/home/cpansand/.cpan/build/2017121009/JIRA-REST-Class-0.12-0/blib/lib
/home/cpansand/.cpan/build/2017121009/Clone-Any-1.01-0/blib/arch
/home/cpansand/.cpan/build/2017121009/Clone-Any-1.01-0/blib/lib
/home/cpansand/.cpan/build/2017121009/Devel-UseAnyFunc-1-0/blib/arch
/home/cpansand/.cpan/build/2017121009/Devel-UseAnyFunc-1-0/blib/lib
/home/cpansand/.cpan/build/2017121009/Class-Factory-Enhanced-1.101420-0/blib/arch
/home/cpansand/.cpan/build/2017121009/Class-Factory-Enhanced-1.101420-0/blib/lib
/home/cpansand/.cpan/build/2017121009/Hadoop-HDFS-Command-0.005-0/blib/arch
/home/cpansand/.cpan/build/2017121009/Hadoop-HDFS-Command-0.005-0/blib/lib
/home/cpansand/.cpan/build/2017121009/HTTP-RobotsTag-0.00001-0/blib/arch
/home/cpansand/.cpan/build/2017121009/HTTP-RobotsTag-0.00001-0/blib/lib
/opt/perl-5.26.0/lib/site_perl/5.26.0/x86_64-linux
/opt/perl-5.26.0/lib/site_perl/5.26.0
/opt/perl-5.26.0/lib/5.26.0/x86_64-linux
/opt/perl-5.26.0/lib/5.26.0
.