HTML-FormFu-MultiForm v1.03 Perl 5 v5.26.1 RC1 amd64-freebsd
- Status
- Pass
- From
- Slaven Rezić (SREZIC)
- Dist
-
HTML-FormFu-MultiForm v1.03
- Platform
- Perl 5 v5.26.1 RC1 amd64-freebsd
- Date
- 2017-09-12 06:50:00
- ID
- 98b09ac4-9786-11e7-a857-ac7c84002fdc
This distribution has been tested as part of the CPAN Testers
project, supporting the Perl programming language. See
http://wiki.cpantesters.org/ for more information or email
questions to cpan-testers-discuss@perl.org
--
Dear Nigel Metheringham,
This is a computer-generated report for HTML-FormFu-MultiForm-1.03
on perl 5.26.1, created by CPAN-Reporter-1.2018.
Thank you for uploading your work to CPAN. Congratulations!
All tests were successful.
Sections of this report:
* Tester comments
* Program output
* Prerequisites
* Environment and other context
------------------------------
TESTER COMMENTS
------------------------------
Additional comments from tester:
none provided
------------------------------
PROGRAM OUTPUT
------------------------------
Output from '/usr/bin/make test':
PERL_DL_NONLAZY=1 "/usr/perl5.26.1-RC1p/bin/perl5.26.1" "-MExtUtils::Command::MM" "-MTest::Harness" "-e" "undef *Test::Harness::Switches; test_harness(0, 'blib/lib', 'blib/arch')" t/*.t t/multiform-misc/*.t t/multiform-nested-name/*.t t/multiform-no-combine/*.t t/multiform/*.t t/multiform_hidden_name/*.t
#
# Versions for all modules listed in MYMETA.json (including optional ones):
#
# === Configure Requires ===
#
# Module Want Have
# ------------------- ---- ----
# ExtUtils::MakeMaker any 7.30
#
# === Build Requires ===
#
# Module Want Have
# ------------------- ---- ----
# ExtUtils::MakeMaker any 7.30
#
# === Test Requires ===
#
# Module Want Have
# ------------------- ---- --------
# Cwd any 3.67
# ExtUtils::MakeMaker any 7.30
# Fatal any 2.29
# File::Spec any 3.67
# Test::More 0.92 1.302096
# YAML::XS any 0.66
# warnings any 1.37
#
# === Test Recommends ===
#
# Module Want Have
# ---------- -------- --------
# CPAN::Meta 2.120900 2.150010
#
# === Runtime Requires ===
#
# Module Want Have
# -------------------------------------------- ---- ------
# Carp any 1.42
# Clone any 0.39
# Crypt::CBC any 2.33
# Crypt::DES any 2.07
# HTML::FormFu any 2.05
# HTML::FormFu::Attribute any 2.05
# HTML::FormFu::ObjectUtil any 2.05
# HTML::FormFu::QueryType::CGI any 2.05
# HTML::FormFu::Role::FormAndElementMethods any 2.05
# HTML::FormFu::Role::FormBlockAndFieldMethods any 2.05
# HTML::FormFu::Role::NestedHashUtils any 2.05
# HTML::FormFu::Role::Populate any 2.05
# List::MoreUtils any 0.425
# Moose any 2.2006
# MooseX::Attribute::Chained any 1.0.3
# Scalar::Util any 1.49
# Storable any 2.62
# overload any 1.28
# strict any 1.11
#
t/00-report-prereqs.t ........................ ok
t/multiform-misc-file-client-side.t .......... skipped: CGI tmp_upload_dir functionality makes this unusable on modern versions
t/multiform-misc/accessors.t ................. ok
t/multiform-misc/file-server-side.t .......... skipped: CGI tmp_upload_dir functionality makes this unusable on modern versions
t/multiform-nested-name/0_render_page_1.t .... ok
t/multiform-nested-name/1_submit_page_1.t .... ok
t/multiform-nested-name/2_render_page_2.t .... ok
t/multiform-nested-name/3_submit_page_2.t .... ok
t/multiform-nested-name/4_complete_page_3.t .. ok
t/multiform-no-combine/0_render_page_1.t ..... ok
t/multiform-no-combine/1_submit_page_1.t ..... ok
t/multiform-no-combine/2_render_page_2.t ..... ok
t/multiform-no-combine/3_submit_page_2.t ..... ok
t/multiform-no-combine/4_complete_page_3.t ... ok
t/multiform/0_render_page_1.t ................ ok
t/multiform/1_submit_page_1.t ................ ok
t/multiform/2_render_page_2.t ................ ok
t/multiform/3_submit_page_2.t ................ ok
t/multiform/4_complete_page_3.t .............. ok
t/multiform_hidden_name/0_render_page_1.t .... ok
t/multiform_hidden_name/1_submit_page_1.t .... ok
t/multiform_hidden_name/2_render_page_2.t .... ok
t/multiform_hidden_name/3_submit_page_2.t .... ok
t/multiform_hidden_name/4_complete_page_3.t .. ok
All tests successful.
Files=24, Tests=111, 15 wallclock secs ( 0.07 usr 0.02 sys + 13.27 cusr 1.15 csys = 14.52 CPU)
Result: PASS
------------------------------
PREREQUISITES
------------------------------
Prerequisite modules loaded:
requires:
Module Need Have
-------------------------------------------- -------- --------
Carp 0 1.42
Clone 0 0.39
Crypt::CBC 0 2.33
Crypt::DES 0 2.07
HTML::FormFu 0 2.05
HTML::FormFu::Attribute 0 2.05
HTML::FormFu::ObjectUtil 0 2.05
HTML::FormFu::QueryType::CGI 0 2.05
HTML::FormFu::Role::FormAndElementMethods 0 2.05
HTML::FormFu::Role::FormBlockAndFieldMethods 0 2.05
HTML::FormFu::Role::NestedHashUtils 0 2.05
HTML::FormFu::Role::Populate 0 2.05
List::MoreUtils 0 0.425
Moose 0 2.2006
MooseX::Attribute::Chained 0 1.0.3
overload 0 1.28
Scalar::Util 0 1.49
Storable 0 2.62
strict 0 1.11
build_requires:
Module Need Have
-------------------------------------------- -------- --------
Cwd 0 3.67
ExtUtils::MakeMaker 0 7.30
Fatal 0 2.29
File::Spec 0 3.67
Test::More 0.92 1.302096
warnings 0 1.37
YAML::XS 0 0.66
configure_requires:
Module Need Have
-------------------------------------------- -------- --------
ExtUtils::MakeMaker 0 7.30
opt_build_requires:
Module Need Have
-------------------------------------------- -------- --------
CPAN::Meta 2.120900 2.150010
------------------------------
ENVIRONMENT AND OTHER CONTEXT
------------------------------
Environment variables:
PATH = /usr/local/bin:/usr/bin:/bin:/usr/local/sbin:/usr/sbin:/sbin:/home/cpansand/bin/freebsd11.0:/home/cpansand/bin/sh:/home/cpansand/bin:/usr/games:/home/cpansand/devel:/home/eserte/src/srezic-misc/scripts
PERL5LIB =
PERL5OPT =
PERL5_CPANPLUS_IS_RUNNING = 46776
PERL5_CPAN_IS_RUNNING = 46776
PERL5_CPAN_IS_RUNNING_IN_RECURSION = 48145,46776
PERLDOC = -MPod::Perldoc::ToTextOverstrike
PERL_BATCH = yes
PERL_CANARY_STABILITY_NOPROMPT = 1
PERL_CPAN_REPORTER_CONFIG = /var/tmp/cpansmoker-1023/2017091203/cpanreporter_000_config.ini
PERL_EXTUTILS_AUTOINSTALL = --defaultdeps
PERL_USE_UNSAFE_INC = 1
SHELL = /usr/local/bin/zsh
TERM = screen
TMPDIR = /var/tmp/cpansmoker-1023/2017091203
Perl special variables (and OS-specific diagnostics, for MSWin32):
$^X = /usr/perl5.26.1-RC1p/bin/perl5.26.1
$UID/$EUID = 1023 / 1023
$GID = 1023 1023
$EGID = 1023 1023
Perl module toolchain versions installed:
Module Have
------------------- --------
CPAN 2.18
CPAN::Meta 2.150010
Cwd 3.67
ExtUtils::CBuilder 0.280226
ExtUtils::Command 7.30
ExtUtils::Install 2.06
ExtUtils::MakeMaker 7.30
ExtUtils::Manifest 1.70
ExtUtils::ParseXS 3.34
File::Spec 3.67
JSON 2.94
JSON::PP 2.94
Module::Build 0.4224
Module::Signature 0.81
Parse::CPAN::Meta 2.150010
Test::Harness 3.38
Test::More 1.302096
YAML 1.23
YAML::Syck 1.30
version 0.9917
--
Summary of my perl5 (revision 5 version 26 subversion 1) configuration:
Platform:
osname=freebsd
osvers=11.1-stable
archname=amd64-freebsd
uname='freebsd ali3.bbbike.org 11.1-stable freebsd 11.1-stable #0 r313908+86423c22e2d(stable11): thu sep 7 22:30:27 utc 2017 root@ali3.bbbike.org:usrobjhomeprojectsfreebsdsysgeneric amd64 '
config_args='-ds -e -Dprefix=/usr/perl5.26.1-RC1p -Dcf_email=srezic@cpan.org -Doptimize=-O2 -pipe'
hint=recommended
useposix=true
d_sigaction=define
useithreads=undef
usemultiplicity=undef
use64bitint=define
use64bitall=define
uselongdouble=undef
usemymalloc=n
default_inc_excludes_dot=define
bincompat5005=undef
Compiler:
cc='cc'
ccflags ='-DHAS_FPSETMASK -DHAS_FLOATINGPOINT_H -fno-strict-aliasing -pipe -fstack-protector-strong -I/usr/local/include -D_FORTIFY_SOURCE=2'
optimize='-O2 -pipe'
cppflags='-DHAS_FPSETMASK -DHAS_FLOATINGPOINT_H -fno-strict-aliasing -pipe -fstack-protector-strong -I/usr/local/include'
ccversion=''
gccversion='4.2.1 Compatible FreeBSD Clang 4.0.0 (tags/RELEASE_400/final 297347)'
gccosandvers=''
intsize=4
longsize=8
ptrsize=8
doublesize=8
byteorder=12345678
doublekind=3
d_longlong=define
longlongsize=8
d_longdbl=define
longdblsize=16
longdblkind=3
ivtype='long'
ivsize=8
nvtype='double'
nvsize=8
Off_t='off_t'
lseeksize=8
alignbytes=8
prototype=define
Linker and Libraries:
ld='cc'
ldflags ='-pthread -Wl,-E -fstack-protector-strong -L/usr/local/lib'
libpth=/usr/lib /usr/local/lib /usr/bin/../lib/clang/4.0.0/lib /usr/lib
libs=-lpthread -lgdbm -lm -lcrypt -lutil -lc
perllibs=-lpthread -lm -lcrypt -lutil -lc
libc=
so=so
useshrplib=false
libperl=libperl.a
gnulibc_version=''
Dynamic Linking:
dlsrc=dl_dlopen.xs
dlext=so
d_dlsymun=undef
ccdlflags=' '
cccdlflags='-DPIC -fPIC'
lddlflags='-shared -L/usr/local/lib -fstack-protector-strong'
Characteristics of this binary (from libperl):
Compile-time options:
HAS_TIMES
PERLIO_LAYERS
PERL_COPY_ON_WRITE
PERL_DONT_CREATE_GVSV
PERL_MALLOC_WRAP
PERL_OP_PARENT
PERL_PRESERVE_IVUV
USE_64_BIT_ALL
USE_64_BIT_INT
USE_LARGE_FILES
USE_LOCALE
USE_LOCALE_COLLATE
USE_LOCALE_CTYPE
USE_LOCALE_NUMERIC
USE_LOCALE_TIME
USE_PERLIO
USE_PERL_ATOF
Locally applied patches:
RC1
Built under freebsd
Compiled at Sep 10 2017 15:53:34
%ENV:
PERL5LIB=""
PERL5OPT=""
PERL5_CPANPLUS_IS_RUNNING="46776"
PERL5_CPAN_IS_RUNNING="46776"
PERL5_CPAN_IS_RUNNING_IN_RECURSION="48145,46776"
PERLDOC="-MPod::Perldoc::ToTextOverstrike"
PERL_BATCH="yes"
PERL_CANARY_STABILITY_NOPROMPT="1"
PERL_CPAN_REPORTER_CONFIG="/var/tmp/cpansmoker-1023/2017091203/cpanreporter_000_config.ini"
PERL_EXTUTILS_AUTOINSTALL="--defaultdeps"
PERL_USE_UNSAFE_INC="1"
@INC:
/usr/perl5.26.1-RC1p/lib/site_perl/5.26.1/amd64-freebsd
/usr/perl5.26.1-RC1p/lib/site_perl/5.26.1
/usr/perl5.26.1-RC1p/lib/5.26.1/amd64-freebsd
/usr/perl5.26.1-RC1p/lib/5.26.1
.