Report for HTML-Format-2.11

Back
From: metabase:user:314402c4-2aae-11df-837a-5e0a49663a4f
Subject: PASS HTML-Format-2.11 v5.19.9 FreeBSD
Date: 2014-02-21T11:30:42Z

This distribution has been tested as part of the CPAN Testers
project, supporting the Perl programming language.  See
http://wiki.cpantesters.org/ for more information or email
questions to cpan-testers-discuss@perl.org


--
Dear Nigel Metheringham,

This is a computer-generated report for HTML-Format-2.11
on perl 5.19.9, created by CPAN-Reporter-1.2010.

Thank you for uploading your work to CPAN.  Congratulations!
All tests were successful.

Sections of this report:

    * Tester comments
    * Program output
    * Prerequisites
    * Environment and other context

------------------------------
TESTER COMMENTS
------------------------------

Additional comments from tester:

none provided

------------------------------
PROGRAM OUTPUT
------------------------------

Output from './Build test':

t/00-compile.t ............... ok
# Testing with Perl 5.019009, /usr/perl5.19.9/bin/perl5.19.9
#     Carp version is 1.32
#     Data::Dumper version is 2.150
#     Encode version is 2.57
#     File::Slurp version is 9999.19
#     File::Spec version is 3.47
#     Font::Metrics::Courier version is undefined
#     Font::Metrics::CourierBold version is undefined
#     Font::Metrics::CourierBoldOblique version is undefined
#     Font::Metrics::CourierOblique version is undefined
#     Font::Metrics::Helvetica version is undefined
#     Font::Metrics::HelveticaBold version is undefined
#     Font::Metrics::HelveticaBoldOblique version is undefined
#     Font::Metrics::HelveticaOblique version is undefined
#     Font::Metrics::TimesBold version is undefined
#     Font::Metrics::TimesBoldItalic version is undefined
#     Font::Metrics::TimesItalic version is undefined
#     Font::Metrics::TimesRoman version is undefined
#     HTML::Element version is 5.03
#     HTML::TreeBuilder version is 5.03
#     IO::File version is 1.16
#     IO::Handle version is 1.35
#     IPC::Open3 version is 1.16
#     Module::Build version is 0.4205
#     Scalar::Util version is 1.38
#     Test::More version is 1.001002
#     base version is 2.21
#     bytes version is 1.04
#     integer version is 1.01
#     parent version is 0.228
#     strict version is 1.08
#     utf8 version is 1.13
#     warnings version is 1.22
t/000-report-versions.t ...... ok
t/01_ps.t .................... ok
t/02_rtf.t ................... ok
t/03_text.t .................. ok
t/04_md.t .................... ok
t/author-critic.t ............ skipped: these tests are for testing by the author
t/author-pod-spell.t ......... skipped: these tests are for testing by the author
t/release-dist-manifest.t .... skipped: these tests are for release candidate testing
t/release-distmeta.t ......... skipped: these tests are for release candidate testing
t/release-eol.t .............. skipped: these tests are for release candidate testing
t/release-has-version.t ...... skipped: these tests are for release candidate testing
t/release-minimum-version.t .. skipped: these tests are for release candidate testing
t/release-no-tabs.t .......... skipped: these tests are for release candidate testing
t/release-pod-syntax.t ....... skipped: these tests are for release candidate testing
t/release-portability.t ...... skipped: these tests are for release candidate testing
t/release-synopsis.t ......... skipped: these tests are for release candidate testing
t/release-unused-vars.t ...... skipped: these tests are for release candidate testing
t/rt69426.t .................. ok
All tests successful.
Files=19, Tests=103,  2 wallclock secs ( 0.09 usr  0.08 sys +  1.49 cusr  0.45 csys =  2.11 CPU)
Result: PASS

------------------------------
PREREQUISITES
------------------------------

Prerequisite modules loaded:

requires:

    Module                              Need   Have    
    ----------------------------------- ------ --------
    base                                0      2.21    
    Carp                                0      1.32    
    Data::Dumper                        0      2.150   
    Encode                              0      2.57    
    Font::Metrics::Courier              0      0       
    Font::Metrics::CourierBold          0      0       
    Font::Metrics::CourierBoldOblique   0      0       
    Font::Metrics::CourierOblique       0      0       
    Font::Metrics::Helvetica            0      0       
    Font::Metrics::HelveticaBold        0      0       
    Font::Metrics::HelveticaBoldOblique 0      0       
    Font::Metrics::HelveticaOblique     0      0       
    Font::Metrics::TimesBold            0      0       
    Font::Metrics::TimesBoldItalic      0      0       
    Font::Metrics::TimesItalic          0      0       
    Font::Metrics::TimesRoman           0      0       
    HTML::Element                       3.15   5.03    
    HTML::TreeBuilder                   0      5.03    
    integer                             0      1.01    
    IO::File                            0      1.16    
    parent                              0      0.228   
    perl                                5.008  5.019009
    strict                              0      1.08    
    utf8                                0      1.13    
    warnings                            0      1.22    

build_requires:

    Module                              Need   Have    
    ----------------------------------- ------ --------
    bytes                               0      1.04    
    File::Slurp                         0      9999.19 
    File::Spec                          0      3.47    
    IO::Handle                          0      1.35    
    IPC::Open3                          0      1.16    
    Module::Build                       0.3601 0.4205  
    Scalar::Util                        0      1.38    
    Test::More                          0.96   1.001002

configure_requires:

    Module                              Need   Have    
    ----------------------------------- ------ --------
    Module::Build                       0.3601 0.4205  


------------------------------
ENVIRONMENT AND OTHER CONTEXT
------------------------------

Environment variables:

    DBIC_NO_WARN_BAD_PERL = 1
    PATH = /usr/local/bin:/usr/bin:/bin:/usr/local/sbin:/usr/sbin:/sbin:/home/cpansand/bin/freebsd10.0:/home/cpansand/bin/sh:/home/cpansand/bin:/usr/games:/home/cpansand/devel:/home/eserte/src/srezic-misc/scripts
    PERL = /usr/perl5.19.9/bin/perl5.19.9
    PERL5LIB = 
    PERL5OPT = 
    PERL5_CPANPLUS_IS_RUNNING = 61370
    PERL5_CPAN_IS_RUNNING = 61370
    PERL5_CPAN_IS_RUNNING_IN_RECURSION = 61349,61370
    PERLDOC = -MPod::Perldoc::ToTextOverstrike
    PERL_BATCH = yes
    PERL_CPAN_REPORTER_CONFIG = /var/tmp/cpansmoker-1023/61oz2uBII0_config.ini
    PERL_EXTUTILS_AUTOINSTALL = --defaultdeps
    PERL_HTML_DISPLAY_CLASS = HTML::Display::Mozilla
    SHELL = /usr/local/bin/zsh
    TERM = screen
    TMPDIR = /var/tmp/cpansmoker-1023

Perl special variables (and OS-specific diagnostics, for MSWin32):

    $^X = /usr/perl5.19.9/bin/perl5.19.9
    $UID/$EUID = 1023 / 1023
    $GID = 1023 1023
    $EGID = 1023 1023

Perl module toolchain versions installed:

    Module              Have    
    ------------------- --------
    CPAN                2.03    
    CPAN::Meta          2.133380
    Cwd                 3.47    
    ExtUtils::CBuilder  0.280216
    ExtUtils::Command   1.18    
    ExtUtils::Install   1.62    
    ExtUtils::MakeMaker 6.88    
    ExtUtils::Manifest  1.63    
    ExtUtils::ParseXS   3.23    
    File::Spec          3.47    
    JSON                2.90    
    JSON::PP            2.27203 
    Module::Build       0.4205  
    Module::Signature   0.73    
    Parse::CPAN::Meta   1.4413  
    Test::Harness       3.30    
    Test::More          1.001002
    YAML                0.90    
    YAML::Syck          1.27    
    version             0.9908  


--

Summary of my perl5 (revision 5 version 19 subversion 9) configuration:
   
  Platform:
    osname=freebsd, osvers=10.0-release, archname=amd64-freebsd
    uname='freebsd cvrsnica-freebsd-10-64bit.herceg.de 10.0-release freebsd 10.0-release #0 r260789: thu jan 16 22:34:59 utc 2014 root@snap.freebsd.org:usrobjusrsrcsysgeneric amd64 '
    config_args='-ds -e -Dprefix=/usr/perl5.19.9 -Dusedevel'
    hint=recommended, useposix=true, d_sigaction=define
    useithreads=undef, usemultiplicity=undef
    use64bitint=define, use64bitall=define, uselongdouble=undef
    usemymalloc=n, bincompat5005=undef
  Compiler:
    cc='cc', ccflags ='-DHAS_FPSETMASK -DHAS_FLOATINGPOINT_H -fno-strict-aliasing -pipe -fstack-protector -I/usr/local/include',
    optimize='-O',
    cppflags='-DHAS_FPSETMASK -DHAS_FLOATINGPOINT_H -fno-strict-aliasing -pipe -fstack-protector -I/usr/local/include'
    ccversion='', gccversion='4.2.1 Compatible FreeBSD Clang 3.3 (tags/RELEASE_33/final 183502)', gccosandvers=''
    intsize=4, longsize=8, ptrsize=8, doublesize=8, byteorder=12345678
    d_longlong=define, longlongsize=8, d_longdbl=define, longdblsize=16
    ivtype='long', ivsize=8, nvtype='double', nvsize=8, Off_t='off_t', lseeksize=8
    alignbytes=8, prototype=define
  Linker and Libraries:
    ld='cc', ldflags ='-Wl,-E  -fstack-protector -L/usr/local/lib'
    libpth=/usr/lib /usr/local/lib /usr/include/clang/3.3 /usr/lib
    libs=-lgdbm -lm -lcrypt -lutil -lc
    perllibs=-lm -lcrypt -lutil -lc
    libc=, so=so, useshrplib=false, libperl=libperl.a
    gnulibc_version=''
  Dynamic Linking:
    dlsrc=dl_dlopen.xs, dlext=so, d_dlsymun=undef, ccdlflags=' '
    cccdlflags='-DPIC -fPIC', lddlflags='-shared  -L/usr/local/lib -fstack-protector'


Characteristics of this binary (from libperl): 
  Compile-time options: HAS_TIMES PERLIO_LAYERS PERL_DONT_CREATE_GVSV
                        PERL_HASH_FUNC_ONE_AT_A_TIME_HARD PERL_MALLOC_WRAP
                        PERL_NEW_COPY_ON_WRITE PERL_PRESERVE_IVUV
                        PERL_USE_DEVEL USE_64_BIT_ALL USE_64_BIT_INT
                        USE_LARGE_FILES USE_LOCALE USE_LOCALE_COLLATE
                        USE_LOCALE_CTYPE USE_LOCALE_NUMERIC USE_PERLIO
                        USE_PERL_ATOF
  Built under freebsd
  Compiled at Feb 20 2014 23:31:33
  %ENV:
    PERL="/usr/perl5.19.9/bin/perl5.19.9"
    PERL5LIB=""
    PERL5OPT=""
    PERL5_CPANPLUS_IS_RUNNING="61370"
    PERL5_CPAN_IS_RUNNING="61370"
    PERL5_CPAN_IS_RUNNING_IN_RECURSION="61349,61370"
    PERLDOC="-MPod::Perldoc::ToTextOverstrike"
    PERL_BATCH="yes"
    PERL_CPAN_REPORTER_CONFIG="/var/tmp/cpansmoker-1023/61oz2uBII0_config.ini"
    PERL_EXTUTILS_AUTOINSTALL="--defaultdeps"
    PERL_HTML_DISPLAY_CLASS="HTML::Display::Mozilla"
  @INC:
    /usr/perl5.19.9/lib/site_perl/5.19.9/amd64-freebsd
    /usr/perl5.19.9/lib/site_perl/5.19.9
    /usr/perl5.19.9/lib/5.19.9/amd64-freebsd
    /usr/perl5.19.9/lib/5.19.9
    .