Class-Date v1.1.17 Perl 5 v5.16.3 x86_64-linux-ld

Status
Pass
From
Andreas J. König (ANDK)
Dist
Class-Date v1.1.17
Platform
Perl 5 v5.16.3 x86_64-linux-ld
Date
2019-01-17 10:13:55
ID
98e69b2c-1a40-11e9-b78e-b39fbe00b72a
This distribution has been tested as part of the CPAN Testers
project, supporting the Perl programming language.  See
http://wiki.cpantesters.org/ for more information or email
questions to cpan-testers-discuss@perl.org


--
Dear Yanick Champoux,

This is a computer-generated report for Class-Date-1.1.17
on perl 5.16.3, created by CPAN-Reporter-1.2018.

Thank you for uploading your work to CPAN.  Congratulations!
All tests were successful.

Sections of this report:

    * Tester comments
    * Program output
    * Prerequisites
    * Environment and other context

------------------------------
TESTER COMMENTS
------------------------------

Additional comments from tester:

this report is from an automated smoke testing program
and was not reviewed by a human for accuracy

------------------------------
PROGRAM OUTPUT
------------------------------

Output from '/usr/bin/make test':

PERL_DL_NONLAZY=1 "/home/sand/src/perl/repoperls/installed-perls/host/k93msid/v5.16.3/fc43/bin/perl" "-MExtUtils::Command::MM" "-MTest::Harness" "-e" "undef *Test::Harness::Switches; test_harness(0, 'blib/lib', 'blib/arch')" t/*.t
t/00-compile.t .......... ok
# 
# Versions for all modules listed in MYMETA.json (including optional ones):
# 
# === Configure Requires ===
# 
#     Module              Want    Have
#     ------------------- ---- -------
#     ExtUtils::MakeMaker  any 7.35_07
# 
# === Build Requires ===
# 
#     Module              Want    Have
#     ------------------- ---- -------
#     ExtUtils::MakeMaker  any 7.35_07
# 
# === Test Requires ===
# 
#     Module              Want     Have
#     ------------------- ---- --------
#     ExtUtils::MakeMaker  any  7.35_07
#     File::Spec           any     3.75
#     IO::Handle           any     1.39
#     IPC::Open3           any     1.12
#     Test::More           any 1.302159
#     Test::Warnings       any    0.026
# 
# === Test Recommends ===
# 
#     Module         Want     Have
#     ---------- -------- --------
#     CPAN::Meta 2.120900 2.150010
# 
# === Runtime Requires ===
# 
#     Module       Want Have
#     ------------ ---- ----
#     Carp          any 1.50
#     Date::Parse   any 2.30
#     Exporter      any 5.73
#     POSIX         any 1.30
#     Scalar::Util  any 1.50
#     Time::Local   any 1.28
#     constant      any 1.33
#     overload      any 1.18
#     strict        any 1.07
#     vars          any 1.02
#     warnings      any 1.13
# 
t/00-report-prereqs.t ... ok
t/00_base.t ............. ok
t/05_parsing.t .......... ok
t/10_fields.t ........... ok
t/20_gmdate.t ........... ok
t/30_localdate.t ........ ok
t/40_errors.t ........... ok
t/50_timezone.t ......... ok
t/bug-reports.t ......... ok
t/class-date-invalid.t .. ok
All tests successful.
Files=11, Tests=198,  2 wallclock secs ( 0.04 usr  0.05 sys +  1.00 cusr  0.29 csys =  1.38 CPU)
Result: PASS

------------------------------
PREREQUISITES
------------------------------

Prerequisite modules loaded:

requires:

    Module              Need  Have    
    ------------------- ----- --------
    Carp                0     1.50    
    constant            0     1.33    
    Date::Parse         0     2.30    
    Exporter            0     5.73    
    overload            0     1.18    
    perl                5.006 5.016003
    POSIX               0     1.30    
    Scalar::Util        0     1.50    
    strict              0     1.07    
    Time::Local         0     1.28    
    vars                0     1.02    
    warnings            0     1.13    

build_requires:

    Module              Need  Have    
    ------------------- ----- --------
    ExtUtils::MakeMaker 0     7.35_07 
    File::Spec          0     3.75    
    IO::Handle          0     1.39    
    IPC::Open3          0     1.12    
    Test::More          0     1.302159
    Test::Warnings      0     0.026   

configure_requires:

    Module              Need  Have    
    ------------------- ----- --------
    ExtUtils::MakeMaker 0     7.35_07 


------------------------------
ENVIRONMENT AND OTHER CONTEXT
------------------------------

Environment variables:

    AUTOMATED_TESTING = 1
    LANG = en_US.UTF-8
    PATH = /home/sand/bin:/usr/local/bin:/usr/bin:/bin:/usr/games:/usr/local/perl/bin:/usr/X11/bin:/sbin:/usr/sbin
    PERL5LIB = /tmp/loop_over_bdir-21083-vIU5Yr/DBD-Mock-1.45-0/blib/arch:/tmp/loop_over_bdir-21083-vIU5Yr/DBD-Mock-1.45-0/blib/lib:/tmp/loop_over_bdir-21083-vIU5Yr/Class-Observable-1.04-0/blib/arch:/tmp/loop_over_bdir-21083-vIU5Yr/Class-Observable-1.04-0/blib/lib:/tmp/loop_over_bdir-21083-vIU5Yr/Class-Factory-1.06-0/blib/arch:/tmp/loop_over_bdir-21083-vIU5Yr/Class-Factory-1.06-0/blib/lib
    PERL5OPT = 
    PERL5_CPANPLUS_IS_RUNNING = 21087
    PERL5_CPAN_IS_RUNNING = 21087
    PERL5_CPAN_IS_RUNNING_IN_RECURSION = 3943,21087
    PERL_CANARY_STABILITY_NOPROMPT = 1
    PERL_MM_USE_DEFAULT = 1
    PERL_USE_UNSAFE_INC = 1
    SHELL = /usr/bin/zsh
    TERM = screen

Perl special variables (and OS-specific diagnostics, for MSWin32):

    $^X = /home/sand/src/perl/repoperls/installed-perls/host/k93msid/v5.16.3/fc43/bin/perl
    $UID/$EUID = 1005 / 1005
    $GID = 1005 1005
    $EGID = 1005 1005

Perl module toolchain versions installed:

    Module              Have    
    ------------------- --------
    CPAN                2.22    
    CPAN::Meta          2.150010
    Cwd                 3.75    
    ExtUtils::CBuilder  0.280230
    ExtUtils::Command   7.35_07 
    ExtUtils::Install   2.06    
    ExtUtils::MakeMaker 7.35_07 
    ExtUtils::Manifest  1.70    
    ExtUtils::ParseXS   3.35    
    File::Spec          3.75    
    JSON                2.97001 
    JSON::PP            3.99_01 
    Module::Build       0.4224  
    Module::Signature   0.83    
    Parse::CPAN::Meta   2.150010
    Test::Harness       3.42    
    Test::More          1.302159
    YAML                1.26    
    YAML::Syck          1.31    
    version             0.9924  


--

Summary of my perl5 (revision 5 version 16 subversion 3) configuration:
  Derived from: fd04d42d38f4751b981eb6e9213ee1ab8ef11ea6
  Platform:
    osname=linux, osvers=4.18.0-2-amd64, archname=x86_64-linux-ld
    uname='linux k93msid 4.18.0-2-amd64 #1 smp debian 4.18.10-2 (2018-10-07) x86_64 gnulinux '
    config_args='-Dprefix=/home/sand/src/perl/repoperls/installed-perls/host/k93msid/v5.16.3/fc43 -Dmyhostname=k93msid -Dinstallusrbinperl=n -Uversiononly -Dusedevel -des -Ui_db -Dlibswanted=cl pthread socket inet nsl gdbm dbm malloc dl ld sun m crypt sec util c cposix posix ucb BSD gdbm_compat -Uuseithreads -Duselongdouble -DEBUGGING=both'
    hint=recommended, useposix=true, d_sigaction=define
    useithreads=undef, usemultiplicity=undef
    useperlio=define, d_sfio=undef, uselargefiles=define, usesocks=undef
    use64bitint=define, use64bitall=define, uselongdouble=define
    usemymalloc=n, bincompat5005=undef
  Compiler:
    cc='cc', ccflags ='-DDEBUGGING -fno-strict-aliasing -pipe -fstack-protector -I/usr/local/include -D_LARGEFILE_SOURCE -D_FILE_OFFSET_BITS=64',
    optimize='-O2 -g',
    cppflags='-DDEBUGGING -fno-strict-aliasing -pipe -fstack-protector -I/usr/local/include'
    ccversion='', gccversion='8.2.0', gccosandvers=''
    intsize=4, longsize=8, ptrsize=8, doublesize=8, byteorder=12345678
    d_longlong=define, longlongsize=8, d_longdbl=define, longdblsize=16
    ivtype='long', ivsize=8, nvtype='long double', nvsize=16, Off_t='off_t', lseeksize=8
    alignbytes=16, prototype=define
  Linker and Libraries:
    ld='cc', ldflags =' -fstack-protector -L/usr/local/lib'
    libpth=/usr/local/lib /lib/x86_64-linux-gnu /lib/../lib /usr/lib/x86_64-linux-gnu /usr/lib/../lib /lib /usr/lib
    libs=-lpthread -lnsl -ldl -lm -lcrypt -lutil -lc
    perllibs=-lpthread -lnsl -ldl -lm -lcrypt -lutil -lc
    libc=libc-2.27.so, so=so, useshrplib=false, libperl=libperl.a
    gnulibc_version='2.27'
  Dynamic Linking:
    dlsrc=dl_dlopen.xs, dlext=so, d_dlsymun=undef, ccdlflags='-Wl,-E'
    cccdlflags='-fPIC', lddlflags='-shared -O2 -g -L/usr/local/lib -fstack-protector'


Characteristics of this binary (from libperl): 
  Compile-time options: DEBUGGING HAS_TIMES PERLIO_LAYERS
                        PERL_DONT_CREATE_GVSV PERL_MALLOC_WRAP
                        PERL_PRESERVE_IVUV PERL_USE_DEVEL USE_64_BIT_ALL
                        USE_64_BIT_INT USE_LARGE_FILES USE_LOCALE
                        USE_LOCALE_COLLATE USE_LOCALE_CTYPE
                        USE_LOCALE_NUMERIC USE_LONG_DOUBLE USE_PERLIO
                        USE_PERL_ATOF
  Locally applied patches:
	uncommitted-changes
  Built under linux
  Compiled at Oct 29 2018 00:08:14
  %ENV:
    PERL5LIB="/tmp/loop_over_bdir-21083-vIU5Yr/DBD-Mock-1.45-0/blib/arch:/tmp/loop_over_bdir-21083-vIU5Yr/DBD-Mock-1.45-0/blib/lib:/tmp/loop_over_bdir-21083-vIU5Yr/Class-Observable-1.04-0/blib/arch:/tmp/loop_over_bdir-21083-vIU5Yr/Class-Observable-1.04-0/blib/lib:/tmp/loop_over_bdir-21083-vIU5Yr/Class-Factory-1.06-0/blib/arch:/tmp/loop_over_bdir-21083-vIU5Yr/Class-Factory-1.06-0/blib/lib"
    PERL5OPT=""
    PERL5_CPANPLUS_IS_RUNNING="21087"
    PERL5_CPAN_IS_RUNNING="21087"
    PERL5_CPAN_IS_RUNNING_IN_RECURSION="3943,21087"
    PERL_CANARY_STABILITY_NOPROMPT="1"
    PERL_MM_USE_DEFAULT="1"
    PERL_USE_UNSAFE_INC="1"
  @INC:
    /tmp/loop_over_bdir-21083-vIU5Yr/DBD-Mock-1.45-0/blib/arch
    /tmp/loop_over_bdir-21083-vIU5Yr/DBD-Mock-1.45-0/blib/lib
    /tmp/loop_over_bdir-21083-vIU5Yr/Class-Observable-1.04-0/blib/arch
    /tmp/loop_over_bdir-21083-vIU5Yr/Class-Observable-1.04-0/blib/lib
    /tmp/loop_over_bdir-21083-vIU5Yr/Class-Factory-1.06-0/blib/arch
    /tmp/loop_over_bdir-21083-vIU5Yr/Class-Factory-1.06-0/blib/lib
    /home/sand/src/perl/repoperls/installed-perls/host/k93msid/v5.16.3/fc43/lib/site_perl/5.16.3/x86_64-linux-ld
    /home/sand/src/perl/repoperls/installed-perls/host/k93msid/v5.16.3/fc43/lib/site_perl/5.16.3
    /home/sand/src/perl/repoperls/installed-perls/host/k93msid/v5.16.3/fc43/lib/5.16.3/x86_64-linux-ld
    /home/sand/src/perl/repoperls/installed-perls/host/k93msid/v5.16.3/fc43/lib/5.16.3
    .