Back
From: metabase:user:fcf99560-6bf4-1014-86b3-1cf189224fdf
Subject: PASS Dist-Zilla-Plugin-MinimumPerl-1.003 v5.18.0 RC3 FreeBSD
Date: 2013-05-15T13:37:33Z
This distribution has been tested as part of the CPAN Testers
project, supporting the Perl programming language. See
http://wiki.cpantesters.org/ for more information or email
questions to cpan-testers-discuss@perl.org
--
Dear Apocalypse,
This is a computer-generated report for Dist-Zilla-Plugin-MinimumPerl-1.003
on perl 5.18.0, created by CPAN-Reporter-1.2010.
Thank you for uploading your work to CPAN. Congratulations!
All tests were successful.
Sections of this report:
* Tester comments
* Program output
* Prerequisites
* Environment and other context
------------------------------
TESTER COMMENTS
------------------------------
Additional comments from tester:
this report is from an automated smoke testing program
and was not reviewed by a human for accuracy
------------------------------
PROGRAM OUTPUT
------------------------------
Output from './Build test':
t/00-compile.t ................ ok
#
#
# Generated by Dist::Zilla::Plugin::ReportVersions::Tiny v1.03
# perl: v5.18.0 (wanted 5.006) on freebsd from /root/perl5/perlbrew/perls/perl-5.18.0-RC3/bin/perl
#
# Dist::Zilla::Role::FileFinderUser => 4.300034 (want 4.102345)
# Dist::Zilla::Role::PrereqSource => 4.300034 (want 4.102345)
# File::Find => 1.23 (want any version)
# File::Temp => 0.2301 (want any version)
# Module::Build => 0.4005 (want 0.3601)
# Moose => 2.0802 (want 1.03)
# Moose::Util::TypeConstraints => 2.0802 (want 1.01)
# MooseX::Types::Perl => 0.101341 (want 0.101340)
# Perl::MinimumVersion => 1.32 (want 1.26)
# Test::More => 0.98 (want 0.88)
#
# Thanks for using my code. I hope it works for you.
# If not, please try and include this output in the bug report.
# That will help me reproduce the issue and solve your problem.
#
t/000-report-versions-tiny.t .. ok
t/apocalypse.t ................ skipped: Test::Apocalypse required for validating the distribution
All tests successful.
Files=3, Tests=2, 1 wallclock secs ( 0.02 usr 0.02 sys + 1.29 cusr 0.16 csys = 1.48 CPU)
Result: PASS
------------------------------
PREREQUISITES
------------------------------
Prerequisite modules loaded:
requires:
Module Need Have
--------------------------------- -------- --------
Dist::Zilla::Role::FileFinderUser 4.102345 4.300034
Dist::Zilla::Role::PrereqSource 4.102345 4.300034
Moose 1.03 2.0802
Moose::Util::TypeConstraints 1.01 2.0802
MooseX::Types::Perl 0.101340 0.101341
perl 5.006 5.018000
Perl::MinimumVersion 1.26 1.32
build_requires:
Module Need Have
--------------------------------- -------- --------
File::Find 0 1.23
File::Temp 0 0.2301
Module::Build 0.3601 0.4005
Test::More 0.88 0.98
configure_requires:
Module Need Have
--------------------------------- -------- --------
Module::Build 0.3601 0.4005
------------------------------
ENVIRONMENT AND OTHER CONTEXT
------------------------------
Environment variables:
AUTOMATED_TESTING = 1
MANPATH_WITHOUT_PERLBREW = /usr/share/man:/usr/local/man:/usr/share/openssl/man:/usr/local/lib/perl5/5.14.2/man:/usr/local/lib/perl5/5.14.2/perl/man
PATH = /root/perl5/perlbrew/bin:/root/perl5/perlbrew/perls/perl-5.18.0-RC3/bin:/sbin:/bin:/usr/sbin:/usr/bin:/usr/games:/usr/local/sbin:/usr/local/bin:/root/bin
PATH_WITHOUT_PERLBREW = /sbin:/bin:/usr/sbin:/usr/bin:/usr/games:/usr/local/sbin:/usr/local/bin:/root/bin
PERL5LIB =
PERL5OPT =
PERL5_CPANPLUS_IS_RUNNING = 97183
PERL5_CPAN_IS_RUNNING = 97183
PERL5_CPAN_IS_RUNNING_IN_RECURSION = 773,97183
PERLBREW_CSHRC_VERSION = 0.63
PERLBREW_HOME = /root/.perlbrew
PERLBREW_MANPATH = /root/perl5/perlbrew/perls/perl-5.18.0-RC3/man
PERLBREW_PATH = /root/perl5/perlbrew/bin:/root/perl5/perlbrew/perls/perl-5.18.0-RC3/bin
PERLBREW_PERL = perl-5.18.0-RC3
PERLBREW_ROOT = /root/perl5/perlbrew
PERLBREW_VERSION = 0.63
PERL_CR_SMOKER_CURRENT = Dist-Zilla-PluginBundle-Author-ETHER-0.006
PERL_EXTUTILS_AUTOINSTALL = --defaultdeps
PERL_MM_USE_DEFAULT = 1
SHELL = /bin/csh
TERM = xterm
Perl special variables (and OS-specific diagnostics, for MSWin32):
$^X = /root/perl5/perlbrew/perls/perl-5.18.0-RC3/bin/perl
$UID/$EUID = 0 / 0
$GID = 0 0 5
$EGID = 0 0 5
Perl module toolchain versions installed:
Module Have
------------------- --------
CPAN 2.00
CPAN::Meta 2.120921
Cwd 3.40
ExtUtils::CBuilder 0.280210
ExtUtils::Command 1.17
ExtUtils::Install 1.59
ExtUtils::MakeMaker 6.66
ExtUtils::Manifest 1.63
ExtUtils::ParseXS 3.18
File::Spec 3.40
JSON 2.57
JSON::PP 2.27202
Module::Build 0.4005
Module::Signature n/a
Parse::CPAN::Meta 1.4404
Test::Harness 3.26
Test::More 0.98
YAML 0.84
YAML::Syck 1.25
version 0.9902
--
Summary of my perl5 (revision 5 version 18 subversion 0) configuration:
Platform:
osname=freebsd, osvers=9.1-release, archname=amd64-freebsd
uname='freebsd freebsd.huntingbears.local 9.1-release freebsd 9.1-release #0 r243825: tue dec 4 09:23:10 utc 2012 root@farrell.cse.buffalo.edu:usrobjusrsrcsysgeneric amd64 '
config_args='-de -Dprefix=/root/perl5/perlbrew/perls/perl-5.18.0-RC3 -Aeval:scriptdir=/root/perl5/perlbrew/perls/perl-5.18.0-RC3/bin'
hint=recommended, useposix=true, d_sigaction=define
useithreads=undef, usemultiplicity=undef
useperlio=define, d_sfio=undef, uselargefiles=define, usesocks=undef
use64bitint=define, use64bitall=define, uselongdouble=undef
usemymalloc=n, bincompat5005=undef
Compiler:
cc='cc', ccflags ='-DHAS_FPSETMASK -DHAS_FLOATINGPOINT_H -fno-strict-aliasing -pipe -fstack-protector -I/usr/local/include',
optimize='-O',
cppflags='-DHAS_FPSETMASK -DHAS_FLOATINGPOINT_H -fno-strict-aliasing -pipe -fstack-protector -I/usr/local/include'
ccversion='', gccversion='4.2.1 20070831 patched [FreeBSD]', gccosandvers=''
intsize=4, longsize=8, ptrsize=8, doublesize=8, byteorder=12345678
d_longlong=define, longlongsize=8, d_longdbl=define, longdblsize=16
ivtype='long', ivsize=8, nvtype='double', nvsize=8, Off_t='off_t', lseeksize=8
alignbytes=8, prototype=define
Linker and Libraries:
ld='cc', ldflags ='-Wl,-E -fstack-protector -L/usr/local/lib'
libpth=/usr/lib /usr/local/lib
libs=-lm -lcrypt -lutil -lc
perllibs=-lm -lcrypt -lutil -lc
libc=, so=so, useshrplib=false, libperl=libperl.a
gnulibc_version=''
Dynamic Linking:
dlsrc=dl_dlopen.xs, dlext=so, d_dlsymun=undef, ccdlflags=' '
cccdlflags='-DPIC -fPIC', lddlflags='-shared -L/usr/local/lib -fstack-protector'
Characteristics of this binary (from libperl):
Compile-time options: HAS_TIMES PERLIO_LAYERS PERL_DONT_CREATE_GVSV
PERL_HASH_FUNC_ONE_AT_A_TIME_HARD PERL_MALLOC_WRAP
PERL_PRESERVE_IVUV PERL_SAWAMPERSAND USE_64_BIT_ALL
USE_64_BIT_INT USE_LARGE_FILES USE_LOCALE
USE_LOCALE_COLLATE USE_LOCALE_CTYPE
USE_LOCALE_NUMERIC USE_PERLIO USE_PERL_ATOF
Locally applied patches:
RC3
Built under freebsd
Compiled at May 14 2013 16:50:31
%ENV:
PERL5LIB=""
PERL5OPT=""
PERL5_CPANPLUS_IS_RUNNING="97183"
PERL5_CPAN_IS_RUNNING="97183"
PERL5_CPAN_IS_RUNNING_IN_RECURSION="773,97183"
PERLBREW_CSHRC_VERSION="0.63"
PERLBREW_HOME="/root/.perlbrew"
PERLBREW_MANPATH="/root/perl5/perlbrew/perls/perl-5.18.0-RC3/man"
PERLBREW_PATH="/root/perl5/perlbrew/bin:/root/perl5/perlbrew/perls/perl-5.18.0-RC3/bin"
PERLBREW_PERL="perl-5.18.0-RC3"
PERLBREW_ROOT="/root/perl5/perlbrew"
PERLBREW_VERSION="0.63"
PERL_CR_SMOKER_CURRENT="Dist-Zilla-PluginBundle-Author-ETHER-0.006"
PERL_EXTUTILS_AUTOINSTALL="--defaultdeps"
PERL_MM_USE_DEFAULT="1"
@INC:
/root/perl5/perlbrew/perls/perl-5.18.0-RC3/lib/site_perl/5.18.0/amd64-freebsd
/root/perl5/perlbrew/perls/perl-5.18.0-RC3/lib/site_perl/5.18.0
/root/perl5/perlbrew/perls/perl-5.18.0-RC3/lib/5.18.0/amd64-freebsd
/root/perl5/perlbrew/perls/perl-5.18.0-RC3/lib/5.18.0
.