PadWalker v2.5 Perl 5 v5.32.0 x86_64-linux-thread-multi
- Status
- Pass
- From
- Nick Alcock
- Dist
-
PadWalker v2.5
- Platform
- Perl 5 v5.32.0 x86_64-linux-thread-multi
- Date
- 2020-10-04 14:26:31
- ID
- 98fd0c9a-064d-11eb-b949-ac98f815ff68
This distribution has been tested as part of the CPAN Testers
project, supporting the Perl programming language. See
http://wiki.cpantesters.org/ for more information or email
questions to cpan-testers-discuss@perl.org
--
Dear Robin Houston,
This is a computer-generated report for PadWalker-2.5
on perl 5.32.0, created by CPAN-Reporter-1.2018.
Thank you for uploading your work to CPAN. Congratulations!
All tests were successful.
Sections of this report:
* Tester comments
* Program output
* Prerequisites
* Environment and other context
------------------------------
TESTER COMMENTS
------------------------------
Additional comments from tester:
none provided
------------------------------
PROGRAM OUTPUT
------------------------------
Output from '/usr/bin/make test':
"/pkg/perl/5.32.0-8/usr/bin/perl" -MExtUtils::Command::MM -e 'cp_nonempty' -- PadWalker.bs blib/arch/auto/PadWalker/PadWalker.bs 644
PERL_DL_NONLAZY=1 "/pkg/perl/5.32.0-8/usr/bin/perl" "-MExtUtils::Command::MM" "-MTest::Harness" "-e" "undef *Test::Harness::Switches; test_harness(0, 'blib/lib', 'blib/arch')" t/*.t
"my" variable $blah masks earlier declaration in same scope at t/closure.t line 57.
t/closure.t ... ok
"my" variable $x masks earlier declaration in same scope at t/dm.t line 58.
"our" variable $x masks earlier declaration in same scope at t/dm.t line 63.
t/dm.t ........ ok
t/foo.t ....... ok
"my" variable $h masks earlier declaration in same scope at t/our.t line 12.
t/our.t ....... ok
t/recurse.t ... ok
t/sub.t ....... ok
t/test.t ...... ok
t/tt.t ........ ok
"my" variable $foo masks earlier declaration in same scope at t/var_name.t line 13.
t/var_name.t .. ok
All tests successful.
Files=9, Tests=82, 0 wallclock secs ( 0.03 usr 0.00 sys + 0.07 cusr 0.01 csys = 0.11 CPU)
Result: PASS
------------------------------
PREREQUISITES
------------------------------
Prerequisite modules loaded:
requires:
Module Need Have
------------------- -------- --------
perl 5.008001 5.032000
build_requires:
Module Need Have
------------------- -------- --------
ExtUtils::MakeMaker 0 7.48
configure_requires:
Module Need Have
------------------- -------- --------
ExtUtils::MakeMaker 0 7.48
------------------------------
ENVIRONMENT AND OTHER CONTEXT
------------------------------
Environment variables:
LANG = en_GB.UTF-8
LC_COLLATE = C
PATH = /root/bin:/root/bin:/usr/bin:/bin:/usr/sbin:/sbin:/usr/games
PERL5LIB =
PERL5OPT =
PERL5_CPANPLUS_IS_RUNNING = 118062
PERL5_CPAN_IS_RUNNING = 118062
PERL_USE_UNSAFE_INC = 1
SHELL = /bin/bash
TERM = xterm-256color
Perl special variables (and OS-specific diagnostics, for MSWin32):
$^X = /pkg/perl/5.32.0-8/usr/bin/perl
$UID/$EUID = 0 / 0
$GID = 0 0 1 2 3 4 6 10 11 16 25 72 73 80 81
$EGID = 0 0 1 2 3 4 6 10 11 16 25 72 73 80 81
Perl module toolchain versions installed:
Module Have
------------------- --------
CPAN 2.28
CPAN::Meta 2.150010
Cwd 3.78
ExtUtils::CBuilder 0.280234
ExtUtils::Command 7.48
ExtUtils::Install 2.18
ExtUtils::MakeMaker 7.48
ExtUtils::Manifest 1.72
ExtUtils::ParseXS 3.40
File::Spec 3.78
JSON 4.02
JSON::PP 4.05
Module::Build 0.4231
Module::Signature 0.87
Parse::CPAN::Meta 2.150010
Test::Harness 3.42
Test::More 1.302181
YAML 1.30
YAML::Syck 1.32
version 0.9927
--
Summary of my perl5 (revision 5 version 32 subversion 0) configuration:
Local Commit: 3289669def68664f07f3c58be84b6c49e07d2959
Ancestor: 0cf01644e9e0460386db76c3546d69b15e0806df
Platform:
osname=linux
osvers=5.8.9-00002-gcebdfbd212c0-dirty
archname=x86_64-linux-thread-multi
uname='linux loom 5.8.9-00002-gcebdfbd212c0-dirty #2 smp sat sep 12 14:39:53 bst 2020 x86_64 gnulinux '
config_args='-d -e -Duseithreads -D privlib=/usr/lib/perl5/5.32 -D sitelib=/usr/lib/perl5/site_perl/5.32 -D optimize=-gdwarf-4 -feliminate-unused-debug-types -fvar-tracking-assignments -O2 -pipe '
hint=recommended
useposix=true
d_sigaction=define
useithreads=define
usemultiplicity=define
use64bitint=define
use64bitall=define
uselongdouble=undef
usemymalloc=n
default_inc_excludes_dot=define
bincompat5005=undef
Compiler:
cc='gcc'
ccflags ='-D_REENTRANT -D_GNU_SOURCE -D_REENTRANT -D_GNU_SOURCE -g -fno-strict-aliasing -D_LARGEFILE_SOURCE -D_FILE_OFFSET_BITS=64 -pipe -fstack-protector-strong -fwrapv -feliminate-unused-debug-types -fvar-tracking-assignments -fstack-clash-protection -D_LARGEFILE_SOURCE -D_FILE_OFFSET_BITS=64 -D_FORTIFY_SOURCE=2'
optimize='-gdwarf-4 -feliminate-unused-debug-types -fvar-tracking-assignments -O2 -pipe '
cppflags='-D_REENTRANT -D_GNU_SOURCE -D_REENTRANT -D_GNU_SOURCE -g -fno-strict-aliasing -D_LARGEFILE_SOURCE -D_FILE_OFFSET_BITS=64 -pipe -fstack-protector-strong -fwrapv -feliminate-unused-debug-types -fvar-tracking-assignments -fstack-clash-protection'
ccversion=''
gccversion='10.2.1 20200915'
gccosandvers=''
intsize=4
longsize=8
ptrsize=8
doublesize=8
byteorder=12345678
doublekind=3
d_longlong=define
longlongsize=8
d_longdbl=define
longdblsize=16
longdblkind=3
ivtype='long'
ivsize=8
nvtype='double'
nvsize=8
Off_t='off_t'
lseeksize=8
alignbytes=8
prototype=define
Linker and Libraries:
ld='gcc'
ldflags ='-Wl,--enable-new-dtags -fstack-protector-strong -L/usr/local/lib'
libpth=/usr/lib /lib /pkg/gcc/10.2.0-251/usr/lib/gcc/x86_64-pc-linux-gnu/10.2.1/include-fixed /usr/local/lib /usr/lib /lib/64 /usr/lib/64 /lib64 /usr/lib64 /usr/local/lib64
libs=-lpthread -lgdbm -ldb -ldl -lm -lcrypt -lutil -lc -lgdbm_compat
perllibs=-lpthread -ldl -lm -lcrypt -lutil -lc
libc=libc-2.32.so
so=so
useshrplib=true
libperl=libperl.so
gnulibc_version='2.32'
Dynamic Linking:
dlsrc=dl_dlopen.xs
dlext=so
d_dlsymun=undef
ccdlflags='-Wl,-E -Wl,-rpath,/usr/lib/perl5/5.32/x86_64-linux-thread-multi/CORE'
cccdlflags='-fPIC'
lddlflags='-shared -gdwarf-4 -feliminate-unused-debug-types -fvar-tracking-assignments -O2 -pipe -L/usr/local/lib -fstack-protector-strong'
Characteristics of this binary (from libperl):
Compile-time options:
HAS_TIMES
MULTIPLICITY
PERLIO_LAYERS
PERL_COPY_ON_WRITE
PERL_DONT_CREATE_GVSV
PERL_IMPLICIT_CONTEXT
PERL_MALLOC_WRAP
PERL_OP_PARENT
PERL_PRESERVE_IVUV
USE_64_BIT_ALL
USE_64_BIT_INT
USE_ITHREADS
USE_LARGE_FILES
USE_LOCALE
USE_LOCALE_COLLATE
USE_LOCALE_CTYPE
USE_LOCALE_NUMERIC
USE_LOCALE_TIME
USE_PERLIO
USE_PERL_ATOF
USE_REENTRANT_API
USE_THREAD_SAFE_LOCALE
Locally applied patches:
27910c71d1fe536464a401b31a6feb39a57c8d55
21cae08b309c1083e60f4c1d0884a9fe19afc7f0
f3a6b66fd747441d9adb519e32710af46a5fdba7
f7dda30d8822ee0037050bc045ce0cee5b754485
7d2e6eed46ca63fe8ac61819d5b285a1be3019c0
e9f3201cbd0ac07e5848a0f7d49a6298795997c5
5230de6c3dbc3aad98ba2ab3ffadbd102925e34a
3289669def68664f07f3c58be84b6c49e07d2959
Built under linux
Compiled at Sep 19 2020 16:28:01
%ENV:
PERL5LIB=""
PERL5OPT=""
PERL5_CPANPLUS_IS_RUNNING="118062"
PERL5_CPAN_IS_RUNNING="118062"
PERL_USE_UNSAFE_INC="1"
@INC:
/usr/lib/perl5/site_perl/5.32/x86_64-linux-thread-multi
/usr/lib/perl5/site_perl/5.32
/usr/lib/perl5/5.32/x86_64-linux-thread-multi
/usr/lib/perl5/5.32
.