Chart vv2.403.9 Perl 5 v5.34.1 x86_64-linux

Status
Pass
From
Slaven Rezić
Dist
Chart vv2.403.9
Platform
Perl 5 v5.34.1 x86_64-linux
Date
2022-11-28 21:21:18
ID
99146130-6f62-11ed-b21f-9c516e8775ea
This distribution has been tested as part of the CPAN Testers
project, supporting the Perl programming language.  See
http://wiki.cpantesters.org/ for more information or email
questions to cpan-testers-discuss@perl.org


--
Dear Herbert Breunung,

This is a computer-generated report for Chart-v2.403.9
on perl 5.34.1, created by CPAN-Reporter-1.2018.

Thank you for uploading your work to CPAN.  Congratulations!
All tests were successful.

Sections of this report:

    * Tester comments
    * Program output
    * Prerequisites
    * Environment and other context

------------------------------
TESTER COMMENTS
------------------------------

Additional comments from tester:

none provided

------------------------------
PROGRAM OUTPUT
------------------------------

Output from '/usr/bin/make test':

PERL_DL_NONLAZY=1 "/bbbike/perl-5.34.1/bin/perl" "-MExtUtils::Command::MM" "-MTest::Harness" "-e" "undef *Test::Harness::Switches; test_harness(0, 'blib/lib', 'blib/arch')" t/*.t
t/bars.t ........... ok
t/bars_10.t ........ ok
t/bars_11.t ........ ok
t/bars_12.t ........ ok
t/bars_2.t ......... ok
t/bars_3.t ......... ok
t/bars_4.t ......... ok
t/bars_5.t ......... ok
t/bars_6.t ......... ok
t/bars_7.t ......... ok
t/bars_8.t ......... ok
t/bars_9.t ......... ok
t/composite.t ...... ok
t/composite_1.t .... ok
t/composite_2.t .... ok
t/composite_3.t .... ok
t/composite_4.t .... ok
t/composite_5.t .... ok
t/composite_6.t .... ok
t/composite_7.t .... ok
t/composite_8.t .... ok
t/composite_f.t .... ok
t/direction_1.t .... ok
t/direction_2.t .... ok
t/direction_3.t .... ok
t/direction_4.t .... ok
t/error_1.t ........ ok
t/error_2.t ........ ok
t/f_ticks.t ........ ok
t/f_ticks_1.t ...... ok
t/hbars_1.t ........ ok
t/hbars_2.t ........ ok
t/hbars_3.t ........ ok
t/hbars_4.t ........ ok
t/Humidity.t ....... ok
t/lines.t .......... ok
t/lines_1.t ........ ok
t/lines_2.t ........ ok
t/lines_3.t ........ ok
t/lines_4.t ........ ok
t/lines_5.t ........ ok
t/lines_6.t ........ ok
t/lines_7.t ........ ok
t/lines_8.t ........ ok
t/lines_9.t ........ ok
t/linespoints.t .... ok
t/linespoints_1.t .. ok
t/linespoints_2.t .. ok
t/linespoints_3.t .. ok
t/linespoints_4.t .. ok
t/linespoints_5.t .. ok
t/linespoints_6.t .. ok
t/linespoints_7.t .. ok
t/mapbars.t ........ ok
t/mapcomp.t ........ ok
t/Math_1_over_x.t .. ok
t/mountain.t ....... ok
t/mountain_2.t ..... ok
t/mountain_3.t ..... ok
t/mountain_4.t ..... ok
t/pareto_1.t ....... ok
t/pareto_2.t ....... ok
t/pareto_3.t ....... ok
t/pie_1.t .......... ok
t/pie_10.t ......... ok
t/pie_11.t ......... ok
t/pie_2.t .......... ok
t/pie_3.t .......... ok
t/pie_4.t .......... ok
t/pie_5.t .......... ok
t/pie_6.t .......... ok
t/pie_7.t .......... ok
t/pie_8.t .......... ok
t/pie_9.t .......... ok
t/points.t ......... ok
t/points_100.t ..... ok
t/points_2.t ....... ok
t/points_3.t ....... ok
t/points_4.t ....... ok
t/points_5.t ....... ok
t/scalarImage.t .... ok
t/split_1.t ........ ok
t/split_2.t ........ ok
t/stackedbars.t .... ok
t/stackedbars_2.t .. ok
t/stackedbars_3.t .. ok
t/stackedbars_4.t .. ok
All tests successful.
Files=87, Tests=89,  4 wallclock secs ( 0.18 usr  0.23 sys +  3.14 cusr  1.26 csys =  4.81 CPU)
Result: PASS

------------------------------
PREREQUISITES
------------------------------

Prerequisite modules loaded:

requires:

    Module                   Need     Have    
    ------------------------ -------- --------
    Carp                     1.35     1.52    
    GD                       2        2.76    
    Graphics::Toolkit::Color 1        1.04    
    perl                     5.012000 5.034001

build_requires:

    Module                   Need     Have    
    ------------------------ -------- --------
    ExtUtils::MakeMaker      0        7.62    
    File::Temp               0.19     0.2311  
    Test::More               1.3      1.302183
    Test::Warn               0.30     0.37    

configure_requires:

    Module                   Need     Have    
    ------------------------ -------- --------
    ExtUtils::MakeMaker      0        7.62    


------------------------------
ENVIRONMENT AND OTHER CONTEXT
------------------------------

Environment variables:

    LANG = C
    PATH = /usr/local/bin:/usr/bin:/bin:/usr/local/sbin:/usr/sbin:/sbin:/home/cpansand/bin/linux-gnu:/home/cpansand/bin/sh:/home/cpansand/bin:/usr/games:/home/cpansand/devel:/home/eserte/src/srezic-misc/scripts
    PERL5LIB = /home/cpansand/.cpan/build/2022112819/Graphics-Toolkit-Color-1.04-1/blib/arch:/home/cpansand/.cpan/build/2022112819/Graphics-Toolkit-Color-1.04-1/blib/lib:/home/cpansand/.cpan/build/2022112819/Test-Warn-0.37-1/blib/arch:/home/cpansand/.cpan/build/2022112819/Test-Warn-0.37-1/blib/lib:/home/cpansand/.cpan/build/2022112819/Sub-Uplevel-0.2800-2/blib/arch:/home/cpansand/.cpan/build/2022112819/Sub-Uplevel-0.2800-2/blib/lib:/home/cpansand/.cpan/build/2022112819/GD-2.76-1/blib/arch:/home/cpansand/.cpan/build/2022112819/GD-2.76-1/blib/lib:/home/cpansand/.cpan/build/2022112819/Test-Fork-0.02-1/blib/arch:/home/cpansand/.cpan/build/2022112819/Test-Fork-0.02-1/blib/lib:/home/cpansand/.cpan/build/2022112819/Module-Build-0.4231-4/blib/arch:/home/cpansand/.cpan/build/2022112819/Module-Build-0.4231-4/blib/lib:/home/cpansand/.cpan/build/2022112819/ExtUtils-PkgConfig-1.16-1/blib/arch:/home/cpansand/.cpan/build/2022112819/ExtUtils-PkgConfig-1.16-1/blib/lib
    PERL5OPT = 
    PERL5_CPANPLUS_IS_RUNNING = 787184
    PERL5_CPAN_IS_RUNNING = 787184
    PERL5_CPAN_IS_RUNNING_IN_RECURSION = 663255,787184
    PERLDOC = -MPod::Perldoc::ToTextOverstrike
    PERL_BATCH = yes
    PERL_CANARY_STABILITY_NOPROMPT = 1
    PERL_CPAN_REPORTER_CONFIG = /var/tmp/cpansmoker-1023/2022112818/cpanreporter_000_config.ini
    PERL_EXTUTILS_AUTOINSTALL = --defaultdeps
    PERL_USE_UNSAFE_INC = 1
    SHELL = /usr/bin/zsh
    TERM = screen
    TMPDIR = /var/tmp/cpansmoker-1023/2022112818

Perl special variables (and OS-specific diagnostics, for MSWin32):

    $^X = /bbbike/perl-5.34.1/bin/perl
    $UID/$EUID = 1023 / 1023
    $GID = 1023 1023
    $EGID = 1023 1023

Perl module toolchain versions installed:

    Module              Have    
    ------------------- --------
    CPAN                2.28    
    CPAN::Meta          2.150010
    Cwd                 3.80    
    ExtUtils::CBuilder  0.280236
    ExtUtils::Command   7.62    
    ExtUtils::Install   2.20    
    ExtUtils::MakeMaker 7.62    
    ExtUtils::Manifest  1.73    
    ExtUtils::ParseXS   3.43    
    File::Spec          3.80    
    JSON                n/a     
    JSON::PP            4.06    
    Module::Build       0.4231  
    Module::Signature   n/a     
    Parse::CPAN::Meta   2.150010
    Test::Harness       3.43    
    Test::More          1.302183
    YAML                1.30    
    YAML::Syck          1.34    
    version             0.9928  


--

Summary of my perl5 (revision 5 version 34 subversion 1) configuration:
   
  Platform:
    osname=linux
    osvers=5.10.0-13-amd64
    archname=x86_64-linux
    uname='linux eserte 5.10.0-13-amd64 #1 smp debian 5.10.106-1 (2022-03-17) x86_64 gnulinux '
    config_args='-ds -e -Dprefix=/opt/perl-5.34.1 -Dcf_email=srezic@cpan.org'
    hint=recommended
    useposix=true
    d_sigaction=define
    useithreads=undef
    usemultiplicity=undef
    use64bitint=define
    use64bitall=define
    uselongdouble=undef
    usemymalloc=n
    default_inc_excludes_dot=define
  Compiler:
    cc='cc'
    ccflags ='-fwrapv -fno-strict-aliasing -pipe -fstack-protector-strong -I/usr/local/include -D_LARGEFILE_SOURCE -D_FILE_OFFSET_BITS=64 -D_FORTIFY_SOURCE=2'
    optimize='-O2'
    cppflags='-fwrapv -fno-strict-aliasing -pipe -fstack-protector-strong -I/usr/local/include'
    ccversion=''
    gccversion='10.2.1 20210110'
    gccosandvers=''
    intsize=4
    longsize=8
    ptrsize=8
    doublesize=8
    byteorder=12345678
    doublekind=3
    d_longlong=define
    longlongsize=8
    d_longdbl=define
    longdblsize=16
    longdblkind=3
    ivtype='long'
    ivsize=8
    nvtype='double'
    nvsize=8
    Off_t='off_t'
    lseeksize=8
    alignbytes=8
    prototype=define
  Linker and Libraries:
    ld='cc'
    ldflags =' -fstack-protector-strong -L/usr/local/lib'
    libpth=/usr/local/lib /usr/lib/x86_64-linux-gnu /usr/lib /lib/x86_64-linux-gnu /lib
    libs=-lpthread -lnsl -lgdbm -ldb -ldl -lm -lcrypt -lutil -lc
    perllibs=-lpthread -lnsl -ldl -lm -lcrypt -lutil -lc
    libc=libc-2.31.so
    so=so
    useshrplib=false
    libperl=libperl.a
    gnulibc_version='2.31'
  Dynamic Linking:
    dlsrc=dl_dlopen.xs
    dlext=so
    d_dlsymun=undef
    ccdlflags='-Wl,-E'
    cccdlflags='-fPIC'
    lddlflags='-shared -O2 -L/usr/local/lib -fstack-protector-strong'


Characteristics of this binary (from libperl): 
  Compile-time options:
    HAS_TIMES
    PERLIO_LAYERS
    PERL_COPY_ON_WRITE
    PERL_DONT_CREATE_GVSV
    PERL_MALLOC_WRAP
    PERL_OP_PARENT
    PERL_PRESERVE_IVUV
    USE_64_BIT_ALL
    USE_64_BIT_INT
    USE_LARGE_FILES
    USE_LOCALE
    USE_LOCALE_COLLATE
    USE_LOCALE_CTYPE
    USE_LOCALE_NUMERIC
    USE_LOCALE_TIME
    USE_PERLIO
    USE_PERL_ATOF
  Built under linux
  Compiled at May 18 2022 05:10:07
  %ENV:
    PERL5LIB="/home/cpansand/.cpan/build/2022112819/Graphics-Toolkit-Color-1.04-1/blib/arch:/home/cpansand/.cpan/build/2022112819/Graphics-Toolkit-Color-1.04-1/blib/lib:/home/cpansand/.cpan/build/2022112819/Test-Warn-0.37-1/blib/arch:/home/cpansand/.cpan/build/2022112819/Test-Warn-0.37-1/blib/lib:/home/cpansand/.cpan/build/2022112819/Sub-Uplevel-0.2800-2/blib/arch:/home/cpansand/.cpan/build/2022112819/Sub-Uplevel-0.2800-2/blib/lib:/home/cpansand/.cpan/build/2022112819/GD-2.76-1/blib/arch:/home/cpansand/.cpan/build/2022112819/GD-2.76-1/blib/lib:/home/cpansand/.cpan/build/2022112819/Test-Fork-0.02-1/blib/arch:/home/cpansand/.cpan/build/2022112819/Test-Fork-0.02-1/blib/lib:/home/cpansand/.cpan/build/2022112819/Module-Build-0.4231-4/blib/arch:/home/cpansand/.cpan/build/2022112819/Module-Build-0.4231-4/blib/lib:/home/cpansand/.cpan/build/2022112819/ExtUtils-PkgConfig-1.16-1/blib/arch:/home/cpansand/.cpan/build/2022112819/ExtUtils-PkgConfig-1.16-1/blib/lib"
    PERL5OPT=""
    PERL5_CPANPLUS_IS_RUNNING="787184"
    PERL5_CPAN_IS_RUNNING="787184"
    PERL5_CPAN_IS_RUNNING_IN_RECURSION="663255,787184"
    PERLDOC="-MPod::Perldoc::ToTextOverstrike"
    PERL_BATCH="yes"
    PERL_CANARY_STABILITY_NOPROMPT="1"
    PERL_CPAN_REPORTER_CONFIG="/var/tmp/cpansmoker-1023/2022112818/cpanreporter_000_config.ini"
    PERL_EXTUTILS_AUTOINSTALL="--defaultdeps"
    PERL_USE_UNSAFE_INC="1"
  @INC:
    /home/cpansand/.cpan/build/2022112819/Graphics-Toolkit-Color-1.04-1/blib/arch
    /home/cpansand/.cpan/build/2022112819/Graphics-Toolkit-Color-1.04-1/blib/lib
    /home/cpansand/.cpan/build/2022112819/Test-Warn-0.37-1/blib/arch
    /home/cpansand/.cpan/build/2022112819/Test-Warn-0.37-1/blib/lib
    /home/cpansand/.cpan/build/2022112819/Sub-Uplevel-0.2800-2/blib/arch
    /home/cpansand/.cpan/build/2022112819/Sub-Uplevel-0.2800-2/blib/lib
    /home/cpansand/.cpan/build/2022112819/GD-2.76-1/blib/arch
    /home/cpansand/.cpan/build/2022112819/GD-2.76-1/blib/lib
    /home/cpansand/.cpan/build/2022112819/Test-Fork-0.02-1/blib/arch
    /home/cpansand/.cpan/build/2022112819/Test-Fork-0.02-1/blib/lib
    /home/cpansand/.cpan/build/2022112819/Module-Build-0.4231-4/blib/arch
    /home/cpansand/.cpan/build/2022112819/Module-Build-0.4231-4/blib/lib
    /home/cpansand/.cpan/build/2022112819/ExtUtils-PkgConfig-1.16-1/blib/arch
    /home/cpansand/.cpan/build/2022112819/ExtUtils-PkgConfig-1.16-1/blib/lib
    /opt/perl-5.34.1/lib/site_perl/5.34.1/x86_64-linux
    /opt/perl-5.34.1/lib/site_perl/5.34.1
    /opt/perl-5.34.1/lib/5.34.1/x86_64-linux
    /opt/perl-5.34.1/lib/5.34.1
    .