Report for Text-VimColor-0.21

Back
From: metabase:user:30f0bd62-2aae-11df-837a-5e0a49663a4f
Subject: PASS Text-VimColor-0.21 v5.14.3 RC1 OpenBSD
Date: 2012-10-11T07:45:17Z

This distribution has been tested as part of the CPAN Testers
project, supporting the Perl programming language.  See
http://wiki.cpantesters.org/ for more information or email
questions to cpan-testers-discuss@perl.org


--
Dear Randy Stauner,

This is a computer-generated report for Text-VimColor-0.21
on perl 5.14.3, created by CPAN-Reporter-1.2006.

Thank you for uploading your work to CPAN.  Congratulations!
All tests were successful.

Sections of this report:

    * Tester comments
    * Program output
    * Prerequisites
    * Environment and other context

------------------------------
TESTER COMMENTS
------------------------------

Additional comments from tester:

this report is from an automated smoke testing program
and was not reviewed by a human for accuracy

------------------------------
PROGRAM OUTPUT
------------------------------

Output from '/usr/bin/make test':

Skip blib/lib/auto/share/dist/Text-VimColor/light.css (unchanged)
Skip blib/lib/auto/share/dist/Text-VimColor/mark.vim (unchanged)
Skip blib/lib/auto/share/dist/Text-VimColor/light.xsl (unchanged)
PERL_DL_NONLAZY=1 /home/sts/cpansmoke/perl-5.14.3-RC1/bin/perl "-MExtUtils::Command::MM" "-e" "test_harness(0, 'blib/lib', 'blib/arch')" t/*.t
t/00-compile.t ......... ok
# Prerequisite Report:
#   Version Module                 
#   ------- -----------------------
#      1.20 Carp                   
#   5.64_03 Exporter               
#      6.62 ExtUtils::MakeMaker    
#      2.21 File::Copy             
#      1.19 File::Find             
#      1.03 File::ShareDir         
#      0.04 File::ShareDir::Install
#      3.33 File::Spec::Functions  
#      0.22 File::Temp             
#      2.38 Getopt::Long           
#      1.15 IO::File               
#    1.0901 IPC::Open3             
#      1.23 List::Util             
#      0.26 Path::Class            
#      1.07 Symbol                 
#      3.00 Term::ANSIColor        
#      0.98 Test::More             
#      1.04 strict                 
#      1.12 warnings               
t/00-report-prereqs.t .. ok
# vim --version
# 
# VIM - Vi IMproved 7.3 (2010 Aug 15, compiled Feb  7 2012 17:44:36)
# Included patches: 1-8, 11-20, 22-26, 28-34, 38-50, 52-62, 65-78, 80-84, 86, 88-94, 96-107, 109-112, 114-118, 120-124, 126-130, 132-135, 137-145, 147-154
# Compiled by naddy@i386.ports.openbsd.org
# Normal version without GUI.  Features included (+) or not (-):
# -arabic +autocmd -balloon_eval -browse +builtin_terms +byte_offset +cindent 
# -clientserver -clipboard +cmdline_compl +cmdline_hist +cmdline_info +comments 
# -conceal +cryptv +cscope +cursorbind +cursorshape +dialog_con +diff +digraphs 
# -dnd -ebcdic -emacs_tags +eval +ex_extra +extra_search -farsi +file_in_path 
# +find_in_path +float +folding -footer +fork() +gettext -hangul_input +iconv 
# +insert_expand +jumplist -keymap -langmap +libcall +linebreak +lispindent 
# +listcmds +localmap -lua +menu +mksession +modify_fname +mouse -mouseshape 
# -mouse_dec -mouse_gpm -mouse_jsbterm -mouse_netterm -mouse_sysmouse 
# +mouse_xterm +multi_byte +multi_lang -mzscheme +netbeans_intg -osfiletype 
# +path_extra -perl +persistent_undo +postscript +printer -profile -python 
# -python3 +quickfix +reltime -rightleft -ruby +scrollbind +signs +smartindent 
# -sniff +startuptime +statusline -sun_workshop +syntax +tag_binary 
# +tag_old_static -tag_any_white -tcl +terminfo +termresponse +textobjects +title
#  -toolbar +user_commands +vertsplit +virtualedit +visual +visualextra +viminfo 
# +vreplace +wildignore +wildmenu +windows +writebackup -X11 -xfontset -xim -xsmp
#  -xterm_clipboard -xterm_save 
#    system vimrc file: "$VIM/vimrc"
#      user vimrc file: "$HOME/.vimrc"
#       user exrc file: "$HOME/.exrc"
#   fall-back for $VIM: "/usr/local/share/vim"
# Compilation: cc -c -I. -Iproto -DHAVE_CONFIG_H   -I/usr/local/include  -O2 -pipe -D_FORTIFY_SOURCE=1      
# Linking: cc   -L/usr/local/lib -Wl,--as-needed -o vim             -lm  -lcurses -liconv -lintl -liconv                     
# 
t/000-vim-version.t .... ok
t/ansi.t ............... ok
t/compare-formats.t .... ok
Wide character in print at /home/sts/cpansmoke/perl-5.14.3-RC1/lib/5.14.3/Test/Builder.pm line 1759.
t/encoding.t ........... ok
t/html.t ............... ok
t/input_filename.t ..... ok
t/new.t ................ ok
t/override-options.t ... ok
t/share-dir.t .......... ok
t/tvctestsyn.t ......... ok
t/untie-std-handles.t .. ok
t/vim_let.t ............ ok
t/vim_options.t ........ ok
t/xml.t ................ skipped: XML::Parser module required for these tests.
All tests successful.

Test Summary Report
-------------------
t/encoding.t         (Wstat: 0 Tests: 6 Failed: 0)
  TODO passed:   1-3, 5
Files=16, Tests=121,  3 wallclock secs ( 0.09 usr  0.03 sys +  2.45 cusr  0.66 csys =  3.23 CPU)
Result: PASS

------------------------------
PREREQUISITES
------------------------------

Prerequisite modules loaded:

requires:

    Module                  Need Have   
    ----------------------- ---- -------
    Carp                    0    1.20   
    File::Copy              0    2.21   
    File::ShareDir          0    1.03   
    File::Temp              0    0.22   
    Getopt::Long            0    2.38   
    IO::File                0    1.15   
    IPC::Open3              0    1.0901 
    Path::Class             0    0.26   
    strict                  0    1.04   
    Symbol                  0    1.07   
    Term::ANSIColor         1.03 3.00   
    warnings                0    1.12   

build_requires:

    Module                  Need Have   
    ----------------------- ---- -------
    Exporter                0    5.64_03
    ExtUtils::MakeMaker     0    6.62   
    File::Find              0    1.19   
    File::Spec::Functions   0    3.33   
    List::Util              0    1.23   
    Path::Class             0.04 0.26   
    Test::More              0.88 0.98   

configure_requires:

    Module                  Need Have   
    ----------------------- ---- -------
    ExtUtils::MakeMaker     6.30 6.62   
    File::ShareDir::Install 0.03 0.04   
    File::Temp              0    0.22   
    IO::File                0    1.15   
    IPC::Open3              0    1.0901 
    strict                  0    1.04   
    warnings                0    1.12   


------------------------------
ENVIRONMENT AND OTHER CONTEXT
------------------------------

Environment variables:

    AUTOMATED_TESTING = 1
    PATH = /home/sts/bin:/bin:/sbin:/usr/bin:/usr/sbin:/usr/X11R6/bin:/usr/local/bin:/usr/local/sbin:/usr/games:.
    PERL5LIB = /home/sts/cpansmoke/perl-5.14.3-RC1/cpan/build/Path-Class-0.26-xHVfIz/blib/arch:/home/sts/cpansmoke/perl-5.14.3-RC1/cpan/build/Path-Class-0.26-xHVfIz/blib/lib:/home/sts/cpansmoke/perl-5.14.3-RC1/cpan/build/File-ShareDir-1.03-6jxeIo/blib/arch:/home/sts/cpansmoke/perl-5.14.3-RC1/cpan/build/File-ShareDir-1.03-6jxeIo/blib/lib:/home/sts/cpansmoke/perl-5.14.3-RC1/cpan/build/Class-Inspector-1.27-JOCYN8/blib/arch:/home/sts/cpansmoke/perl-5.14.3-RC1/cpan/build/Class-Inspector-1.27-JOCYN8/blib/lib:/home/sts/cpansmoke/perl-5.14.3-RC1/cpan/build/ExtUtils-MakeMaker-6.62-mC8M1k/blib/arch:/home/sts/cpansmoke/perl-5.14.3-RC1/cpan/build/ExtUtils-MakeMaker-6.62-mC8M1k/blib/lib:/home/sts/cpansmoke/perl-5.14.3-RC1/cpan/build/File-ShareDir-Install-0.04-Q2WGiu/blib/arch:/home/sts/cpansmoke/perl-5.14.3-RC1/cpan/build/File-ShareDir-Install-0.04-Q2WGiu/blib/lib
    PERL5OPT = 
    PERL5_CPANPLUS_IS_RUNNING = 734
    PERL5_CPAN_IS_RUNNING = 734
    PERL5_CPAN_IS_RUNNING_IN_RECURSION = 22510,734
    PERL_CR_SMOKER_CURRENT = Text-VimColor-0.21
    PERL_EXTUTILS_AUTOINSTALL = --defaultdeps
    PERL_MM_USE_DEFAULT = 1
    SHELL = /usr/local/bin/bash
    TERM = screen
    TMPDIR = /home/sts/cpansmoke/tmp

Perl special variables (and OS-specific diagnostics, for MSWin32):

    $^X = /home/sts/cpansmoke/perl-5.14.3-RC1/bin/perl
    $UID/$EUID = 1000 / 1000
    $GID = 10 10 0
    $EGID = 10 10 0

Perl module toolchain versions installed:

    Module              Have    
    ------------------- --------
    CPAN                1.9800  
    CPAN::Meta          2.112150
    Cwd                 3.36    
    ExtUtils::CBuilder  0.280203
    ExtUtils::Command   1.17    
    ExtUtils::Install   1.56    
    ExtUtils::MakeMaker 6.62    
    ExtUtils::Manifest  1.58    
    ExtUtils::ParseXS   2.2210  
    File::Spec          3.33    
    JSON                2.53    
    JSON::PP            2.27105 
    Module::Build       0.3800  
    Module::Signature   n/a     
    Parse::CPAN::Meta   1.4401  
    Test::Harness       3.23    
    Test::More          0.98    
    YAML                n/a     
    YAML::Syck          n/a     
    version             0.88    


--

Summary of my perl5 (revision 5 version 14 subversion 3) configuration:
   
  Platform:
    osname=openbsd, osvers=5.1, archname=OpenBSD.i386-openbsd-thread-multi
    uname='openbsd cpansmoke3 5.1 generic.mp#188 i386 '
    config_args='-des -Dusethreads -Dprefix=/home/sts/cpansmoke/perl-5.14.3-RC1'
    hint=recommended, useposix=true, d_sigaction=define
    useithreads=define, usemultiplicity=define
    useperlio=define, d_sfio=undef, uselargefiles=define, usesocks=undef
    use64bitint=undef, use64bitall=undef, uselongdouble=undef
    usemymalloc=y, bincompat5005=undef
  Compiler:
    cc='cc', ccflags ='-pthread -fno-strict-aliasing -pipe -fstack-protector -I/usr/local/include',
    optimize='-O2',
    cppflags='-pthread -fno-strict-aliasing -pipe -fstack-protector -I/usr/local/include'
    ccversion='', gccversion='4.2.1 20070719 ', gccosandvers='openbsd5.1'
    intsize=4, longsize=4, ptrsize=4, doublesize=8, byteorder=1234
    d_longlong=define, longlongsize=8, d_longdbl=define, longdblsize=12
    ivtype='long', ivsize=4, nvtype='double', nvsize=8, Off_t='off_t', lseeksize=8
    alignbytes=4, prototype=define
  Linker and Libraries:
    ld='cc', ldflags ='-pthread -Wl,-E  -fstack-protector -L/usr/local/lib'
    libpth=/usr/local/lib /usr/lib
    libs=-lgdbm -lm -lutil -lc
    perllibs=-lm -lutil -lc
    libc=/usr/lib/libc.so.62.0, so=so, useshrplib=false, libperl=libperl.a
    gnulibc_version=''
  Dynamic Linking:
    dlsrc=dl_dlopen.xs, dlext=so, d_dlsymun=undef, ccdlflags=' '
    cccdlflags='-DPIC -fPIC ', lddlflags='-shared -fPIC  -L/usr/local/lib -fstack-protector'


Characteristics of this binary (from libperl): 
  Compile-time options: MULTIPLICITY MYMALLOC PERL_DONT_CREATE_GVSV
                        PERL_IMPLICIT_CONTEXT PERL_MALLOC_WRAP
                        PERL_PRESERVE_IVUV USE_ITHREADS USE_LARGE_FILES
                        USE_PERLIO USE_PERL_ATOF USE_REENTRANT_API
  Locally applied patches:
	RC1
  Built under openbsd
  Compiled at Oct  9 2012 14:34:59
  %ENV:
    PERL5LIB="/home/sts/cpansmoke/perl-5.14.3-RC1/cpan/build/Path-Class-0.26-xHVfIz/blib/arch:/home/sts/cpansmoke/perl-5.14.3-RC1/cpan/build/Path-Class-0.26-xHVfIz/blib/lib:/home/sts/cpansmoke/perl-5.14.3-RC1/cpan/build/File-ShareDir-1.03-6jxeIo/blib/arch:/home/sts/cpansmoke/perl-5.14.3-RC1/cpan/build/File-ShareDir-1.03-6jxeIo/blib/lib:/home/sts/cpansmoke/perl-5.14.3-RC1/cpan/build/Class-Inspector-1.27-JOCYN8/blib/arch:/home/sts/cpansmoke/perl-5.14.3-RC1/cpan/build/Class-Inspector-1.27-JOCYN8/blib/lib:/home/sts/cpansmoke/perl-5.14.3-RC1/cpan/build/ExtUtils-MakeMaker-6.62-mC8M1k/blib/arch:/home/sts/cpansmoke/perl-5.14.3-RC1/cpan/build/ExtUtils-MakeMaker-6.62-mC8M1k/blib/lib:/home/sts/cpansmoke/perl-5.14.3-RC1/cpan/build/File-ShareDir-Install-0.04-Q2WGiu/blib/arch:/home/sts/cpansmoke/perl-5.14.3-RC1/cpan/build/File-ShareDir-Install-0.04-Q2WGiu/blib/lib"
    PERL5OPT=""
    PERL5_CPANPLUS_IS_RUNNING="734"
    PERL5_CPAN_IS_RUNNING="734"
    PERL5_CPAN_IS_RUNNING_IN_RECURSION="22510,734"
    PERL_CR_SMOKER_CURRENT="Text-VimColor-0.21"
    PERL_EXTUTILS_AUTOINSTALL="--defaultdeps"
    PERL_MM_USE_DEFAULT="1"
  @INC:
    /home/sts/cpansmoke/perl-5.14.3-RC1/cpan/build/Path-Class-0.26-xHVfIz/blib/arch
    /home/sts/cpansmoke/perl-5.14.3-RC1/cpan/build/Path-Class-0.26-xHVfIz/blib/lib
    /home/sts/cpansmoke/perl-5.14.3-RC1/cpan/build/File-ShareDir-1.03-6jxeIo/blib/arch
    /home/sts/cpansmoke/perl-5.14.3-RC1/cpan/build/File-ShareDir-1.03-6jxeIo/blib/lib
    /home/sts/cpansmoke/perl-5.14.3-RC1/cpan/build/Class-Inspector-1.27-JOCYN8/blib/arch
    /home/sts/cpansmoke/perl-5.14.3-RC1/cpan/build/Class-Inspector-1.27-JOCYN8/blib/lib
    /home/sts/cpansmoke/perl-5.14.3-RC1/cpan/build/ExtUtils-MakeMaker-6.62-mC8M1k/blib/arch
    /home/sts/cpansmoke/perl-5.14.3-RC1/cpan/build/ExtUtils-MakeMaker-6.62-mC8M1k/blib/lib
    /home/sts/cpansmoke/perl-5.14.3-RC1/cpan/build/File-ShareDir-Install-0.04-Q2WGiu/blib/arch
    /home/sts/cpansmoke/perl-5.14.3-RC1/cpan/build/File-ShareDir-Install-0.04-Q2WGiu/blib/lib
    /home/sts/cpansmoke/perl-5.14.3-RC1/lib/site_perl/5.14.3/OpenBSD.i386-openbsd-thread-multi
    /home/sts/cpansmoke/perl-5.14.3-RC1/lib/site_perl/5.14.3
    /home/sts/cpansmoke/perl-5.14.3-RC1/lib/5.14.3/OpenBSD.i386-openbsd-thread-multi
    /home/sts/cpansmoke/perl-5.14.3-RC1/lib/5.14.3
    .