ack vv3.7.0 Perl 5 v5.41.5 x86_64-linux

Status
Pass
From
Carlos Guevara
Dist
ack vv3.7.0
Platform
Perl 5 v5.41.5 x86_64-linux
Date
2024-10-16 04:17:47
ID
9991dfee-8b75-11ef-9c68-d1662a8894e7
This distribution has been tested as part of the CPAN Testers
project, supporting the Perl programming language.  See
http://wiki.cpantesters.org/ for more information or email
questions to cpan-testers-discuss@perl.org


--
Dear Andy Lester,

This is a computer-generated report for ack-v3.7.0
on perl 5.41.5, created by CPAN-Reporter-1.2020.

Thank you for uploading your work to CPAN.  Congratulations!
All tests were successful.

Sections of this report:

    * Tester comments
    * Program output
    * Prerequisites
    * Environment and other context

------------------------------
TESTER COMMENTS
------------------------------

Additional comments from tester:

this report is from an automated smoke testing program
and was not reviewed by a human for accuracy

------------------------------
PROGRAM OUTPUT
------------------------------

Output from '/usr/bin/make test':

"/home/cpan/bin/perl/bin/perl5.41.5" t/runtests.pl 0 0 "blib/lib" "blib/arch" t/*.t
Running tests on blib/script/ack, ACK_TEST_STANDALONE=0
# Testing ack v3.7.0 under Perl v5.41.5, /home/cpan/bin/perl/bin/perl5.41.5
# Using File::Next 1.18
# Using File::Spec 3.93
# Using Getopt::Long 2.58
# Using Pod::Perldoc 3.2801
# Using Pod::Text v6.0.2
# Using Pod::Usage 2.03
# Using Term::ANSIColor 5.01
# Using Test::Harness 3.50
# Using Test::More 1.302204
# PATH=/home/cpan/bin/perl/bin:/usr/local/sbin:/usr/local/bin:/usr/sbin:/usr/bin:/sbin:/bin
t/00-load.t .................. ok
t/ack-1.t .................... ok
t/ack-c.t .................... ok
t/ack-color.t ................ ok
t/ack-column.t ............... ok
t/ack-create-ackrc.t ......... ok
t/ack-dump.t ................. ok
t/ack-f.t .................... ok
t/ack-files-from.t ........... ok
t/ack-g.t .................... ok
t/ack-group.t ................ ok
t/ack-h.t .................... ok
t/ack-help-types.t ........... ok
t/ack-help.t ................. ok
t/ack-i.t .................... ok
t/ack-ignore-dir.t ........... ok
t/ack-ignore-file.t .......... ok
t/ack-k.t .................... ok
t/ack-l.t .................... ok
t/ack-m.t .................... ok
# 1106
t/ack-man.t .................. ok
t/ack-match.t ................ ok
t/ack-n.t .................... ok
t/ack-o.t .................... ok
t/ack-output.t ............... ok
t/ack-pager.t ................ ok
t/ack-passthru.t ............. ok
t/ack-print0.t ............... ok
t/ack-proximate.t ............ ok
t/ack-Q.t .................... ok
cannot chdir to child for /tmp/KHsLlVTJyv/foo: Permission denied at /home/cpan/bin/perl/lib/5.41.5/File/Temp.pm line 2643.
cannot remove directory for /tmp/KHsLlVTJyv: Directory not empty at /home/cpan/bin/perl/lib/5.41.5/File/Temp.pm line 2643.
t/ack-s.t .................... ok
t/ack-show-types.t ........... ok
t/ack-type-del.t ............. ok
t/ack-type.t ................. ok
t/ack-underline.t ............ ok
t/ack-v.t .................... ok
t/ack-version.t .............. ok
t/ack-w.t .................... ok
t/ack-x.t .................... ok
t/anchored.t ................. ok
t/bad-ackrc-opt.t ............ ok
t/basic.t .................... ok
t/command-line-files.t ....... ok
t/config-backwards-compat.t .. ok
t/config-finder.t ............ ok
t/config-loader.t ............ ok
t/context-with-newlines.t .... ok
t/context.t .................. ok
t/default-filter.t ........... ok
t/double-hyphen.t ............ ok
t/empty-lines.t .............. ok
t/exit-code.t ................ ok
t/ext-filter.t ............... ok
t/file-iterator.t ............ ok
t/file-permission.t .......... ok
t/filetype-detection.t ....... ok
t/filetypes.t ................ ok
t/filter.t ................... ok
t/firstlinematch-filter.t .... ok
t/forbidden-options.t ........ ok
t/from-stdin.t ............... ok
t/highlighting.t ............. ok
t/illegal-regex.t ............ ok
t/incomplete-last-line.t ..... ok
t/interactive.t .............. ok
t/invalid-ackrc.t ............ ok
t/invalid-options.t .......... ok
t/inverted-file-filter.t ..... ok
t/is-filter.t ................ ok
t/line-endings.t ............. ok
t/longopts.t ................. ok
t/lowercase.t ................ ok
t/match-filter.t ............. ok
t/multiple-captures.t ........ ok
t/mutex-options.t ............ ok
t/named-pipes.t .............. ok
t/needs-line-scan.t .......... ok
t/noackrc.t .................. ok
t/noenv.t .................... ok
t/prescan-line-boundaries.t .. ok
t/process-substitution.t ..... ok
t/trailing-whitespace.t ...... ok
t/zero.t ..................... ok
All tests successful.
Files=83, Tests=944, 50 wallclock secs ( 0.50 usr  0.09 sys + 39.91 cusr  9.48 csys = 49.98 CPU)
Result: PASS
"/home/cpan/bin/perl/bin/perl5.41.5" squash ack lib/App/Ack.pm lib/App/Ack/ConfigDefault.pm lib/App/Ack/ConfigFinder.pm lib/App/Ack/ConfigLoader.pm lib/App/Ack/File.pm lib/App/Ack/Files.pm lib/App/Ack/Filter.pm lib/App/Ack/Filter/Collection.pm lib/App/Ack/Filter/Default.pm lib/App/Ack/Filter/Extension.pm lib/App/Ack/Filter/ExtensionGroup.pm lib/App/Ack/Filter/FirstLineMatch.pm lib/App/Ack/Filter/Inverse.pm lib/App/Ack/Filter/Is.pm lib/App/Ack/Filter/IsGroup.pm lib/App/Ack/Filter/IsPath.pm lib/App/Ack/Filter/IsPathGroup.pm lib/App/Ack/Filter/Match.pm lib/App/Ack/Filter/MatchGroup.pm  File::Next  > ack-standalone
Reading ack
Reading lib/App/Ack.pm
Reading lib/App/Ack/ConfigDefault.pm
Reading lib/App/Ack/ConfigFinder.pm
Reading lib/App/Ack/ConfigLoader.pm
Reading lib/App/Ack/File.pm
Reading lib/App/Ack/Files.pm
Reading lib/App/Ack/Filter.pm
Reading lib/App/Ack/Filter/Collection.pm
Reading lib/App/Ack/Filter/Default.pm
Reading lib/App/Ack/Filter/Extension.pm
Reading lib/App/Ack/Filter/ExtensionGroup.pm
Reading lib/App/Ack/Filter/FirstLineMatch.pm
Reading lib/App/Ack/Filter/Inverse.pm
Reading lib/App/Ack/Filter/Is.pm
Reading lib/App/Ack/Filter/IsGroup.pm
Reading lib/App/Ack/Filter/IsPath.pm
Reading lib/App/Ack/Filter/IsPathGroup.pm
Reading lib/App/Ack/Filter/Match.pm
Reading lib/App/Ack/Filter/MatchGroup.pm
Reading /home/cpan/bin/perl/lib/site_perl/5.41.5/File/Next.pm
"/home/cpan/bin/perl/bin/perl5.41.5" -MExtUtils::MY -e 'MY->fixin(shift)' -- ack-standalone
"/home/cpan/bin/perl/bin/perl5.41.5" -c ack-standalone
ack-standalone syntax OK
"/home/cpan/bin/perl/bin/perl5.41.5" t/runtests.pl 1 0 "blib/lib" "blib/arch" t/*.t
Running tests on ack-standalone, ACK_TEST_STANDALONE=1
# Testing ack v3.7.0 under Perl v5.41.5, /home/cpan/bin/perl/bin/perl5.41.5
# Using File::Next 1.18
# Using File::Spec 3.93
# Using Getopt::Long 2.58
# Using Pod::Perldoc 3.2801
# Using Pod::Text v6.0.2
# Using Pod::Usage 2.03
# Using Term::ANSIColor 5.01
# Using Test::Harness 3.50
# Using Test::More 1.302204
# PATH=/home/cpan/bin/perl/bin:/usr/local/sbin:/usr/local/bin:/usr/sbin:/usr/bin:/sbin:/bin
t/00-load.t .................. ok
t/ack-1.t .................... ok
t/ack-c.t .................... ok
t/ack-color.t ................ ok
t/ack-column.t ............... ok
t/ack-create-ackrc.t ......... ok
t/ack-dump.t ................. ok
t/ack-f.t .................... ok
t/ack-files-from.t ........... ok
t/ack-g.t .................... ok
t/ack-group.t ................ ok
t/ack-h.t .................... ok
t/ack-help-types.t ........... ok
t/ack-help.t ................. ok
t/ack-i.t .................... ok
t/ack-ignore-dir.t ........... ok
t/ack-ignore-file.t .......... ok
t/ack-k.t .................... ok
t/ack-l.t .................... ok
t/ack-m.t .................... ok
# 1106
t/ack-man.t .................. ok
t/ack-match.t ................ ok
t/ack-n.t .................... ok
t/ack-o.t .................... ok
t/ack-output.t ............... ok
t/ack-pager.t ................ ok
t/ack-passthru.t ............. ok
t/ack-print0.t ............... ok
t/ack-proximate.t ............ ok
t/ack-Q.t .................... ok
cannot chdir to child for /tmp/aaA7ueC4Pu/foo: Permission denied at /home/cpan/bin/perl/lib/5.41.5/File/Temp.pm line 2643.
cannot remove directory for /tmp/aaA7ueC4Pu: Directory not empty at /home/cpan/bin/perl/lib/5.41.5/File/Temp.pm line 2643.
t/ack-s.t .................... ok
t/ack-show-types.t ........... ok
t/ack-type-del.t ............. ok
t/ack-type.t ................. ok
t/ack-underline.t ............ ok
t/ack-v.t .................... ok
t/ack-version.t .............. ok
t/ack-w.t .................... ok
t/ack-x.t .................... ok
t/anchored.t ................. ok
t/bad-ackrc-opt.t ............ ok
t/basic.t .................... ok
t/command-line-files.t ....... ok
t/config-backwards-compat.t .. ok
t/config-finder.t ............ ok
t/config-loader.t ............ ok
t/context-with-newlines.t .... ok
t/context.t .................. ok
t/default-filter.t ........... ok
t/double-hyphen.t ............ ok
t/empty-lines.t .............. ok
t/exit-code.t ................ ok
t/ext-filter.t ............... ok
t/file-iterator.t ............ ok
t/file-permission.t .......... ok
t/filetype-detection.t ....... ok
t/filetypes.t ................ ok
t/filter.t ................... ok
t/firstlinematch-filter.t .... ok
t/forbidden-options.t ........ ok
t/from-stdin.t ............... ok
t/highlighting.t ............. ok
t/illegal-regex.t ............ ok
t/incomplete-last-line.t ..... ok
t/interactive.t .............. ok
t/invalid-ackrc.t ............ ok
t/invalid-options.t .......... ok
t/inverted-file-filter.t ..... ok
t/is-filter.t ................ ok
t/line-endings.t ............. ok
t/longopts.t ................. ok
t/lowercase.t ................ ok
t/match-filter.t ............. ok
t/multiple-captures.t ........ ok
t/mutex-options.t ............ ok
t/named-pipes.t .............. ok
t/needs-line-scan.t .......... ok
t/noackrc.t .................. ok
t/noenv.t .................... ok
t/prescan-line-boundaries.t .. ok
t/process-substitution.t ..... ok
t/trailing-whitespace.t ...... ok
t/zero.t ..................... ok
All tests successful.
Files=83, Tests=944, 51 wallclock secs ( 0.52 usr  0.06 sys + 39.41 cusr 10.31 csys = 50.30 CPU)
Result: PASS

------------------------------
PREREQUISITES
------------------------------

Prerequisite modules loaded:

requires:

    Module              Need     Have    
    ------------------- -------- --------
    Cwd                 3.00     3.92    
    File::Basename      1.00015  2.86    
    File::Next          1.18     1.18    
    File::Spec          3.00     3.93    
    File::Temp          0.19     0.2311  
    filetest            0        1.03    
    Getopt::Long        2.38     2.58    
    if                  0        0.0610  
    List::Util          0        1.66    
    parent              0        0.242   
    perl                5.010001 5.041005
    Pod::Perldoc        3.20     3.2801  
    Pod::Text           0        v6.0.2  
    Pod::Usage          1.26     2.03    
    Scalar::Util        0        1.66    
    Term::ANSIColor     1.10     5.01    
    Test::Harness       2.50     3.50    
    Test::More          0.98     1.302204
    Text::ParseWords    3.1      3.31    
    version             0        0.9933  

build_requires:

    Module              Need     Have    
    ------------------- -------- --------
    ExtUtils::MakeMaker 0        7.70    

configure_requires:

    Module              Need     Have    
    ------------------- -------- --------
    ExtUtils::MakeMaker 0        7.70    


------------------------------
ENVIRONMENT AND OTHER CONTEXT
------------------------------

Environment variables:

    AUTOMATED_TESTING = 1
    DATE_MANIP_TEST_DM5 = 1
    LANG = C.UTF-8
    LC_COLLATE = C
    NONINTERACTIVE_TESTING = 1
    NO_NETWORK_TESTING = 1
    PATH = /home/cpan/bin/perl/bin:/usr/local/sbin:/usr/local/bin:/usr/sbin:/usr/bin:/sbin:/bin
    PERL5LIB = 
    PERL5OPT = 
    PERL5_CPANPLUS_IS_RUNNING = 4706
    PERL5_CPAN_IS_RUNNING = 4706
    PERL_MM_USE_DEFAULT = 1
    PERL_USE_UNSAFE_INC = 1
    SHELL = /bin/bash
    TERM = screen

Perl special variables (and OS-specific diagnostics, for MSWin32):

    $^X = /home/cpan/bin/perl/bin/perl5.41.5
    $UID/$EUID = 1001 / 1001
    $GID = 1001 1001
    $EGID = 1001 1001

Perl module toolchain versions installed:

    Module              Have    
    ------------------- --------
    CPAN                2.37    
    CPAN::Meta          2.150010
    Cwd                 3.92    
    ExtUtils::CBuilder  0.280240
    ExtUtils::Command   7.70    
    ExtUtils::Install   2.22    
    ExtUtils::MakeMaker 7.70    
    ExtUtils::Manifest  1.75    
    ExtUtils::ParseXS   3.54    
    File::Spec          3.93    
    JSON                4.10    
    JSON::PP            4.16    
    Module::Build       0.4234  
    Module::Signature   0.89    
    Parse::CPAN::Meta   2.150010
    Test2               1.302204
    Test::Harness       3.50    
    Test::More          1.302204
    YAML                1.31    
    YAML::Syck          1.34    
    version             0.9933  


--

Summary of my perl5 (revision 5 version 41 subversion 5) configuration:
  Commit id: 19a540392dc1dea55a673834a3c690d1dd5dee6a
  Platform:
    osname=linux
    osvers=6.6.56-0-lts
    archname=x86_64-linux
    uname='linux cjg-alpine3 6.6.56-0-lts #1-alpine smp preempt_dynamic 2024-10-10 17:19:03 x86_64 linux '
    config_args='-des -Dprefix=/home/cpan/bin/perl -Dscriptdir=/home/cpan/bin/perl/bin -Dusedevel -Duse64bitall'
    hint=recommended
    useposix=true
    d_sigaction=define
    useithreads=undef
    usemultiplicity=undef
    use64bitint=define
    use64bitall=define
    uselongdouble=undef
    usemymalloc=n
    default_inc_excludes_dot=define
  Compiler:
    cc='cc'
    ccflags ='-D_GNU_SOURCE -fwrapv -fno-strict-aliasing -pipe -fstack-protector-strong -D_LARGEFILE_SOURCE -D_FILE_OFFSET_BITS=64'
    optimize='-O2'
    cppflags='-D_GNU_SOURCE -fwrapv -fno-strict-aliasing -pipe -fstack-protector-strong'
    ccversion=''
    gccversion='13.2.1 20240309'
    gccosandvers=''
    intsize=4
    longsize=8
    ptrsize=8
    doublesize=8
    byteorder=12345678
    doublekind=3
    d_longlong=define
    longlongsize=8
    d_longdbl=define
    longdblsize=16
    longdblkind=3
    ivtype='long'
    ivsize=8
    nvtype='double'
    nvsize=8
    Off_t='off_t'
    lseeksize=8
    alignbytes=8
    prototype=define
  Linker and Libraries:
    ld='cc'
    ldflags =' -fstack-protector-strong -L/usr/local/lib'
    libpth=/usr/lib /usr/local/lib /lib
    libs=-lpthread -ldb -ldl -lm -lcrypt -lutil -lc
    perllibs=-lpthread -ldl -lm -lcrypt -lutil -lc
    libc=/usr/lib/libc.a
    so=so
    useshrplib=false
    libperl=libperl.a
    gnulibc_version=''
  Dynamic Linking:
    dlsrc=dl_dlopen.xs
    dlext=so
    d_dlsymun=undef
    ccdlflags='-Wl,-E'
    cccdlflags='-fPIC'
    lddlflags='-shared -O2 -L/usr/local/lib -fstack-protector-strong'


Characteristics of this binary (from libperl): 
  Compile-time options:
    HAS_LONG_DOUBLE
    HAS_STRTOLD
    HAS_TIMES
    PERLIO_LAYERS
    PERL_COPY_ON_WRITE
    PERL_DONT_CREATE_GVSV
    PERL_HASH_FUNC_SIPHASH13
    PERL_HASH_USE_SBOX32
    PERL_MALLOC_WRAP
    PERL_OP_PARENT
    PERL_PRESERVE_IVUV
    PERL_USE_DEVEL
    PERL_USE_SAFE_PUTENV
    USE_64_BIT_ALL
    USE_64_BIT_INT
    USE_LARGE_FILES
    USE_LOCALE
    USE_LOCALE_COLLATE
    USE_LOCALE_CTYPE
    USE_LOCALE_NUMERIC
    USE_LOCALE_TIME
    USE_PERLIO
    USE_PERL_ATOF
  Built under linux
  Compiled at Oct 15 2024 12:53:26
  %ENV:
    PERL5LIB=""
    PERL5OPT=""
    PERL5_CPANPLUS_IS_RUNNING="4706"
    PERL5_CPAN_IS_RUNNING="4706"
    PERL_MM_USE_DEFAULT="1"
    PERL_USE_UNSAFE_INC="1"
  @INC:
    /home/cpan/bin/perl/lib/site_perl/5.41.5/x86_64-linux
    /home/cpan/bin/perl/lib/site_perl/5.41.5
    /home/cpan/bin/perl/lib/5.41.5/x86_64-linux
    /home/cpan/bin/perl/lib/5.41.5
    .