WebService-RESTCountries v0.3 Perl 5 v5.35.3 x86_64-linux-ld
- Status
- Pass
- From
- Andreas J. König (ANDK)
- Dist
-
WebService-RESTCountries v0.3
- Platform
- Perl 5 v5.35.3 x86_64-linux-ld
- Date
- 2021-09-03 10:06:26
- ID
- 999561d6-0c9e-11ec-97ad-7dc37a0f6722
This distribution has been tested as part of the CPAN Testers
project, supporting the Perl programming language. See
http://wiki.cpantesters.org/ for more information or email
questions to cpan-testers-discuss@perl.org
--
Dear Kian Meng, Ang,
This is a computer-generated report for WebService-RESTCountries-0.3
on perl 5.35.3, created by CPAN-Reporter-1.2018.
Thank you for uploading your work to CPAN. Congratulations!
All tests were successful.
Sections of this report:
* Tester comments
* Program output
* Prerequisites
* Environment and other context
------------------------------
TESTER COMMENTS
------------------------------
Additional comments from tester:
this report is from an automated smoke testing program
and was not reviewed by a human for accuracy
------------------------------
PROGRAM OUTPUT
------------------------------
Output from './Build test':
t/00-compile.t ...................... ok
# Testing with Perl 5.035003, /tmp/basesmoker-reloperl-QSQV/bin/perl
# CHI version is 0.60
# Data::Serializer version is 0.65
# Digest::MD5 version is 2.58
# JSON version is 4.03
# Module::Build::Tiny version is 0.039
# Moo version is 2.005004
# REST::Client version is 273
# Role::REST::Client version is 0.23
# Sereal version is 4.018
# Test::DistManifest version is 1.014
# Test::HasVersion version is 0.014
# Test::More version is 1.302186
# Test::Warn version is 0.36
# Types::Standard version is 1.012004
# namespace::clean version is 0.27
# strictures version is 2.000006
t/000-report-versions.t ............. ok
t/00_compile.t ...................... ok
t/01_instantiation.t ................ ok
t/02_request.t ...................... ok
t/03_search_all.t ................... ok
t/04_search_by_country_name.t ....... ok
t/05_search_by_country_full_name.t .. ok
t/06_search_by_country_code.t ....... ok
t/07_search_by_country_codes.t ...... ok
t/08_search_by_currency.t ........... ok
t/09_search_by_language_code.t ...... ok
t/10_search_by_capital_city.t ....... ok
t/11_search_by_calling_code.t ....... ok
t/12_search_by_region.t ............. ok
t/13_search_by_region_bloc.t ........ ok
t/14_ping.t ......................... ok
t/15_download.t ..................... ok
t/author-eol.t ...................... skipped: these tests are for testing by the author
t/author-minimum-version.t .......... skipped: these tests are for testing by the author
t/author-pod-coverage.t ............. skipped: these tests are for testing by the author
t/author-pod-syntax.t ............... skipped: these tests are for testing by the author
t/release-dist-manifest.t ........... skipped: these tests are for release candidate testing
t/release-distmeta.t ................ skipped: these tests are for release candidate testing
t/release-has-version.t ............. skipped: these tests are for release candidate testing
t/release-kwalitee.t ................ skipped: these tests are for release candidate testing
t/release-unused-vars.t ............. skipped: these tests are for release candidate testing
All tests successful.
Files=27, Tests=93, 7 wallclock secs ( 0.06 usr 0.15 sys + 3.39 cusr 0.89 csys = 4.49 CPU)
Result: PASS
------------------------------
PREREQUISITES
------------------------------
Prerequisite modules loaded:
requires:
Module Need Have
------------------- -------- --------
CHI 0 0.60
Data::Serializer 0 0.65
Digest::MD5 0 2.58
JSON 0 4.03
Moo 0 2.005004
namespace::clean 0 0.27
REST::Client 0 273
Role::REST::Client 0 0.23
Sereal 0 4.018
strictures 2 2.000006
Types::Standard 0 1.012004
build_requires:
Module Need Have
------------------- -------- --------
Test::DistManifest 0 1.014
Test::HasVersion 0 0.014
Test::Kwalitee 0 1.28
Test::More 0 1.302186
Test::Warn 0 0.36
configure_requires:
Module Need Have
------------------- -------- --------
Module::Build::Tiny 0.034 0.039
perl 5.008005 5.035003
------------------------------
ENVIRONMENT AND OTHER CONTEXT
------------------------------
Environment variables:
AUTOMATED_TESTING = 1
LANG = en_US.utf8
PATH = /home/sand/bin:/usr/local/bin:/usr/local/sbin:/usr/sbin:/usr/bin:/sbin:/bin:/usr/games:/usr/local/games:/snap/bin:/usr/local/perl/bin:/usr/X11/bin
PERL = /tmp/basesmoker-reloperl-QSQV/bin/perl
PERL5LIB = /tmp/loop_over_bdir-5818-IXw0w5/Serge-1.4-0/blib/arch:/tmp/loop_over_bdir-5818-IXw0w5/Serge-1.4-0/blib/lib:/tmp/loop_over_bdir-5818-IXw0w5/Linux-InitFS-0.2-0/blib/arch:/tmp/loop_over_bdir-5818-IXw0w5/Linux-InitFS-0.2-0/blib/lib
PERL5OPT =
PERL5_CPANPLUS_IS_RUNNING = 5826
PERL5_CPAN_IS_RUNNING = 5826
PERL_CANARY_STABILITY_NOPROMPT = 1
PERL_MM_USE_DEFAULT = 1
PERL_USE_UNSAFE_INC = 1
SHELL = /usr/bin/zsh
TERM = screen
Perl special variables (and OS-specific diagnostics, for MSWin32):
$^X = /tmp/basesmoker-reloperl-QSQV/bin/perl
$UID/$EUID = 1005 / 1005
$GID = 1005 1005
$EGID = 1005 1005
Perl module toolchain versions installed:
Module Have
------------------- --------
CPAN 2.28
CPAN::Meta 2.150010
Cwd 3.82
ExtUtils::CBuilder 0.280236
ExtUtils::Command 7.62
ExtUtils::Install 2.20
ExtUtils::MakeMaker 7.62
ExtUtils::Manifest 1.73
ExtUtils::ParseXS 3.43
File::Spec 3.81
JSON 4.03
JSON::PP 4.06
Module::Build 0.4231
Module::Signature 0.87
Parse::CPAN::Meta 2.150010
Test::Harness 3.43
Test::More 1.302186
YAML 1.30
YAML::Syck 1.34
version 0.9929
--
Summary of my perl5 (revision 5 version 35 subversion 3) configuration:
Commit id: 566e79b3713e09f940997a15f239ad9cb45c66b2
Platform:
osname=linux
osvers=4.15.0-154-generic
archname=x86_64-linux-ld
uname='linux k93bionic 4.15.0-154-generic #161-ubuntu smp fri jul 30 13:04:17 utc 2021 x86_64 x86_64 x86_64 gnulinux '
config_args='-Dprefix=/home/sand/src/perl/repoperls/installed-perls/host/k93bionic/v5.35.3/ca05 -Dmyhostname=k93bionic -Dinstallusrbinperl=n -Uversiononly -Dusedevel -des -Ui_db -Dlibswanted=cl pthread socket inet nsl gdbm dbm malloc dl ld sun m crypt sec util c cposix posix ucb BSD gdbm_compat -Uuseithreads -Duselongdouble -DEBUGGING=-g'
hint=recommended
useposix=true
d_sigaction=define
useithreads=undef
usemultiplicity=undef
use64bitint=define
use64bitall=define
uselongdouble=define
usemymalloc=n
default_inc_excludes_dot=define
Compiler:
cc='cc'
ccflags ='-fwrapv -fno-strict-aliasing -pipe -fstack-protector-strong -I/usr/local/include -D_LARGEFILE_SOURCE -D_FILE_OFFSET_BITS=64'
optimize='-O2 -g'
cppflags='-fwrapv -fno-strict-aliasing -pipe -fstack-protector-strong -I/usr/local/include'
ccversion=''
gccversion='7.5.0'
gccosandvers=''
intsize=4
longsize=8
ptrsize=8
doublesize=8
byteorder=12345678
doublekind=3
d_longlong=define
longlongsize=8
d_longdbl=define
longdblsize=16
longdblkind=3
ivtype='long'
ivsize=8
nvtype='long double'
nvsize=16
Off_t='off_t'
lseeksize=8
alignbytes=16
prototype=define
Linker and Libraries:
ld='cc'
ldflags =' -fstack-protector-strong -L/usr/local/lib'
libpth=/usr/local/lib /usr/lib/x86_64-linux-gnu /usr/lib /lib/x86_64-linux-gnu /lib
libs=-lpthread -lnsl -ldl -lm -lcrypt -lutil -lc
perllibs=-lpthread -lnsl -ldl -lm -lcrypt -lutil -lc
libc=libc-2.27.so
so=so
useshrplib=false
libperl=libperl.a
gnulibc_version='2.27'
Dynamic Linking:
dlsrc=dl_dlopen.xs
dlext=so
d_dlsymun=undef
ccdlflags='-Wl,-E'
cccdlflags='-fPIC'
lddlflags='-shared -O2 -g -L/usr/local/lib -fstack-protector-strong'
Characteristics of this binary (from libperl):
Compile-time options:
HAS_TIMES
PERLIO_LAYERS
PERL_COPY_ON_WRITE
PERL_DONT_CREATE_GVSV
PERL_MALLOC_WRAP
PERL_OP_PARENT
PERL_PRESERVE_IVUV
PERL_USE_DEVEL
USE_64_BIT_ALL
USE_64_BIT_INT
USE_LARGE_FILES
USE_LOCALE
USE_LOCALE_COLLATE
USE_LOCALE_CTYPE
USE_LOCALE_NUMERIC
USE_LOCALE_TIME
USE_LONG_DOUBLE
USE_PERLIO
USE_PERL_ATOF
Built under linux
Compiled at Sep 2 2021 03:13:38
%ENV:
PERL="/tmp/basesmoker-reloperl-QSQV/bin/perl"
PERL5LIB="/tmp/loop_over_bdir-5818-IXw0w5/Serge-1.4-0/blib/arch:/tmp/loop_over_bdir-5818-IXw0w5/Serge-1.4-0/blib/lib:/tmp/loop_over_bdir-5818-IXw0w5/Linux-InitFS-0.2-0/blib/arch:/tmp/loop_over_bdir-5818-IXw0w5/Linux-InitFS-0.2-0/blib/lib"
PERL5OPT=""
PERL5_CPANPLUS_IS_RUNNING="5826"
PERL5_CPAN_IS_RUNNING="5826"
PERL_CANARY_STABILITY_NOPROMPT="1"
PERL_MM_USE_DEFAULT="1"
PERL_USE_UNSAFE_INC="1"
@INC:
/tmp/loop_over_bdir-5818-IXw0w5/Serge-1.4-0/blib/arch
/tmp/loop_over_bdir-5818-IXw0w5/Serge-1.4-0/blib/lib
/tmp/loop_over_bdir-5818-IXw0w5/Linux-InitFS-0.2-0/blib/arch
/tmp/loop_over_bdir-5818-IXw0w5/Linux-InitFS-0.2-0/blib/lib
/home/sand/src/perl/repoperls/installed-perls/host/k93bionic/v5.35.3/ca05/lib/site_perl/5.35.3/x86_64-linux-ld
/home/sand/src/perl/repoperls/installed-perls/host/k93bionic/v5.35.3/ca05/lib/site_perl/5.35.3
/home/sand/src/perl/repoperls/installed-perls/host/k93bionic/v5.35.3/ca05/lib/5.35.3/x86_64-linux-ld
/home/sand/src/perl/repoperls/installed-perls/host/k93bionic/v5.35.3/ca05/lib/5.35.3
.