Data-Util v0.67 Perl 5 v5.36.1 RC2 x86_64-linux
- Status
- Pass
- From
- Andreas J. König (ANDK)
- Dist
-
Data-Util v0.67
- Platform
- Perl 5 v5.36.1 RC2 x86_64-linux
- Date
- 2023-04-12 06:31:04
- ID
- 99a0c30c-d8fb-11ed-b7b2-c67d361be201
This distribution has been tested as part of the CPAN Testers
project, supporting the Perl programming language. See
http://wiki.cpantesters.org/ for more information or email
questions to cpan-testers-discuss@perl.org
--
Dear Shohei Yoshida,
This is a computer-generated report for Data-Util-0.67
on perl 5.36.1, created by CPAN-Reporter-1.2018.
Thank you for uploading your work to CPAN. Congratulations!
All tests were successful.
Sections of this report:
* Tester comments
* Program output
* Prerequisites
* Environment and other context
------------------------------
TESTER COMMENTS
------------------------------
Additional comments from tester:
this report is from an automated smoke testing program
and was not reviewed by a human for accuracy
------------------------------
PROGRAM OUTPUT
------------------------------
Output from './Build test':
# Testing Data::Util 0.67 (XS)
t/00_load.t .................. ok
# Testing XS
t/01_refs.t .................. ok
t/02_inst.t .................. ok
t/03_gen.t ................... ok
t/04_overloaded.t ............ ok
t/05_get_stash.t ............. ok
t/06_subroutine.t ............ ok
t/08_mgvars.t ................ ok
Can't locate package A for @Bar::ISA during global destruction.
t/09_paranoia.t .............. ok
t/10_neat.t .................. ok
t/11_fail_handler.t .......... ok
t/12_in_attr_handler.t ....... skipped: This test is for old perls
t/13_optlist.t ............... ok
t/14_uninst_subr.t ........... ok
t/15_curry.t ................. ok
t/16_modify.t ................ ok
t/17_nsclean.t ............... ok
t/18_is_value.t .............. ok
t/19_multiple_modifiers.t .... ok
t/20_lexical_sub.t ........... ok
t/21_get_code_ref.t .......... ok
t/22_install2.t .............. ok
t/23_largeargs.t ............. ok
t/24_eval_in_modifiers.t ..... ok
t/pp00_load.t ................ ok
# Testing PurePerl
t/pp01_refs.t ................ ok
t/pp02_inst.t ................ ok
t/pp03_gen.t ................. ok
t/pp04_overloaded.t .......... ok
t/pp05_get_stash.t ........... ok
t/pp06_subroutine.t .......... ok
t/pp08_mgvars.t .............. ok
t/pp10_neat.t ................ ok
t/pp11_fail_handler.t ........ ok
t/pp12_in_attr_handler.t ..... skipped: This test is for old perls
t/pp13_optlist.t ............. ok
t/pp14_uninst_subr.t ......... ok
t/pp15_curry.t ............... ok
t/pp16_modify.t .............. ok
t/pp17_nsclean.t ............. ok
t/pp18_is_value.t ............ ok
t/pp19_multiple_modifiers.t .. ok
t/pp20_lexical_sub.t ......... ok
t/pp21_get_code_ref.t ........ ok
t/pp22_install2.t ............ ok
t/pp23_largeargs.t ........... ok
t/pp24_eval_in_modifiers.t ... ok
All tests successful.
Files=47, Tests=1141, 4 wallclock secs ( 0.15 usr 0.14 sys + 3.19 cusr 0.52 csys = 4.00 CPU)
Result: PASS
------------------------------
PREREQUISITES
------------------------------
Prerequisite modules loaded:
requires:
Module Need Have
----------------------------- ------ --------
perl 5.010 5.036001
XSLoader 0.02 0.31
build_requires:
Module Need Have
----------------------------- ------ --------
Devel::PPPort 3.19 3.68
ExtUtils::CBuilder 0 0.280236
ExtUtils::MakeMaker 6.59 7.70
ExtUtils::ParseXS 3.18 3.45
Hash::Util::FieldHash::Compat 0 0.11
Scope::Guard 0 0.21
Test::Exception 0.27 0.43
Test::More 0.62 1.302194
configure_requires:
Module Need Have
----------------------------- ------ --------
Module::Build 0.4005 0.4232
Module::Build::XSUtil 0.03 0.19
------------------------------
ENVIRONMENT AND OTHER CONTEXT
------------------------------
Environment variables:
AUTOMATED_TESTING = 1
LANG = en_US.UTF-8
PATH = /home/sand/bin:/usr/local/bin:/usr/local/sbin:/usr/sbin:/usr/bin:/sbin:/bin:/usr/games:/usr/local/games:/snap/bin:/usr/local/perl/bin:/usr/X11/bin
PERL5LIB =
PERL5OPT =
PERL5_CPANPLUS_IS_RUNNING = 2344
PERL5_CPAN_IS_RUNNING = 2344
PERL_CANARY_STABILITY_NOPROMPT = 1
PERL_MM_USE_DEFAULT = 1
PERL_USE_UNSAFE_INC = 1
SHELL = /usr/bin/zsh
TERM = screen
Perl special variables (and OS-specific diagnostics, for MSWin32):
$^X = /tmp/basesmoker-reloperl-i2ki/bin/perl
$UID/$EUID = 1005 / 1005
$GID = 1005 1005
$EGID = 1005 1005
Perl module toolchain versions installed:
Module Have
------------------- --------
CPAN 2.34
CPAN::Meta 2.150010
Cwd 3.84
ExtUtils::CBuilder 0.280236
ExtUtils::Command 7.70
ExtUtils::Install 2.20
ExtUtils::MakeMaker 7.70
ExtUtils::Manifest 1.73
ExtUtils::ParseXS 3.45
File::Spec 3.84
JSON 4.10
JSON::PP 4.16
Module::Build 0.4232
Module::Signature 0.88
Parse::CPAN::Meta 2.150010
Test::Harness 3.44
Test::More 1.302194
YAML 1.30
YAML::Syck 1.34
version 0.9929
--
Summary of my perl5 (revision 5 version 36 subversion 1) configuration:
Commit id: 2e60932a0e378da53c04b82e8983d9cef4dcacba
Platform:
osname=linux
osvers=5.4.0-146-generic
archname=x86_64-linux
uname='linux k93focal 5.4.0-146-generic #163-ubuntu smp fri mar 17 18:26:02 utc 2023 x86_64 x86_64 x86_64 gnulinux '
config_args='-Dprefix=/home/sand/src/perl/repoperls/installed-perls/host/k93focal/v5.36.1-RC2/b254 -Dmyhostname=k93focal -Dinstallusrbinperl=n -Uversiononly -Dusedevel -des -Ui_db -Dlibswanted=cl pthread socket inet nsl gdbm dbm malloc dl ld sun m crypt sec util c cposix posix ucb BSD gdbm_compat -Uuseithreads -Uuselongdouble -DEBUGGING=both'
hint=recommended
useposix=true
d_sigaction=define
useithreads=undef
usemultiplicity=undef
use64bitint=define
use64bitall=define
uselongdouble=undef
usemymalloc=n
default_inc_excludes_dot=define
Compiler:
cc='cc'
ccflags ='-fwrapv -DDEBUGGING -fno-strict-aliasing -pipe -fstack-protector-strong -I/usr/local/include -D_LARGEFILE_SOURCE -D_FILE_OFFSET_BITS=64'
optimize='-O2 -g'
cppflags='-fwrapv -DDEBUGGING -fno-strict-aliasing -pipe -fstack-protector-strong -I/usr/local/include'
ccversion=''
gccversion='9.4.0'
gccosandvers=''
intsize=4
longsize=8
ptrsize=8
doublesize=8
byteorder=12345678
doublekind=3
d_longlong=define
longlongsize=8
d_longdbl=define
longdblsize=16
longdblkind=3
ivtype='long'
ivsize=8
nvtype='double'
nvsize=8
Off_t='off_t'
lseeksize=8
alignbytes=8
prototype=define
Linker and Libraries:
ld='cc'
ldflags =' -fstack-protector-strong -L/usr/local/lib'
libpth=/usr/local/lib /usr/lib/x86_64-linux-gnu /usr/lib /usr/lib64
libs=-lpthread -lnsl -ldl -lm -lcrypt -lutil -lc
perllibs=-lpthread -lnsl -ldl -lm -lcrypt -lutil -lc
libc=libc-2.31.so
so=so
useshrplib=false
libperl=libperl.a
gnulibc_version='2.31'
Dynamic Linking:
dlsrc=dl_dlopen.xs
dlext=so
d_dlsymun=undef
ccdlflags='-Wl,-E'
cccdlflags='-fPIC'
lddlflags='-shared -O2 -g -L/usr/local/lib -fstack-protector-strong'
Characteristics of this binary (from libperl):
Compile-time options:
DEBUGGING
HAS_TIMES
PERLIO_LAYERS
PERL_COPY_ON_WRITE
PERL_DONT_CREATE_GVSV
PERL_MALLOC_WRAP
PERL_OP_PARENT
PERL_PRESERVE_IVUV
PERL_USE_DEVEL
USE_64_BIT_ALL
USE_64_BIT_INT
USE_LARGE_FILES
USE_LOCALE
USE_LOCALE_COLLATE
USE_LOCALE_CTYPE
USE_LOCALE_NUMERIC
USE_LOCALE_TIME
USE_PERLIO
USE_PERL_ATOF
Locally applied patches:
RC2
Built under linux
Compiled at Apr 12 2023 00:34:39
%ENV:
PERL5LIB=""
PERL5OPT=""
PERL5_CPANPLUS_IS_RUNNING="2344"
PERL5_CPAN_IS_RUNNING="2344"
PERL_CANARY_STABILITY_NOPROMPT="1"
PERL_MM_USE_DEFAULT="1"
PERL_USE_UNSAFE_INC="1"
@INC:
/home/sand/src/perl/repoperls/installed-perls/host/k93focal/v5.36.1-RC2/b254/lib/site_perl/5.36.1/x86_64-linux
/home/sand/src/perl/repoperls/installed-perls/host/k93focal/v5.36.1-RC2/b254/lib/site_perl/5.36.1
/home/sand/src/perl/repoperls/installed-perls/host/k93focal/v5.36.1-RC2/b254/lib/5.36.1/x86_64-linux
/home/sand/src/perl/repoperls/installed-perls/host/k93focal/v5.36.1-RC2/b254/lib/5.36.1
.