Net-HTTP v6.19 Perl 5 v5.14.4 x86_64-linux-thread-multi
- Status
- Pass
- From
- Nigel Horne
- Dist
-
Net-HTTP v6.19
- Platform
- Perl 5 v5.14.4 x86_64-linux-thread-multi
- Date
- 2020-12-17 13:34:34
- ID
- 99b4c50c-406c-11eb-aec9-e939e3648b51
This distribution has been tested as part of the CPAN Testers
project, supporting the Perl programming language. See
http://wiki.cpantesters.org/ for more information or email
questions to cpan-testers-discuss@perl.org
--
Dear Olaf Alders,
This is a computer-generated report for Net-HTTP-6.19
on perl 5.14.4, created by CPAN-Reporter-1.2018.
Thank you for uploading your work to CPAN. Congratulations!
All tests were successful.
Sections of this report:
* Tester comments
* Program output
* Prerequisites
* Environment and other context
------------------------------
TESTER COMMENTS
------------------------------
Additional comments from tester:
none provided
------------------------------
PROGRAM OUTPUT
------------------------------
Output from '/usr/bin/make test':
PERL_DL_NONLAZY=1 "/home/njh/perl5/perlbrew/perls/perl-5.14.4/bin/perl5.14.4" "-MExtUtils::Command::MM" "-MTest::Harness" "-e" "undef *Test::Harness::Switches; test_harness(0, 'blib/lib', 'blib/arch')" t/*.t
t/http.t ............... ok
t/http-nb.t ............ ok
#
# Versions for all modules listed in MYMETA.json (including optional ones):
#
# === Configure Requires ===
#
# Module Want Have
# ------------------- ---- ----
# ExtUtils::MakeMaker any 7.54
#
# === Configure Suggests ===
#
# Module Want Have
# -------- ------- -------
# JSON::PP 2.27300 2.27400
#
# === Build Requires ===
#
# Module Want Have
# ------------------- ---- ----
# ExtUtils::MakeMaker any 7.54
#
# === Test Requires ===
#
# Module Want Have
# ------------------- ---- --------
# Data::Dumper any 2.130_02
# ExtUtils::MakeMaker any 7.54
# File::Spec any 3.74
# IO::Select any 1.20
# Socket any 2.030
# Test::More any 1.302183
#
# === Test Recommends ===
#
# Module Want Have
# ---------- -------- --------
# CPAN::Meta 2.120900 2.150005
#
# === Runtime Requires ===
#
# Module Want Have
# ---------------------- ---- ------
# Carp any 1.3301
# Compress::Raw::Zlib any 2.033
# IO::Socket::INET any 1.31
# IO::Uncompress::Gunzip any 2.033
# URI any 1.65
# base any 2.18
# strict any 1.04
# vars any 1.02
# warnings any 1.12
#
# === Runtime Suggests ===
#
# Module Want Have
# ----------------- ----- -------
# IO::Socket any 1.32
# IO::Socket::INET6 any missing
# IO::Socket::IP any 0.41
# IO::Socket::SSL 2.012 2.068
# Symbol any 1.07
#
t/00-report-prereqs.t .. ok
t/live.t ............... ok
t/live-https.t ......... ok
All tests successful.
Files=5, Tests=64, 0 wallclock secs ( 0.03 usr 0.01 sys + 0.52 cusr 0.05 csys = 0.61 CPU)
Result: PASS
------------------------------
PREREQUISITES
------------------------------
Prerequisite modules loaded:
requires:
Module Need Have
---------------------- -------- --------
base 0 2.18
Carp 0 1.3301
Compress::Raw::Zlib 0 2.033
IO::Socket::INET 0 1.31
IO::Uncompress::Gunzip 0 2.033
perl 5.006002 5.014004
strict 0 1.04
URI 0 1.65
vars 0 1.02
warnings 0 1.12
build_requires:
Module Need Have
---------------------- -------- --------
Data::Dumper 0 2.130_02
ExtUtils::MakeMaker 0 7.54
File::Spec 0 3.74
IO::Select 0 1.20
Socket 0 2.030
Test::More 0 1.302183
configure_requires:
Module Need Have
---------------------- -------- --------
ExtUtils::MakeMaker 0 7.54
------------------------------
ENVIRONMENT AND OTHER CONTEXT
------------------------------
Environment variables:
HARNESS_OPTIONS = j4:c
LANG = en_GB.UTF-8
LANGUAGE = en_GB:en
LD_LIBRARY_PATH = /usr/local/lib::
NONINTERACTIVE_TESTING = 1
PATH = /home/njh/perl5/perlbrew/bin:/home/njh/perl5/perlbrew/perls/perl-5.14.4/bin:/home/njh/perl5/perlbrew/bin:/usr/local/bin:/usr/bin:/bin:/usr/games:/home/njh/bin:/sbin:/home/njh/go/bin
PERL5LIB =
PERL5OPT =
PERL5_CPANPLUS_IS_RUNNING = 2094098
PERL5_CPAN_IS_RUNNING = 2094098
PERLBREW_HOME = /home/njh/.perlbrew
PERLBREW_LIB =
PERLBREW_MANPATH = /home/njh/perl5/perlbrew/perls/perl-5.14.4/man
PERLBREW_PATH = /home/njh/perl5/perlbrew/bin:/home/njh/perl5/perlbrew/perls/perl-5.14.4/bin
PERLBREW_PERL = perl-5.14.4
PERLBREW_ROOT = /home/njh/perl5/perlbrew
PERLBREW_SHELLRC_VERSION = 0.86
PERLBREW_VERSION = 0.86
PERL_LOCAL_LIB_ROOT =
PERL_MM_USE_DEFAULT = 1
PERL_USE_UNSAFE_INC = 1
SHELL = /bin/bash
TEMP = /tmp/user/1000
TMPDIR = /tmp/user/1000
Perl special variables (and OS-specific diagnostics, for MSWin32):
$^X = /home/njh/perl5/perlbrew/perls/perl-5.14.4/bin/perl5.14.4
$UID/$EUID = 1000 / 1000
$GID = 1000 4 24 25 29 30 44 46 108 1000
$EGID = 1000 4 24 25 29 30 44 46 108 1000
Perl module toolchain versions installed:
Module Have
------------------- --------
CPAN 2.25
CPAN::Meta 2.150005
Cwd 3.74
ExtUtils::CBuilder 0.280220
ExtUtils::Command 7.54
ExtUtils::Install 2.06
ExtUtils::MakeMaker 7.54
ExtUtils::Manifest 1.70
ExtUtils::ParseXS 3.30
File::Spec 3.74
JSON 4.02
JSON::PP 2.27400
Module::Build 0.4210
Module::Signature n/a
Parse::CPAN::Meta 1.4422
Test::Harness 3.36
Test::More 1.302183
YAML 1.30
YAML::Syck 1.32
version 0.9928
--
Summary of my perl5 (revision 5 version 14 subversion 4) configuration:
Platform:
osname=linux, osvers=3.16-3-amd64, archname=x86_64-linux-thread-multi
uname='linux nigelhorne.force9.co.uk 3.16-3-amd64 #1 smp debian 3.16.5-1 (2014-10-10) x86_64 gnulinux '
config_args='-de -Dprefix=/home/njh/perl5/perlbrew/perls/perl-5.14.4 -Duseithreads -Dusemultiplicity -Dusedevel -Accflags=-O2 -W -Wformat=2 -Wswitch -Wshadow -Wwrite-strings -Wuninitialized -Wall -pipe -mtune=native -march=native -fomit-frame-pointer -msse2 -msse -mmmx -mfpmath=sse -pedantic -D_FORTIFY_SOURCE=2 -Wpointer-arith -Wstrict-prototypes -fstack-protector -Wstack-protector -Wextra -Wbad-function-cast -Wcast-align -Wcast-qual -Wdisabled-optimization -Wendif-labels -Wfloat-equal -Wformat-nonliteral -Winline -Wmissing-declarations -Wmissing-prototypes -Wnested-externs -Wpointer-arith -Wundef -Wformat-security -ftree-vectorize -fdiagnostics-color=auto -Aeval:scriptdir=/home/njh/perl5/perlbrew/perls/perl-5.14.4/bin'
hint=recommended, useposix=true, d_sigaction=define
useithreads=define, usemultiplicity=define
useperlio=define, d_sfio=undef, uselargefiles=define, usesocks=undef
use64bitint=define, use64bitall=define, uselongdouble=undef
usemymalloc=n, bincompat5005=undef
Compiler:
cc='cc', ccflags ='-D_REENTRANT -D_GNU_SOURCE -O2 -W -Wformat=2 -Wswitch -Wshadow -Wwrite-strings -Wuninitialized -Wall -pipe -mtune=native -march=native -fomit-frame-pointer -msse2 -msse -mmmx -mfpmath=sse -pedantic -D_FORTIFY_SOURCE=2 -Wpointer-arith -Wstrict-prototypes -fstack-protector -Wstack-protector -Wextra -Wbad-function-cast -Wcast-align -Wcast-qual -Wdisabled-optimization -Wendif-labels -Wfloat-equal -Wformat-nonliteral -Winline -Wmissing-declarations -Wmissing-prototypes -Wnested-externs -Wpointer-arith -Wundef -Wformat-security -ftree-vectorize -fdiagnostics-color=auto -fno-strict-aliasing -I/usr/local/include -D_LARGEFILE_SOURCE -D_FILE_OFFSET_BITS=64',
optimize='-O2',
cppflags='-D_REENTRANT -D_GNU_SOURCE -O2 -W -Wformat=2 -Wswitch -Wshadow -Wwrite-strings -Wuninitialized -Wall -pipe -mtune=native -march=native -fomit-frame-pointer -msse2 -msse -mmmx -mfpmath=sse -pedantic -D_FORTIFY_SOURCE=2 -Wpointer-arith -Wstrict-prototypes -fstack-protector -Wstack-protector -Wextra -Wbad-function-cast -Wcast-align -Wcast-qual -Wdisabled-optimization -Wendif-labels -Wfloat-equal -Wformat-nonliteral -Winline -Wmissing-declarations -Wmissing-prototypes -Wnested-externs -Wpointer-arith -Wundef -Wformat-security -ftree-vectorize -fdiagnostics-color=auto -fno-strict-aliasing -I/usr/local/include'
ccversion='', gccversion='4.9.2', gccosandvers=''
intsize=4, longsize=8, ptrsize=8, doublesize=8, byteorder=12345678
d_longlong=define, longlongsize=8, d_longdbl=define, longdblsize=16
ivtype='long', ivsize=8, nvtype='double', nvsize=8, Off_t='off_t', lseeksize=8
alignbytes=8, prototype=define
Linker and Libraries:
ld='cc', ldflags =' -fstack-protector -L/usr/local/lib'
libpth=/usr/local/lib /lib/x86_64-linux-gnu /lib/../lib /usr/lib/x86_64-linux-gnu /usr/lib/../lib /lib /usr/lib
libs=-lnsl -lgdbm -ldb -ldl -lm -lcrypt -lutil -lpthread -lc -lgdbm_compat
perllibs=-lnsl -ldl -lm -lcrypt -lutil -lpthread -lc
libc=libc-2.19.so, so=so, useshrplib=false, libperl=libperl.a
gnulibc_version='2.19'
Dynamic Linking:
dlsrc=dl_dlopen.xs, dlext=so, d_dlsymun=undef, ccdlflags='-Wl,-E'
cccdlflags='-fPIC', lddlflags='-shared -O2 -L/usr/local/lib -fstack-protector'
Characteristics of this binary (from libperl):
Compile-time options: MULTIPLICITY PERL_DONT_CREATE_GVSV
PERL_IMPLICIT_CONTEXT PERL_MALLOC_WRAP
PERL_PRESERVE_IVUV PERL_USE_DEVEL USE_64_BIT_ALL
USE_64_BIT_INT USE_ITHREADS USE_LARGE_FILES
USE_PERLIO USE_PERL_ATOF USE_REENTRANT_API
Built under linux
Compiled at Nov 20 2014 15:26:45
%ENV:
PERL5LIB=""
PERL5OPT=""
PERL5_CPANPLUS_IS_RUNNING="2094098"
PERL5_CPAN_IS_RUNNING="2094098"
PERLBREW_HOME="/home/njh/.perlbrew"
PERLBREW_LIB=""
PERLBREW_MANPATH="/home/njh/perl5/perlbrew/perls/perl-5.14.4/man"
PERLBREW_PATH="/home/njh/perl5/perlbrew/bin:/home/njh/perl5/perlbrew/perls/perl-5.14.4/bin"
PERLBREW_PERL="perl-5.14.4"
PERLBREW_ROOT="/home/njh/perl5/perlbrew"
PERLBREW_SHELLRC_VERSION="0.86"
PERLBREW_VERSION="0.86"
PERL_LOCAL_LIB_ROOT=""
PERL_MM_USE_DEFAULT="1"
PERL_USE_UNSAFE_INC="1"
@INC:
/home/njh/perl5/perlbrew/perls/perl-5.14.4/lib/site_perl/5.14.4/x86_64-linux-thread-multi
/home/njh/perl5/perlbrew/perls/perl-5.14.4/lib/site_perl/5.14.4
/home/njh/perl5/perlbrew/perls/perl-5.14.4/lib/5.14.4/x86_64-linux-thread-multi
/home/njh/perl5/perlbrew/perls/perl-5.14.4/lib/5.14.4
.