Report for Mojolicious-Command-generate-lexicont-0.05

Back
From: metabase:user:314402c4-2aae-11df-837a-5e0a49663a4f
Subject: PASS Mojolicious-Command-generate-lexicont-0.05 v5.10.1 GNU/Linux
Date: 2015-04-17T13:35:23Z

This distribution has been tested as part of the CPAN Testers
project, supporting the Perl programming language.  See
http://wiki.cpantesters.org/ for more information or email
questions to cpan-testers-discuss@perl.org


--
Dear Tetsuya Tatsumi,

This is a computer-generated report for Mojolicious-Command-generate-lexicont-0.05
on perl 5.10.1, created by CPAN-Reporter-1.2011.

Thank you for uploading your work to CPAN.  Congratulations!
All tests were successful.

Sections of this report:

    * Tester comments
    * Program output
    * Prerequisites
    * Environment and other context

------------------------------
TESTER COMMENTS
------------------------------

Additional comments from tester:

none provided

------------------------------
PROGRAM OUTPUT
------------------------------

Output from './Build test':

t/args_0_1.t ....................... ok
t/args_2.t ......................... ok
t/args_3.t ......................... ok
t/cannot_translate.t ............... ok
t/config_file_read_error.t ......... ok
t/json_1.t ......................... ok
t/json_2.t ......................... ok
t/json_3.t ......................... ok
t/lingua_translate_create_error.t .. ok
t/org.t ............................ ok
t/src_lexicon_notfound.t ........... ok
All tests successful.
Files=11, Tests=62,  4 wallclock secs ( 0.07 usr  0.13 sys +  2.97 cusr  0.69 csys =  3.86 CPU)
Result: PASS

------------------------------
PREREQUISITES
------------------------------

Prerequisite modules loaded:

requires:

    Module              Need     Have    
    ------------------- -------- --------
    Config::PL          0        0.02    
    Encode              0        2.72    
    Module::Load        0        0.32    
    Mojo::Base          0        0       
    perl                5.008005 5.010001

build_requires:

    Module              Need     Have    
    ------------------- -------- --------
    JSON                0        2.90    
    Mojolicious         0        5.31    
    Test::Exception     0        0.38    
    Test::More          0        1.001014
    Test::Warn          0        0.30    

configure_requires:

    Module              Need     Have    
    ------------------- -------- --------
    CPAN::Meta          0        2.150001
    CPAN::Meta::Prereqs 0        2.150001
    Module::Build       0.38     0.4211  


------------------------------
ENVIRONMENT AND OTHER CONTEXT
------------------------------

Environment variables:

    DBIC_NO_WARN_BAD_PERL = 1
    LANG = C
    LC_ALL = de_DE.UTF-8
    PATH = /usr/local/bin:/usr/bin:/bin:/usr/local/sbin:/usr/sbin:/sbin:/home/eserte/bin/linux-gnu:/home/eserte/bin/sh:/home/eserte/bin:/usr/games:/home/eserte/devel:/home/eserte/src/srezic-misc/scripts
    PERL5LIB = /home/eserte/.cpan/build/App-PAUSE-TimeMachine-0.03-jplvkH/blib/arch:/home/eserte/.cpan/build/App-PAUSE-TimeMachine-0.03-jplvkH/blib/lib
    PERL5OPT = 
    PERL5_CPANPLUS_IS_RUNNING = 24778
    PERL5_CPAN_IS_RUNNING = 24778
    PERL5_CPAN_IS_RUNNING_IN_RECURSION = 24718,24778
    PERLDOC = -MPod::Perldoc::ToTextOverstrike
    PERL_BATCH = yes
    PERL_CPAN_REPORTER_CONFIG = /var/tmp/cpansmoker-1001/Rhun5pkoJA_config.ini
    PERL_EXTUTILS_AUTOINSTALL = --defaultdeps
    PERL_HTML_DISPLAY_CLASS = HTML::Display::Mozilla
    PERL_PARALLEL_SMOKER = yes
    SHELL = /bin/zsh
    TERM = screen
    TMPDIR = /var/tmp/cpansmoker-1001

Perl special variables (and OS-specific diagnostics, for MSWin32):

    $^X = /bbbike/perl-5.10.1/bin/perl5.10.1
    $UID/$EUID = 1001 / 1001
    $GID = 1001 109 1001
    $EGID = 1001 109 1001

Perl module toolchain versions installed:

    Module              Have    
    ------------------- --------
    CPAN                2.05    
    CPAN::Meta          2.150001
    Cwd                 3.47    
    ExtUtils::CBuilder  0.280219
    ExtUtils::Command   1.16    
    ExtUtils::Install   2.04    
    ExtUtils::MakeMaker 7.04    
    ExtUtils::Manifest  1.68    
    ExtUtils::ParseXS   3.24    
    File::Spec          3.47    
    JSON                2.90    
    JSON::PP            2.27203 
    Module::Build       0.4211  
    Module::Signature   0.78    
    Parse::CPAN::Meta   1.4414  
    Test::Harness       3.35    
    Test::More          1.001014
    YAML                1.14    
    YAML::Syck          1.29    
    version             0.9912  


--

Summary of my perl5 (revision 5 version 10 subversion 1) configuration:
   
  Platform:
    osname=linux, osvers=3.2.0-4-amd64, archname=x86_64-linux
    uname='linux eserte 3.2.0-4-amd64 #1 smp debian 3.2.60-1+deb7u3 x86_64 gnulinux '
    config_args='-ds -e -Dprefix=/opt/perl-5.10.1'
    hint=recommended, useposix=true, d_sigaction=define
    useithreads=undef, usemultiplicity=undef
    useperlio=define, d_sfio=undef, uselargefiles=define, usesocks=undef
    use64bitint=define, use64bitall=define, uselongdouble=undef
    usemymalloc=n, bincompat5005=undef
  Compiler:
    cc='cc', ccflags ='-fno-strict-aliasing -pipe -fstack-protector -I/usr/local/include -D_LARGEFILE_SOURCE -D_FILE_OFFSET_BITS=64',
    optimize='-O2',
    cppflags='-fno-strict-aliasing -pipe -fstack-protector -I/usr/local/include'
    ccversion='', gccversion='4.7.2', gccosandvers=''
    intsize=4, longsize=8, ptrsize=8, doublesize=8, byteorder=12345678
    d_longlong=define, longlongsize=8, d_longdbl=define, longdblsize=16
    ivtype='long', ivsize=8, nvtype='double', nvsize=8, Off_t='off_t', lseeksize=8
    alignbytes=8, prototype=define
  Linker and Libraries:
    ld='cc', ldflags =' -fstack-protector -L/usr/local/lib'
    libpth=/usr/local/lib /lib/x86_64-linux-gnu /lib/../lib /usr/lib/x86_64-linux-gnu /usr/lib/../lib /lib /usr/lib
    libs=-lnsl -ldb -ldl -lm -lcrypt -lutil -lc
    perllibs=-lnsl -ldl -lm -lcrypt -lutil -lc
    libc=libc-2.13.so, so=so, useshrplib=false, libperl=libperl.a
    gnulibc_version='2.13'
  Dynamic Linking:
    dlsrc=dl_dlopen.xs, dlext=so, d_dlsymun=undef, ccdlflags='-Wl,-E'
    cccdlflags='-fPIC', lddlflags='-shared -O2 -L/usr/local/lib -fstack-protector'


Characteristics of this binary (from libperl): 
  Compile-time options: PERL_DONT_CREATE_GVSV PERL_MALLOC_WRAP USE_64_BIT_ALL
                        USE_64_BIT_INT USE_LARGE_FILES USE_PERLIO
  Built under linux
  Compiled at Aug 18 2014 20:38:33
  %ENV:
    PERL5LIB="/home/eserte/.cpan/build/App-PAUSE-TimeMachine-0.03-jplvkH/blib/arch:/home/eserte/.cpan/build/App-PAUSE-TimeMachine-0.03-jplvkH/blib/lib"
    PERL5OPT=""
    PERL5_CPANPLUS_IS_RUNNING="24778"
    PERL5_CPAN_IS_RUNNING="24778"
    PERL5_CPAN_IS_RUNNING_IN_RECURSION="24718,24778"
    PERLDOC="-MPod::Perldoc::ToTextOverstrike"
    PERL_BATCH="yes"
    PERL_CPAN_REPORTER_CONFIG="/var/tmp/cpansmoker-1001/Rhun5pkoJA_config.ini"
    PERL_EXTUTILS_AUTOINSTALL="--defaultdeps"
    PERL_HTML_DISPLAY_CLASS="HTML::Display::Mozilla"
    PERL_PARALLEL_SMOKER="yes"
  @INC:
    /home/eserte/.cpan/build/App-PAUSE-TimeMachine-0.03-jplvkH/blib/arch
    /home/eserte/.cpan/build/App-PAUSE-TimeMachine-0.03-jplvkH/blib/lib
    /opt/perl-5.10.1/lib/5.10.1/x86_64-linux
    /opt/perl-5.10.1/lib/5.10.1
    /opt/perl-5.10.1/lib/site_perl/5.10.1/x86_64-linux
    /opt/perl-5.10.1/lib/site_perl/5.10.1
    .