IO-Stringy v2.113 Perl 5 v5.28.1 x86_64-linux-thread-multi

Status
Pass
From
Nigel Horne
Dist
IO-Stringy v2.113
Platform
Perl 5 v5.28.1 x86_64-linux-thread-multi
Date
2021-04-27 13:08:03
ID
99d09800-a759-11eb-a838-908a4d3a9635
This distribution has been tested as part of the CPAN Testers
project, supporting the Perl programming language.  See
http://wiki.cpantesters.org/ for more information or email
questions to cpan-testers-discuss@perl.org


--
Dear Chase Whitener,

This is a computer-generated report for IO-Stringy-2.113
on perl 5.28.1, created by CPAN-Reporter-1.2018.

Thank you for uploading your work to CPAN.  Congratulations!
All tests were successful.

Sections of this report:

    * Tester comments
    * Program output
    * Prerequisites
    * Environment and other context

------------------------------
TESTER COMMENTS
------------------------------

Additional comments from tester:

none provided

------------------------------
PROGRAM OUTPUT
------------------------------

Output from '/usr/bin/make test':

PERL_DL_NONLAZY=1 "/home/njh/perl5/perlbrew/perls/cperl-5.28.1/bin/cperl5.28.1" "-MExtUtils::Command::MM" "-MTest::Harness" "-e" "undef *Test::Harness::Switches; test_harness(0, 'blib/lib', 'blib/arch')" t/*.t
t/IO_Lines.t ........... ok
t/IO_Scalar.t .......... ok
t/IO_InnerFile.t ....... ok
t/IO_ScalarArray.t ..... ok
t/IO_WrapTie.t ......... ok
t/simple.t ............. ok
t/two.t ................ ok
# 
# Versions for all modules listed in MYMETA.json (including optional ones):
# 
# === Configure Requires ===
# 
#     Module              Want    Have
#     ------------------- ---- -------
#     ExtUtils::MakeMaker  any 8.35_06
# 
# === Build Requires ===
# 
#     Module              Want    Have
#     ------------------- ---- -------
#     ExtUtils::MakeMaker  any 8.35_06
# 
# === Test Requires ===
# 
#     Module              Want      Have
#     ------------------- ---- ---------
#     ExtUtils::MakeMaker  any   8.35_06
#     File::Basename       any      2.85
#     File::Spec           any     4.74c
#     File::Temp           any    0.2311
#     FileHandle           any      2.03
#     IO::File             any      1.45
#     IO::Handle           any      1.45
#     Symbol               any   1.08_01
#     Test::More          0.88 1.401015c
#     Test::Tester         any     0.114
#     strict               any     1.12c
#     warnings             any      1.42
# 
# === Test Recommends ===
# 
#     Module         Want      Have
#     ---------- -------- ---------
#     CPAN::Meta 2.120900 2.150010c
# 
# === Runtime Requires ===
# 
#     Module     Want     Have
#     ---------- ---- --------
#     Carp        any 1.45_01c
#     Exporter   5.57     5.73
#     File::Spec  any    4.74c
#     FileHandle  any     2.03
#     IO::File    any     1.45
#     IO::Handle  any     1.45
#     Symbol      any  1.08_01
#     overload    any     1.28
#     parent      any    0.237
#     strict      any    1.12c
#     warnings    any     1.42
# 
# 
# *** WARNING WARNING WARNING WARNING WARNING WARNING WARNING WARNING ***
# 
# The following REQUIRED prerequisites were not satisfied:
# 
# File::Spec version '4.74c' cannot be parsed (any version required)
# Test::More version '1.401015c' cannot be parsed (version '0.88' required)
# strict version '1.12c' cannot be parsed (any version required)
# Carp version '1.45_01c' cannot be parsed (any version required)
# File::Spec version '4.74c' cannot be parsed (any version required)
# strict version '1.12c' cannot be parsed (any version required)
# 
t/00-report-prereqs.t .. ok
All tests successful.
Files=8, Tests=127,  1 wallclock secs ( 0.03 usr  0.02 sys +  0.30 cusr  0.04 csys =  0.39 CPU)
Result: PASS

------------------------------
PREREQUISITES
------------------------------

Prerequisite modules loaded:

requires:

    Module              Need Have     
    ------------------- ---- ---------
    Carp                0    1.45_01c 
    Exporter            5.57 5.73     
    File::Spec          0    4.74c    
    FileHandle          0    2.03     
    IO::File            0    1.45     
    IO::Handle          0    1.45     
    overload            0    1.28     
    parent              0    0.237    
    strict              0    1.12c    
    Symbol              0    1.08_01  
    warnings            0    1.42     

build_requires:

    Module              Need Have     
    ------------------- ---- ---------
    ExtUtils::MakeMaker 0    8.35_06  
    File::Basename      0    2.85     
    File::Spec          0    4.74c    
    File::Temp          0    0.2311   
    FileHandle          0    2.03     
    IO::File            0    1.45     
    IO::Handle          0    1.45     
    strict              0    1.12c    
    Symbol              0    1.08_01  
    Test::More          0.88 1.401015c
    Test::Tester        0    0.114    
    warnings            0    1.42     

configure_requires:

    Module              Need Have     
    ------------------- ---- ---------
    ExtUtils::MakeMaker 0    8.35_06  


------------------------------
ENVIRONMENT AND OTHER CONTEXT
------------------------------

Environment variables:

    HARNESS_OPTIONS = j4:c
    LANG = en_GB.UTF-8
    LANGUAGE = en_GB:en
    LD_LIBRARY_PATH = /usr/local/lib::
    NONINTERACTIVE_TESTING = 1
    PATH = /home/njh/perl5/perlbrew/bin:/home/njh/perl5/perlbrew/perls/cperl-5.28.1/bin:/home/njh/perl5/perlbrew/bin:/usr/local/bin:/usr/bin:/bin:/usr/games:/home/njh/bin:/sbin:/home/njh/go/bin
    PERL5LIB = 
    PERL5OPT = 
    PERL5_CPANPLUS_IS_RUNNING = 3111448
    PERL5_CPAN_IS_RUNNING = 3111448
    PERLBREW_HOME = /home/njh/.perlbrew
    PERLBREW_LIB = 
    PERLBREW_MANPATH = /home/njh/perl5/perlbrew/perls/cperl-5.28.1/man
    PERLBREW_PATH = /home/njh/perl5/perlbrew/bin:/home/njh/perl5/perlbrew/perls/cperl-5.28.1/bin
    PERLBREW_PERL = cperl-5.28.1
    PERLBREW_ROOT = /home/njh/perl5/perlbrew
    PERLBREW_SHELLRC_VERSION = 0.86
    PERLBREW_VERSION = 0.86
    PERL_LOCAL_LIB_ROOT = 
    PERL_MM_USE_DEFAULT = 1
    PERL_USE_UNSAFE_INC = 1
    SHELL = /bin/bash
    TEMP = /tmp/user/1000
    TMPDIR = /tmp/user/1000

Perl special variables (and OS-specific diagnostics, for MSWin32):

    $^X = /home/njh/perl5/perlbrew/perls/cperl-5.28.1/bin/cperl5.28.1
    $UID/$EUID = 1000 / 1000
    $GID = 1000 4 24 25 29 30 44 46 108 1000
    $EGID = 1000 4 24 25 29 30 44 46 108 1000

Perl module toolchain versions installed:

    Module              Have     
    ------------------- ---------
    CPAN                2.28     
    CPAN::Meta          2.150010c
    Cwd                 4.75c    
    ExtUtils::CBuilder  0.280236 
    ExtUtils::Command   7.35_06  
    ExtUtils::Install   2.20     
    ExtUtils::MakeMaker 8.35_06  
    ExtUtils::Manifest  1.73     
    ExtUtils::ParseXS   3.39_03  
    File::Spec          4.74c    
    JSON                n/a      
    JSON::PP            4.06     
    Module::Build       0.4231   
    Module::Signature   n/a      
    Parse::CPAN::Meta   1.5000c  
    Test::Harness       3.42_01  
    Test::More          1.401015c
    YAML                1.30     
    YAML::Syck          1.34     
    version             0.9929   


--

Summary of my cperl (revision 5 version 28 subversion 1) configuration:
    
    git_branch=
  Platform:
    osname=linux, osvers=4.19.0-1-amd64, archname=x86_64-linux-thread-multi
    uname='linux gateway 4.19.0-1-amd64 #1 smp debian 4.19.12-1 (2018-12-22) x86_64 gnulinux '
    config_args='-de -Dprefix=/home/njh/perl5/perlbrew/perls/cperl-5.28.1 -Dusedevel -Dusethreads -Dusemultiplicity -Dusecperl -Accflags= -Aeval:scriptdir=/home/njh/perl5/perlbrew/perls/cperl-5.28.1/bin'
    hint=recommended, useposix=true, d_sigaction=define
    useithreads=define, usemultiplicity=define
    use64bitint=define, use64bitall=define, uselongdouble=undef
    usemymalloc=n, bincompat5005=undef default_inc_excludes_dot=define
  Compiler:
    cc='cc', ccflags ='-D_REENTRANT -D_GNU_SOURCE -fwrapv -fno-strict-aliasing -pipe -fstack-protector-strong -D_LARGEFILE_SOURCE -D_FILE_OFFSET_BITS=64 -D_FORTIFY_SOURCE=2',
    optimize='-O2 --pipe',
    cppflags='-D_REENTRANT -D_GNU_SOURCE -fwrapv -fno-strict-aliasing -pipe -fstack-protector-strong'
    ccversion='', gccversion='8.2.0', gccosandvers=''
    intsize=4, longsize=8, ptrsize=8, doublesize=8, byteorder=12345678, doublekind=3
    d_longlong=define, longlongsize=8, d_longdbl=define, longdblsize=16, longdblkind=3
    ivtype='long', ivsize=8, nvtype='double', nvsize=8, Off_t='off_t', lseeksize=8
    alignbytes=8
  Linker and Libraries:
    ld='cc', ldflags =' -fstack-protector-strong -L/usr/local/lib'
    libpth=/usr/lib/gcc/x86_64-linux-gnu/8 /usr/lib/x86_64-linux-gnu /usr/lib /lib/x86_64-linux-gnu /lib /usr/local/lib /lib64
    libs=-lpthread -lnsl -ldl -lm -lcrypt -lutil -lc
    perllibs=-lpthread -lnsl -ldl -lm -lcrypt -lutil -lc
    libc=libc-2.28.so, so=so, useshrplib=false, libperl=libperl.a
    gnulibc_version='2.28'
  Dynamic Linking:
    dlsrc=dl_dlopen.xs, dlext=so, d_dlsymun=undef, ccdlflags='-Wl,-E'
    cccdlflags='-fPIC', lddlflags='-shared -O2 --pipe -L/usr/local/lib -fstack-protector-strong'


Characteristics of this binary (from libperl): 
  Compile-time options: HAS_TIMES MULTIPLICITY PERLIO_LAYERS
                        PERL_COPY_ON_WRITE PERL_DONT_CREATE_GVSV
                        PERL_HASH_FUNC_FNV1A PERL_IMPLICIT_CONTEXT
                        PERL_MALLOC_WRAP PERL_OP_PARENT PERL_PERTURB_KEYS_TOP
                        PERL_PRESERVE_IVUV PERL_USE_DEVEL USE_64_BIT_ALL
                        USE_64_BIT_INT USE_CPERL USE_ITHREADS USE_LARGE_FILES
                        USE_LOCALE USE_LOCALE_COLLATE USE_LOCALE_CTYPE
                        USE_LOCALE_NUMERIC USE_LOCALE_TIME USE_PERLIO
                        USE_PERL_ATOF USE_REENTRANT_API
  Built under linux
  Compiled at Wed Jan 30 00:31:40 UTC 2019
  %ENV:
    PERL5LIB=""
    PERL5OPT=""
    PERL5_CPANPLUS_IS_RUNNING="3111448"
    PERL5_CPAN_IS_RUNNING="3111448"
    PERLBREW_HOME="/home/njh/.perlbrew"
    PERLBREW_LIB=""
    PERLBREW_MANPATH="/home/njh/perl5/perlbrew/perls/cperl-5.28.1/man"
    PERLBREW_PATH="/home/njh/perl5/perlbrew/bin:/home/njh/perl5/perlbrew/perls/cperl-5.28.1/bin"
    PERLBREW_PERL="cperl-5.28.1"
    PERLBREW_ROOT="/home/njh/perl5/perlbrew"
    PERLBREW_SHELLRC_VERSION="0.86"
    PERLBREW_VERSION="0.86"
    PERL_LOCAL_LIB_ROOT=""
    PERL_MM_USE_DEFAULT="1"
    PERL_USE_UNSAFE_INC="1"
  @INC:
    /home/njh/perl5/perlbrew/perls/cperl-5.28.1/lib/site_cperl/5.28.1/x86_64-linux-thread-multi
    /home/njh/perl5/perlbrew/perls/cperl-5.28.1/lib/site_cperl/5.28.1
    /home/njh/perl5/perlbrew/perls/cperl-5.28.1/lib/5.28.1/x86_64-linux-thread-multi
    /home/njh/perl5/perlbrew/perls/cperl-5.28.1/lib/5.28.1
    .