PadWalker v2.5 Perl 5 v5.32.1 evbarm-netbsd
- Status
- Pass
- From
- Nigel Horne
- Dist
-
PadWalker v2.5
- Platform
- Perl 5 v5.32.1 evbarm-netbsd
- Date
- 2021-04-23 16:04:36
- ID
- 99d1388c-a44d-11eb-b9b9-ae8dc53e9e45
This distribution has been tested as part of the CPAN Testers
project, supporting the Perl programming language. See
http://wiki.cpantesters.org/ for more information or email
questions to cpan-testers-discuss@perl.org
--
Dear Robin Houston,
This is a computer-generated report for PadWalker-2.5
on perl 5.32.1, created by CPAN-Reporter-1.2018.
Thank you for uploading your work to CPAN. Congratulations!
All tests were successful.
Sections of this report:
* Tester comments
* Program output
* Prerequisites
* Environment and other context
------------------------------
TESTER COMMENTS
------------------------------
Additional comments from tester:
none provided
------------------------------
PROGRAM OUTPUT
------------------------------
Output from '/usr/bin/make test':
"/mnt/nas/home/pi2c/njh/perl5/perlbrew/perls/perl-5.32.1/bin/perl5.32.1" -MExtUtils::Command::MM -e 'cp_nonempty' -- PadWalker.bs blib/arch/auto/PadWalker/PadWalker.bs 644
PERL_DL_NONLAZY=1 "/mnt/nas/home/pi2c/njh/perl5/perlbrew/perls/perl-5.32.1/bin/perl5.32.1" "-MExtUtils::Command::MM" "-MTest::Harness" "-e" "undef *Test::Harness::Switches; test_harness(0, 'blib/lib', 'blib/arch')" t/*.t
"my" variable $blah masks earlier declaration in same scope at t/closure.t line 57.
t/closure.t ... ok
"my" variable $x masks earlier declaration in same scope at t/dm.t line 58.
"our" variable $x masks earlier declaration in same scope at t/dm.t line 63.
t/dm.t ........ ok
"my" variable $h masks earlier declaration in same scope at t/our.t line 12.
t/our.t ....... ok
t/recurse.t ... ok
t/sub.t ....... ok
t/foo.t ....... ok
t/test.t ...... ok
t/tt.t ........ ok
"my" variable $foo masks earlier declaration in same scope at t/var_name.t line 13.
t/var_name.t .. ok
All tests successful.
Files=9, Tests=82, 1 wallclock secs ( 0.42 usr 0.24 sys + 0.90 cusr 0.69 csys = 2.25 CPU)
Result: PASS
------------------------------
PREREQUISITES
------------------------------
Prerequisite modules loaded:
requires:
Module Need Have
------------------- -------- --------
perl 5.008001 5.032001
build_requires:
Module Need Have
------------------- -------- --------
ExtUtils::MakeMaker 0 7.44
configure_requires:
Module Need Have
------------------- -------- --------
ExtUtils::MakeMaker 0 7.44
------------------------------
ENVIRONMENT AND OTHER CONTEXT
------------------------------
Environment variables:
HARNESS_OPTIONS = j4:c
LD_LIBRARY_PATH = /usr/local/lib:
NONINTERACTIVE_TESTING = 1
PATH = /home/njh/perl5/perlbrew/bin:/home/njh/perl5/perlbrew/perls/perl-5.32.1/bin:/home/njh/perl5/perlbrew/bin:/usr/bin:/bin:/usr/pkg/bin:/usr/local/bin:/home/njh/bin:/mnt/nas/export/bin
PERL5LIB =
PERL5OPT =
PERL5_CPANPLUS_IS_RUNNING = 8781
PERL5_CPAN_IS_RUNNING = 8781
PERLBREW_HOME = /home/njh/.perlbrew
PERLBREW_LIB =
PERLBREW_MANPATH = /home/njh/perl5/perlbrew/perls/perl-5.32.1/man
PERLBREW_PATH = /home/njh/perl5/perlbrew/bin:/home/njh/perl5/perlbrew/perls/perl-5.32.1/bin
PERLBREW_PERL = perl-5.32.1
PERLBREW_ROOT = /home/njh/perl5/perlbrew
PERLBREW_SHELLRC_VERSION = 0.91
PERLBREW_VERSION = 0.91
PERL_LOCAL_LIB_ROOT =
PERL_MM_USE_DEFAULT = 1
PERL_USE_UNSAFE_INC = 1
SHELL = /usr/pkg/bin/bash
TMPDIR = /home/njh/tmp
Perl special variables (and OS-specific diagnostics, for MSWin32):
$^X = /mnt/nas/home/pi2c/njh/perl5/perlbrew/perls/perl-5.32.1/bin/perl5.32.1
$UID/$EUID = 1000 / 1000
$GID = 100 100
$EGID = 100 100
Perl module toolchain versions installed:
Module Have
------------------- --------
CPAN 2.28
CPAN::Meta 2.150010
Cwd 3.78
ExtUtils::CBuilder 0.280234
ExtUtils::Command 7.44
ExtUtils::Install 2.14
ExtUtils::MakeMaker 7.44
ExtUtils::Manifest 1.73
ExtUtils::ParseXS 3.40
File::Spec 3.78
JSON 4.03
JSON::PP 4.06
Module::Build 0.4231
Module::Signature n/a
Parse::CPAN::Meta 2.150010
Test::Harness 3.42
Test::More 1.302183
YAML 1.30
YAML::Syck 1.34
version 0.9928
--
Summary of my perl5 (revision 5 version 32 subversion 1) configuration:
Platform:
osname=netbsd
osvers=8.0_beta
archname=evbarm-netbsd
uname='netbsd pi2c.bandsman.co.uk 8.0_beta netbsd 8.0_beta (rpi2.201710161240z) evbarm '
config_args='-de -Dprefix=/home/njh/perl5/perlbrew/perls/perl-5.32.1 -Dusedevel -Accflags=-O2 -W -Wformat=2 -Wswitch -Wshadow -Wwrite-strings -Wuninitialized -Wall -pipe -fomit-frame-pointer -D_FORTIFY_SOURCE=2 -Wpointer-arith -Wstrict-prototypes -fstack-protector -Wstack-protector -Wextra -Wbad-function-cast -Wcast-align -Wcast-qual -Wdisabled-optimization -Wendif-labels -Wfloat-equal -Wformat-nonliteral -Winline -Wmissing-declarations -Wmissing-prototypes -Wnested-externs -Wpointer-arith -Wundef -Wformat-security -mfpu=neon-vfpv4 -mfloat-abi=hard -mtune=cortex-a7 -Aeval:scriptdir=/home/njh/perl5/perlbrew/perls/perl-5.32.1/bin'
hint=recommended
useposix=true
d_sigaction=define
useithreads=undef
usemultiplicity=undef
use64bitint=undef
use64bitall=undef
uselongdouble=undef
usemymalloc=n
default_inc_excludes_dot=define
bincompat5005=undef
Compiler:
cc='cc'
ccflags ='-O2 -W -Wformat=2 -Wswitch -Wshadow -Wwrite-strings -Wuninitialized -Wall -pipe -fomit-frame-pointer -D_FORTIFY_SOURCE=2 -Wpointer-arith -Wstrict-prototypes -fstack-protector -Wstack-protector -Wextra -Wbad-function-cast -Wcast-align -Wcast-qual -Wdisabled-optimization -Wendif-labels -Wfloat-equal -Wformat-nonliteral -Winline -Wmissing-declarations -Wmissing-prototypes -Wnested-externs -Wpointer-arith -Wundef -Wformat-security -mfpu=neon-vfpv4 -mfloat-abi=hard -mtune=cortex-a7 -fwrapv -fno-strict-aliasing -fstack-protector-strong -I/usr/pkg/include'
optimize='-O'
cppflags='-O2 -W -Wformat=2 -Wswitch -Wshadow -Wwrite-strings -Wuninitialized -Wall -pipe -fomit-frame-pointer -D_FORTIFY_SOURCE=2 -Wpointer-arith -Wstrict-prototypes -fstack-protector -Wstack-protector -Wextra -Wbad-function-cast -Wcast-align -Wcast-qual -Wdisabled-optimization -Wendif-labels -Wfloat-equal -Wformat-nonliteral -Winline -Wmissing-declarations -Wmissing-prototypes -Wnested-externs -Wpointer-arith -Wundef -Wformat-security -mfpu=neon-vfpv4 -mfloat-abi=hard -mtune=cortex-a7 -fwrapv -fno-strict-aliasing -fstack-protector-strong -I/usr/pkg/include'
ccversion=''
gccversion='5.5.0'
gccosandvers=''
intsize=4
longsize=4
ptrsize=4
doublesize=8
byteorder=1234
doublekind=3
d_longlong=define
longlongsize=8
d_longdbl=define
longdblsize=8
longdblkind=0
ivtype='long'
ivsize=4
nvtype='double'
nvsize=8
Off_t='off_t'
lseeksize=8
alignbytes=8
prototype=define
Linker and Libraries:
ld='cc'
ldflags =' -Wl,-rpath,/usr/pkg/lib -Wl,-rpath,/usr/local/lib -fstack-protector-strong -L/usr/pkg/lib'
libpth=/usr/include/gcc-5 /usr/lib /usr/pkg/lib /lib
libs=-lpthread -lm -lcrypt -lutil -lc -lposix
perllibs=-lpthread -lm -lcrypt -lutil -lc -lposix
libc=/lib/libc.so
so=so
useshrplib=false
libperl=libperl.a
gnulibc_version=''
Dynamic Linking:
dlsrc=dl_dlopen.xs
dlext=so
d_dlsymun=undef
ccdlflags='-Wl,-E '
cccdlflags='-DPIC -fPIC '
lddlflags='-shared -L/usr/pkg/lib -fstack-protector-strong'
Characteristics of this binary (from libperl):
Compile-time options:
HAS_TIMES
PERLIO_LAYERS
PERL_COPY_ON_WRITE
PERL_DONT_CREATE_GVSV
PERL_MALLOC_WRAP
PERL_OP_PARENT
PERL_PRESERVE_IVUV
PERL_USE_DEVEL
USE_LARGE_FILES
USE_LOCALE
USE_LOCALE_COLLATE
USE_LOCALE_CTYPE
USE_LOCALE_NUMERIC
USE_LOCALE_TIME
USE_PERLIO
USE_PERL_ATOF
Locally applied patches:
Devel::PatchPerl 1.52
Built under netbsd
Compiled at Feb 3 2021 15:07:10
%ENV:
PERL5LIB=""
PERL5OPT=""
PERL5_CPANPLUS_IS_RUNNING="8781"
PERL5_CPAN_IS_RUNNING="8781"
PERLBREW_HOME="/home/njh/.perlbrew"
PERLBREW_LIB=""
PERLBREW_MANPATH="/home/njh/perl5/perlbrew/perls/perl-5.32.1/man"
PERLBREW_PATH="/home/njh/perl5/perlbrew/bin:/home/njh/perl5/perlbrew/perls/perl-5.32.1/bin"
PERLBREW_PERL="perl-5.32.1"
PERLBREW_ROOT="/home/njh/perl5/perlbrew"
PERLBREW_SHELLRC_VERSION="0.91"
PERLBREW_VERSION="0.91"
PERL_LOCAL_LIB_ROOT=""
PERL_MM_USE_DEFAULT="1"
PERL_USE_UNSAFE_INC="1"
@INC:
/home/njh/perl5/perlbrew/perls/perl-5.32.1/lib/site_perl/5.32.1/evbarm-netbsd
/home/njh/perl5/perlbrew/perls/perl-5.32.1/lib/site_perl/5.32.1
/home/njh/perl5/perlbrew/perls/perl-5.32.1/lib/5.32.1/evbarm-netbsd
/home/njh/perl5/perlbrew/perls/perl-5.32.1/lib/5.32.1
.