Report for Test-Settings-0.003

Back
From: metabase:user:30f4dfbe-2aae-11df-837a-5e0a49663a4f
Subject: PASS Test-Settings-0.003 v5.8.1 NetBSD
Date: 2017-07-20T22:27:23Z

This distribution has been tested as part of the CPAN Testers
project, supporting the Perl programming language.  See
http://wiki.cpantesters.org/ for more information or email
questions to cpan-testers-discuss@perl.org


--
Dear Matthew Horsfall (alh),

This is a computer-generated report for Test-Settings-0.003
on perl 5.8.1, created by CPAN-Reporter-1.2018.

Thank you for uploading your work to CPAN.  Congratulations!
All tests were successful.

Sections of this report:

    * Tester comments
    * Program output
    * Prerequisites
    * Environment and other context

------------------------------
TESTER COMMENTS
------------------------------

Additional comments from tester:

this report is from an automated smoke testing program
and was not reviewed by a human for accuracy

------------------------------
PROGRAM OUTPUT
------------------------------

Output from '/usr/bin/make test':

PERL_DL_NONLAZY=1 "/home/njh/perl5/perlbrew/perls/perl-5.8.1/bin/perl" "-MExtUtils::Command::MM" "-MTest::Harness" "-e" "undef *Test::Harness::Switches; test_harness(0, 'blib/lib', 'blib/arch')" t/*.t
t/00_env.t .............. ok
t/01_cmd.t .............. ok
t/release-pod-syntax.t .. skipped: these tests are for release candidate testing
All tests successful.
Files=3, Tests=47, 27 wallclock secs ( 0.31 usr  0.30 sys + 10.75 cusr 13.62 csys = 24.98 CPU)
Result: PASS

------------------------------
PREREQUISITES
------------------------------

Prerequisite modules loaded:

build_requires:

    Module              Need Have    
    ------------------- ---- --------
    Test::More          0.88 1.302073

configure_requires:

    Module              Need Have    
    ------------------- ---- --------
    ExtUtils::MakeMaker 6.30 7.24    


------------------------------
ENVIRONMENT AND OTHER CONTEXT
------------------------------

Environment variables:

    AUTOMATED_TESTING = 1
    PATH = /home/njh/perl5/perlbrew/bin:/home/njh/perl5/perlbrew/perls/perl-5.8.1/bin:/home/njh/perl5/perlbrew/bin:/usr/bin:/bin:/usr/pkg/bin:/usr/local/bin
    PERL5LIB = /home/njh/.cpan/build/SOAP-Lite-1.20-1/blib/arch:/home/njh/.cpan/build/SOAP-Lite-1.20-1/blib/lib:/home/njh/.cpan/build/XML-Parser-Lite-0.721-1/blib/arch:/home/njh/.cpan/build/XML-Parser-Lite-0.721-1/blib/lib:/home/njh/.cpan/build/XML-Parser-2.44-1/blib/arch:/home/njh/.cpan/build/XML-Parser-2.44-1/blib/lib:/home/njh/.cpan/build/IO-SessionData-1.03-1/blib/arch:/home/njh/.cpan/build/IO-SessionData-1.03-1/blib/lib:/home/njh/.cpan/build/Class-Inspector-1.31-1/blib/arch:/home/njh/.cpan/build/Class-Inspector-1.31-1/blib/lib:/home/njh/.cpan/build/podlinkcheck-15-1/blib/arch:/home/njh/.cpan/build/podlinkcheck-15-1/blib/lib:/home/njh/.cpan/build/constant-defer-6-1/blib/arch:/home/njh/.cpan/build/constant-defer-6-1/blib/lib:/home/njh/.cpan/build/libintl-perl-1.26-1/blib/arch:/home/njh/.cpan/build/libintl-perl-1.26-1/blib/lib:/home/njh/.cpan/build/File-Find-Iterator-0.4-1/blib/arch:/home/njh/.cpan/build/File-Find-Iterator-0.4-1/blib/lib:/home/njh/.cpan/build/Class-Iterator-0.3-1/blib/arch:/home/njh/.cpan/build/Class-Iterator-0.3-1/blib/lib
    PERL5OPT = 
    PERL5_CPANPLUS_IS_RUNNING = 24936
    PERL5_CPAN_IS_RUNNING = 24936
    PERLBREW_BASHRC_VERSION = 0.78
    PERLBREW_HOME = /home/njh/.perlbrew
    PERLBREW_LIB = 
    PERLBREW_MANPATH = /home/njh/perl5/perlbrew/perls/perl-5.8.1/man
    PERLBREW_PATH = /home/njh/perl5/perlbrew/bin:/home/njh/perl5/perlbrew/perls/perl-5.8.1/bin
    PERLBREW_PERL = perl-5.8.1
    PERLBREW_ROOT = /home/njh/perl5/perlbrew
    PERLBREW_VERSION = 0.78
    PERL_LOCAL_LIB_ROOT = 
    SHELL = /bin/sh
    TMPDIR = /home/njh/tmp

Perl special variables (and OS-specific diagnostics, for MSWin32):

    $^X = /home/njh/perl5/perlbrew/perls/perl-5.8.1/bin/perl
    $UID/$EUID = 1000 / 1000
    $GID = 1000 0 1000
    $EGID = 1000 0 1000

Perl module toolchain versions installed:

    Module              Have    
    ------------------- --------
    CPAN                2.16    
    CPAN::Meta          2.150010
    Cwd                 3.62    
    ExtUtils::CBuilder  0.280224
    ExtUtils::Command   7.24    
    ExtUtils::Install   2.04    
    ExtUtils::MakeMaker 7.24    
    ExtUtils::Manifest  1.70    
    ExtUtils::ParseXS   3.30    
    File::Spec          3.62    
    JSON                2.90    
    JSON::PP            2.27400 
    Module::Build       0.4220  
    Module::Signature   n/a     
    Parse::CPAN::Meta   2.150010
    Test::Harness       3.36    
    Test::More          1.302073
    YAML                1.23    
    YAML::Syck          1.30    
    version             0.9917  


--

Summary of my perl5 (revision 5.0 version 8 subversion 1) configuration:
  Platform:
    osname=netbsd, osvers=7.0.2_patch, archname=evbarm-netbsd-thread-multi
    uname='netbsd pi2c.bandsman.co.uk 7.0.2_patch netbsd 7.0.2_patch (rpi2.201612281350z) evbarm '
    config_args='-de -Dprefix=/home/njh/perl5/perlbrew/perls/perl-5.8.1 -Duseithreads -Dusemultiplicity -Dusedevel -Accflags=-O2 -W -Wformat=2 -Wswitch -Wshadow -Wwrite-strings -Wuninitialized -Wall -pipe -fomit-frame-pointer -D_FORTIFY_SOURCE=2 -Wpointer-arith -Wstrict-prototypes -fstack-protector -Wstack-protector -Wextra -Wbad-function-cast -Wcast-align -Wcast-qual -Wdisabled-optimization -Wendif-labels -Wfloat-equal -Wformat-nonliteral -Winline -Wmissing-declarations -Wmissing-prototypes -Wnested-externs -Wpointer-arith -Wundef -Wformat-security -mtune=cortex-a7 -mfpu=vfp -mfloat-abi=hard -Aeval:scriptdir=/home/njh/perl5/perlbrew/perls/perl-5.8.1/bin'
    hint=recommended, useposix=true, d_sigaction=define
    usethreads=define use5005threads=undef useithreads=define usemultiplicity=define
    useperlio=define d_sfio=undef uselargefiles=define usesocks=undef
    use64bitint=undef use64bitall=undef uselongdouble=undef
    usemymalloc=n, bincompat5005=undef
  Compiler:
    cc='cc', ccflags ='-O2 -W -Wformat=2 -Wswitch -Wshadow -Wwrite-strings -Wuninitialized -Wall -pipe -fomit-frame-pointer -D_FORTIFY_SOURCE=2 -Wpointer-arith -Wstrict-prototypes -fstack-protector -Wstack-protector -Wextra -Wbad-function-cast -Wcast-align -Wcast-qual -Wdisabled-optimization -Wendif-labels -Wfloat-equal -Wformat-nonliteral -Winline -Wmissing-declarations -Wmissing-prototypes -Wnested-externs -Wpointer-arith -Wundef -Wformat-security -mtune=cortex-a7 -mfpu=vfp -mfloat-abi=hard -fno-strict-aliasing -I/usr/pkg/include',
    optimize='-O',
    cppflags='-O2 -W -Wformat=2 -Wswitch -Wshadow -Wwrite-strings -Wuninitialized -Wall -pipe -fomit-frame-pointer -D_FORTIFY_SOURCE=2 -Wpointer-arith -Wstrict-prototypes -fstack-protector -Wstack-protector -Wextra -Wbad-function-cast -Wcast-align -Wcast-qual -Wdisabled-optimization -Wendif-labels -Wfloat-equal -Wformat-nonliteral -Winline -Wmissing-declarations -Wmissing-prototypes -Wnested-externs -Wpointer-arith -Wundef -Wformat-security -mtune=cortex-a7 -mfpu=vfp -mfloat-abi=hard -fno-strict-aliasing -I/usr/pkg/include'
    ccversion='', gccversion='4.8.4', gccosandvers=''
    intsize=4, longsize=4, ptrsize=4, doublesize=8, byteorder=1234
    d_longlong=define, longlongsize=8, d_longdbl=define, longdblsize=8
    ivtype='long', ivsize=4, nvtype='double', nvsize=8, Off_t='off_t', lseeksize=8
    alignbytes=8, prototype=define
  Linker and Libraries:
    ld='cc', ldflags =' -Wl,-rpath,/usr/pkg/lib -Wl,-rpath,/usr/local/lib -L/usr/pkg/lib'
    libpth=/usr/pkg/lib /lib /usr/lib
    libs=-lm -lcrypt -lutil -lc -lposix -lpthread
    perllibs=-lm -lcrypt -lutil -lc -lposix -lpthread
    libc=/lib/libc.so, so=so, useshrplib=false, libperl=libperl.a
    gnulibc_version=''
  Dynamic Linking:
    dlsrc=dl_dlopen.xs, dlext=so, d_dlsymun=undef, ccdlflags='-Wl,-E '
    cccdlflags='-DPIC -fPIC ', lddlflags='-shared  -L/usr/pkg/lib'


Characteristics of this binary (from libperl): 
  Compile-time options: MULTIPLICITY USE_ITHREADS USE_LARGE_FILES PERL_IMPLICIT_CONTEXT
  Locally applied patches:
  	Devel::PatchPerl 1.38
  Built under netbsd
  Compiled at Dec 30 2016 17:17:25
  %ENV:
    PERL5LIB="/home/njh/.cpan/build/SOAP-Lite-1.20-1/blib/arch:/home/njh/.cpan/build/SOAP-Lite-1.20-1/blib/lib:/home/njh/.cpan/build/XML-Parser-Lite-0.721-1/blib/arch:/home/njh/.cpan/build/XML-Parser-Lite-0.721-1/blib/lib:/home/njh/.cpan/build/XML-Parser-2.44-1/blib/arch:/home/njh/.cpan/build/XML-Parser-2.44-1/blib/lib:/home/njh/.cpan/build/IO-SessionData-1.03-1/blib/arch:/home/njh/.cpan/build/IO-SessionData-1.03-1/blib/lib:/home/njh/.cpan/build/Class-Inspector-1.31-1/blib/arch:/home/njh/.cpan/build/Class-Inspector-1.31-1/blib/lib:/home/njh/.cpan/build/podlinkcheck-15-1/blib/arch:/home/njh/.cpan/build/podlinkcheck-15-1/blib/lib:/home/njh/.cpan/build/constant-defer-6-1/blib/arch:/home/njh/.cpan/build/constant-defer-6-1/blib/lib:/home/njh/.cpan/build/libintl-perl-1.26-1/blib/arch:/home/njh/.cpan/build/libintl-perl-1.26-1/blib/lib:/home/njh/.cpan/build/File-Find-Iterator-0.4-1/blib/arch:/home/njh/.cpan/build/File-Find-Iterator-0.4-1/blib/lib:/home/njh/.cpan/build/Class-Iterator-0.3-1/blib/arch:/home/njh/.cpan/build/Class-Iterator-0.3-1/blib/lib"
    PERL5OPT=""
    PERL5_CPANPLUS_IS_RUNNING="24936"
    PERL5_CPAN_IS_RUNNING="24936"
    PERLBREW_BASHRC_VERSION="0.78"
    PERLBREW_HOME="/home/njh/.perlbrew"
    PERLBREW_LIB=""
    PERLBREW_MANPATH="/home/njh/perl5/perlbrew/perls/perl-5.8.1/man"
    PERLBREW_PATH="/home/njh/perl5/perlbrew/bin:/home/njh/perl5/perlbrew/perls/perl-5.8.1/bin"
    PERLBREW_PERL="perl-5.8.1"
    PERLBREW_ROOT="/home/njh/perl5/perlbrew"
    PERLBREW_VERSION="0.78"
    PERL_LOCAL_LIB_ROOT=""
  @INC:
    /home/njh/.cpan/build/SOAP-Lite-1.20-1/blib/arch
    /home/njh/.cpan/build/SOAP-Lite-1.20-1/blib/lib
    /home/njh/.cpan/build/XML-Parser-Lite-0.721-1/blib/arch
    /home/njh/.cpan/build/XML-Parser-Lite-0.721-1/blib/lib
    /home/njh/.cpan/build/XML-Parser-2.44-1/blib/arch
    /home/njh/.cpan/build/XML-Parser-2.44-1/blib/lib
    /home/njh/.cpan/build/IO-SessionData-1.03-1/blib/arch
    /home/njh/.cpan/build/IO-SessionData-1.03-1/blib/lib
    /home/njh/.cpan/build/Class-Inspector-1.31-1/blib/arch
    /home/njh/.cpan/build/Class-Inspector-1.31-1/blib/lib
    /home/njh/.cpan/build/podlinkcheck-15-1/blib/arch
    /home/njh/.cpan/build/podlinkcheck-15-1/blib/lib
    /home/njh/.cpan/build/constant-defer-6-1/blib/arch
    /home/njh/.cpan/build/constant-defer-6-1/blib/lib
    /home/njh/.cpan/build/libintl-perl-1.26-1/blib/arch
    /home/njh/.cpan/build/libintl-perl-1.26-1/blib/lib
    /home/njh/.cpan/build/File-Find-Iterator-0.4-1/blib/arch
    /home/njh/.cpan/build/File-Find-Iterator-0.4-1/blib/lib
    /home/njh/.cpan/build/Class-Iterator-0.3-1/blib/arch
    /home/njh/.cpan/build/Class-Iterator-0.3-1/blib/lib
    /home/njh/perl5/perlbrew/perls/perl-5.8.1/lib/5.8.1/evbarm-netbsd-thread-multi
    /home/njh/perl5/perlbrew/perls/perl-5.8.1/lib/5.8.1
    /home/njh/perl5/perlbrew/perls/perl-5.8.1/lib/site_perl/5.8.1/evbarm-netbsd-thread-multi
    /home/njh/perl5/perlbrew/perls/perl-5.8.1/lib/site_perl/5.8.1
    /home/njh/perl5/perlbrew/perls/perl-5.8.1/lib/site_perl
    .