CPAN-SQLite v0.215 Perl 5 v5.18.0 amd64-freebsd-thread-multi
- Status
- Pass
- From
- Nigel Horne
- Dist
-
CPAN-SQLite v0.215
- Platform
- Perl 5 v5.18.0 amd64-freebsd-thread-multi
- Date
- 2019-01-24 20:28:26
- ID
- 9a599fdc-2016-11e9-b3bd-8a932d9bfb17
This distribution has been tested as part of the CPAN Testers
project, supporting the Perl programming language. See
http://wiki.cpantesters.org/ for more information or email
questions to cpan-testers-discuss@perl.org
--
Dear Serguei Trouchelle,
This is a computer-generated report for CPAN-SQLite-0.215
on perl 5.18.0, created by CPAN-Reporter-1.2018.
Thank you for uploading your work to CPAN. Congratulations!
All tests were successful.
Sections of this report:
* Tester comments
* Program output
* Prerequisites
* Environment and other context
------------------------------
TESTER COMMENTS
------------------------------
Additional comments from tester:
none provided
------------------------------
PROGRAM OUTPUT
------------------------------
Output from '/usr/bin/make test':
PERL_DL_NONLAZY=1 "/mnt/nas/home/netgate3/njh/perl5/perlbrew/perls/perl-5.18.0-thread/bin/perl5.18.0" "-MExtUtils::Command::MM" "-MTest::Harness" "-e" "undef *Test::Harness::Switches; test_harness(0, 'blib/lib', 'blib/arch')" t/*.t
t/00-all_prereqs.t ............... ok
t/00-compile.t ................... ok
#
# Versions for all modules listed in MYMETA.json (including optional ones):
#
# === Configure Requires ===
#
# Module Want Have
# ------------------- ---- ----
# ExtUtils::MakeMaker any 7.34
#
# === Build Requires ===
#
# Module Want Have
# ------------------- ---- ----
# ExtUtils::MakeMaker any 7.34
#
# === Test Requires ===
#
# Module Want Have
# ------------------- ---- --------
# CPAN::HandleConfig any 5.5008
# CPAN::Version any 5.5003
# Carp any 1.29
# DBD::SQLite any 1.58
# ExtUtils::MakeMaker any 7.34
# File::Copy any 2.26
# File::Spec any 3.40
# FindBin any 1.51
# IO::Handle any 1.34
# IPC::Open3 any 1.13
# Test::Memory::Cycle any 1.06
# Test::More 0.94 1.302140
# base any 2.18
# lib any 0.63
#
# === Test Recommends ===
#
# Module Want Have
# ---------- -------- --------
# CPAN::Meta 2.120900 2.150010
#
# === Runtime Requires ===
#
# Module Want Have
# --------------------- ---- -----
# Archive::Tar 1.54 2.32
# CPAN any 2.22
# CPAN::DistnameInfo 0.09 0.12
# CPAN::Index 1.93 2.12
# Compress::Zlib any 2.060
# Cwd any 3.40
# DBD::SQLite 1.27 1.58
# DBI any 1.641
# English any 1.06
# Exporter any 5.68
# File::Basename any 2.84
# File::Find any 1.23
# File::HomeDir any 1.004
# File::Path any 2.09
# File::Spec any 3.40
# File::Spec::Functions any 3.40
# Getopt::Long any 2.39
# HTTP::Tiny any 0.025
# IO::Zlib any 1.10
# Safe any 2.35
# Scalar::Util any 1.27
# Test::Harness 3.31 3.42
# constant any 1.27
# parent any 0.225
# strict any 1.07
# utf8 any 1.10
# warnings any 1.18
#
t/00-report-prereqs.t ............ ok
# Testing with Perl 5.018000, /mnt/nas/home/netgate3/njh/perl5/perlbrew/perls/perl-5.18.0-thread/bin/perl5.18.0
# CPAN version is 2.22
# CPAN::DistnameInfo version is 0.12
# CPAN::HandleConfig version is 5.5008
# CPAN::Version version is 5.5003
# Carp version is 1.29
# Compress::Zlib version is 2.06
# Cwd version is 3.40
# DBD::SQLite version is 1.58
# DBI version is 1.641
# English version is 1.06
# Exporter version is 5.68
# ExtUtils::MakeMaker version is 7.34
# File::Basename version is 2.84
# File::Copy version is 2.26
# File::Find version is 1.23
# File::HomeDir version is 1.004
# File::Path version is 2.09
# File::Spec version is 3.40
# File::Spec::Functions version is 3.40
# FindBin version is 1.51
# Getopt::Long version is 2.39
# HTTP::Tiny version is 0.025
# IO::Handle version is 1.34
# IPC::Open3 version is 1.13
# Safe version is 2.35
# Scalar::Util version is 1.27
# Test::Memory::Cycle version is 1.06
# Test::More version is 1.302140
# base version is 2.18
# constant version is 1.27
# lib version is 0.63
# parent version is 0.225
# strict version is 1.07
# utf8 version is 1.10
# warnings version is 1.18
t/000-report-versions.t .......... ok
t/01basic.t ...................... ok
t/02drop.t ....................... ok
t/03info.t ....................... ok
t/04search.t ..................... ok
t/04search_everything.t .......... ok
t/05meta_new.t ................... ok
t/05meta_update.t ................ ok
t/06retrieve.t ................... ok
t/07download.t ................... ok
t/08circular_references.t ........ ok
t/author-critic.t ................ skipped: these tests are for testing by the author
t/author-eol.t ................... skipped: these tests are for testing by the author
t/author-minimum-version.t ....... skipped: these tests are for testing by the author
t/author-no-tabs.t ............... skipped: these tests are for testing by the author
t/author-pod-syntax.t ............ skipped: these tests are for testing by the author
t/release-changes_has_content.t .. skipped: these tests are for release candidate testing
t/release-distmeta.t ............. skipped: these tests are for release candidate testing
t/release-fixme.t ................ skipped: these tests are for release candidate testing
t/release-has-version.t .......... skipped: these tests are for release candidate testing
t/release-kwalitee.t ............. skipped: these tests are for release candidate testing
t/release-meta-json.t ............ skipped: these tests are for release candidate testing
t/release-pause-permissions.t .... skipped: these tests are for release candidate testing
All tests successful.
Files=26, Tests=11316, 51 wallclock secs ( 6.66 usr 0.47 sys + 36.48 cusr 4.92 csys = 48.52 CPU)
Result: PASS
------------------------------
PREREQUISITES
------------------------------
Prerequisite modules loaded:
requires:
Module Need Have
------------------- ---- -----
Archive::Tar 1.54 2.32
Compress::Zlib 0 2.060
CPAN::DistnameInfo 0.09 0.12
CPAN::Index 1.93 2.12
DBD::SQLite 1.27 1.58
File::HomeDir 0 1.004
File::Spec 0 3.40
HTTP::Tiny 0 0.025
IO::Zlib 0 1.10
parent 0 0.225
Test::Harness 3.31 3.42
build_requires:
Module Need Have
------------------- ---- -----
ExtUtils::MakeMaker 0 7.34
Test::Memory::Cycle 0 1.06
configure_requires:
Module Need Have
------------------- ---- -----
ExtUtils::MakeMaker 0 7.34
------------------------------
ENVIRONMENT AND OTHER CONTEXT
------------------------------
Environment variables:
HARNESS_OPTIONS = j2:c
LD_LIBRARY_PATH = /usr/local/lib:
PATH = /home/njh/perl5/perlbrew/bin:/home/njh/perl5/perlbrew/perls/perl-5.18.0-thread/bin:/sbin:/bin:/usr/sbin:/usr/bin:/usr/local/sbin:/usr/local/bin:/home/njh/bin
PERL5LIB =
PERL5OPT =
PERL5_CPANPLUS_IS_RUNNING = 34884
PERL5_CPAN_IS_RUNNING = 34884
PERLBREW_HOME = /home/njh/.perlbrew
PERLBREW_MANPATH = /home/njh/perl5/perlbrew/perls/perl-5.18.0-thread/man
PERLBREW_PATH = /home/njh/perl5/perlbrew/bin:/home/njh/perl5/perlbrew/perls/perl-5.18.0-thread/bin
PERLBREW_PERL = perl-5.18.0-thread
PERLBREW_ROOT = /home/njh/perl5/perlbrew
PERLBREW_SHELLRC_VERSION = 0.84
PERLBREW_VERSION = 0.84
SHELL = /usr/local/bin/bash
TERM = xterm-256color
Perl special variables (and OS-specific diagnostics, for MSWin32):
$^X = /mnt/nas/home/netgate3/njh/perl5/perlbrew/perls/perl-5.18.0-thread/bin/perl5.18.0
$UID/$EUID = 1000 / 1000
$GID = 1000 1000 0
$EGID = 1000 1000 0
Perl module toolchain versions installed:
Module Have
------------------- --------
CPAN 2.22
CPAN::Meta 2.150010
Cwd 3.40
ExtUtils::CBuilder 0.280210
ExtUtils::Command 7.34
ExtUtils::Install 2.06
ExtUtils::MakeMaker 7.34
ExtUtils::Manifest 1.70
ExtUtils::ParseXS 3.18
File::Spec 3.40
JSON 2.97001
JSON::PP 4.00
Module::Build 0.4003
Module::Signature n/a
Parse::CPAN::Meta 2.150010
Test::Harness 3.42
Test::More 1.302140
YAML 1.26
YAML::Syck n/a
version 0.9902
--
Summary of my perl5 (revision 5 version 18 subversion 0) configuration:
Platform:
osname=freebsd, osvers=11.2-release, archname=amd64-freebsd-thread-multi
uname='freebsd netgate3 11.2-release freebsd 11.2-release #0 r335510: fri jun 22 04:32:14 utc 2018 root@releng2.nyi.freebsd.org:usrobjusrsrcsysgeneric amd64 '
config_args='-de -Dprefix=/home/njh/perl5/perlbrew/perls/perl-5.18.0-thread -Dusedevel -Dusethreads -Accflags= -Aeval:scriptdir=/home/njh/perl5/perlbrew/perls/perl-5.18.0-thread/bin'
hint=recommended, useposix=true, d_sigaction=define
useithreads=define, usemultiplicity=define
useperlio=define, d_sfio=undef, uselargefiles=define, usesocks=undef
use64bitint=define, use64bitall=define, uselongdouble=undef
usemymalloc=n, bincompat5005=undef
Compiler:
cc='cc', ccflags ='-DHAS_FPSETMASK -DHAS_FLOATINGPOINT_H -fno-strict-aliasing -pipe -fstack-protector -I/usr/local/include',
optimize='-O2',
cppflags='-DHAS_FPSETMASK -DHAS_FLOATINGPOINT_H -fno-strict-aliasing -pipe -fstack-protector -I/usr/local/include'
ccversion='', gccversion='4.2.1 Compatible FreeBSD Clang 6.0.0 (tags/RELEASE_600/final 326565)', gccosandvers=''
intsize=4, longsize=8, ptrsize=8, doublesize=8, byteorder=12345678
d_longlong=define, longlongsize=8, d_longdbl=define, longdblsize=16
ivtype='long', ivsize=8, nvtype='double', nvsize=8, Off_t='off_t', lseeksize=8
alignbytes=8, prototype=define
Linker and Libraries:
ld='cc', ldflags ='-pthread -Wl,-E -fstack-protector -L/usr/local/lib'
libpth=/usr/lib /usr/local/lib
libs=-ldl -lm -lcrypt -lutil
perllibs=-ldl -lm -lcrypt -lutil
libc=, so=so, useshrplib=false, libperl=libperl.a
gnulibc_version=''
Dynamic Linking:
dlsrc=dl_dlopen.xs, dlext=so, d_dlsymun=undef, ccdlflags=' '
cccdlflags='-DPIC -fPIC', lddlflags='-shared -L/usr/local/lib -fstack-protector'
Characteristics of this binary (from libperl):
Compile-time options: HAS_TIMES MULTIPLICITY PERLIO_LAYERS
PERL_DONT_CREATE_GVSV
PERL_HASH_FUNC_ONE_AT_A_TIME_HARD
PERL_IMPLICIT_CONTEXT PERL_MALLOC_WRAP
PERL_PRESERVE_IVUV PERL_SAWAMPERSAND PERL_USE_DEVEL
USE_64_BIT_ALL USE_64_BIT_INT USE_ITHREADS
USE_LARGE_FILES USE_LOCALE USE_LOCALE_COLLATE
USE_LOCALE_CTYPE USE_LOCALE_NUMERIC USE_PERLIO
USE_PERL_ATOF USE_REENTRANT_API
Locally applied patches:
Devel::PatchPerl 1.52
Built under freebsd
Compiled at Sep 14 2018 17:26:50
%ENV:
PERL5LIB=""
PERL5OPT=""
PERL5_CPANPLUS_IS_RUNNING="34884"
PERL5_CPAN_IS_RUNNING="34884"
PERLBREW_HOME="/home/njh/.perlbrew"
PERLBREW_MANPATH="/home/njh/perl5/perlbrew/perls/perl-5.18.0-thread/man"
PERLBREW_PATH="/home/njh/perl5/perlbrew/bin:/home/njh/perl5/perlbrew/perls/perl-5.18.0-thread/bin"
PERLBREW_PERL="perl-5.18.0-thread"
PERLBREW_ROOT="/home/njh/perl5/perlbrew"
PERLBREW_SHELLRC_VERSION="0.84"
PERLBREW_VERSION="0.84"
@INC:
/home/njh/perl5/perlbrew/perls/perl-5.18.0-thread/lib/site_perl/5.18.0/amd64-freebsd-thread-multi
/home/njh/perl5/perlbrew/perls/perl-5.18.0-thread/lib/site_perl/5.18.0
/home/njh/perl5/perlbrew/perls/perl-5.18.0-thread/lib/5.18.0/amd64-freebsd-thread-multi
/home/njh/perl5/perlbrew/perls/perl-5.18.0-thread/lib/5.18.0
.