Net-Curl-Promiser v0.17 Perl 5 v5.35.0 x86_64-linux

Status
Pass
From
Carlos Guevara
Dist
Net-Curl-Promiser v0.17
Platform
Perl 5 v5.35.0 x86_64-linux
Date
2021-05-23 15:14:43
ID
9a5a44f8-bbd9-11eb-9cdb-c68a2ce6ea57
This distribution has been tested as part of the CPAN Testers
project, supporting the Perl programming language.  See
http://wiki.cpantesters.org/ for more information or email
questions to cpan-testers-discuss@perl.org


--
Dear Felipe Gasper,

This is a computer-generated report for Net-Curl-Promiser-0.17
on perl 5.35.0, created by CPAN-Reporter-1.2018.

Thank you for uploading your work to CPAN.  Congratulations!
All tests were successful.

Sections of this report:

    * Tester comments
    * Program output
    * Prerequisites
    * Environment and other context

------------------------------
TESTER COMMENTS
------------------------------

Additional comments from tester:

none provided

------------------------------
PROGRAM OUTPUT
------------------------------

Output from '/usr/bin/make test':

PERL_DL_NONLAZY=1 "/home/cpan/bin/perl-blead/bin/perl5.35.0" "-MExtUtils::Command::MM" "-MTest::Harness" "-e" "undef *Test::Harness::Switches; test_harness(0, 'blib/lib', 'blib/arch')" t/*.t
# Created listening socket on port 41157
*   Trying 127.0.0.1:41157...
* Connected to 127.0.0.1 (127.0.0.1) port 41157 (#0)
> GET / HTTP/1.1
Host: 127.0.0.1:41157
Accept: */*

# Curl told us to poll; continuing …
* Closing connection 0
# Created listening socket on port 39171
*   Trying 127.0.0.1:39171...
* Connected to 127.0.0.1 (127.0.0.1) port 39171 (#0)
> GET / HTTP/1.1
Host: 127.0.0.1:39171
Accept: */*

# Curl told us to poll; continuing …
* Closing connection 0
# Created listening socket on port 33385
*   Trying 127.0.0.1:33385...
* Connected to 127.0.0.1 (127.0.0.1) port 33385 (#0)
> GET / HTTP/1.1
Host: 127.0.0.1:33385
Accept: */*

# Curl told us to poll; continuing …
* Closing connection 0
t/cancel_fail.t ....................................... ok
# Using AnyEvent 7.17; backend: AnyEvent::Impl::Perl
# SERVER PORT: 50101
# SERVER PID: 3633
# libcurl libcurl/7.74.0 OpenSSL/1.1.1k zlib/1.2.11 brotli/1.0.9 libidn2/2.3.0 libpsl/0.21.0 (+libidn2/2.3.0) libssh2/1.9.0 nghttp2/1.43.0 librtmp/2.3 (477696)
# Testing cancellation …
# FINISHING SERVER: PID 3633 (from PID 3632)
# Server (3633) received request to shut down
# REAPED SERVER: PID 3633 (from PID 3632)
t/Net-Curl-Promiser-AnyEvent.t ........................ ok
# SERVER PORT: 48227
# SERVER PID: 3635
# FINISHING SERVER: PID 3635 (from PID 3634)
# Server (3635) received request to shut down
# REAPED SERVER: PID 3635 (from PID 3634)
t/Net-Curl-Promiser-AnyEvent_reuse.t .................. ok
# Using IO::Async::Loop 0.78
# SERVER PORT: 37303
# SERVER PID: 3637
# Using loop class IO::Async::Loop::Select 0.78
# libcurl libcurl/7.74.0 OpenSSL/1.1.1k zlib/1.2.11 brotli/1.0.9 libidn2/2.3.0 libpsl/0.21.0 (+libidn2/2.3.0) libssh2/1.9.0 nghttp2/1.43.0 librtmp/2.3 (477696)
# FINISHING SERVER: PID 3637 (from PID 3636)
# Server (3637) received request to shut down
# REAPED SERVER: PID 3637 (from PID 3636)
t/Net-Curl-Promiser-IOAsync.t ......................... ok
# SERVER PORT: 41711
# SERVER PID: 3639
# FINISHING SERVER: PID 3639 (from PID 3638)
# Server (3639) received request to shut down
# REAPED SERVER: PID 3639 (from PID 3638)
t/Net-Curl-Promiser-IOAsync_net_curl_easy_overload.t .. ok
# Mojolicious version: 9.17
# Using loop class Mojo::Reactor::Poll
# SERVER PORT: 45469
# SERVER PID: 3641
# libcurl libcurl/7.74.0 OpenSSL/1.1.1k zlib/1.2.11 brotli/1.0.9 libidn2/2.3.0 libpsl/0.21.0 (+libidn2/2.3.0) libssh2/1.9.0 nghttp2/1.43.0 librtmp/2.3 (477696)
# FINISHING SERVER: PID 3641 (from PID 3640)
# Server (3641) received request to shut down
# REAPED SERVER: PID 3641 (from PID 3640)
t/Net-Curl-Promiser-Mojo.t ............................ ok
# SERVER PORT: 43531
# SERVER PID: 3643
# libcurl libcurl/7.74.0 OpenSSL/1.1.1k zlib/1.2.11 brotli/1.0.9 libidn2/2.3.0 libpsl/0.21.0 (+libidn2/2.3.0) libssh2/1.9.0 nghttp2/1.43.0 librtmp/2.3 (477696)
# FINISHING SERVER: PID 3643 (from PID 3642)
# Server (3643) received request to shut down
# REAPED SERVER: PID 3643 (from PID 3642)
t/Net-Curl-Promiser-Select.t .......................... ok
t/Net-Curl-Promiser-Select_setopt_fail.t .............. ok
All tests successful.
Files=8, Tests=64,  5 wallclock secs ( 0.04 usr  0.02 sys +  1.81 cusr  0.41 csys =  2.28 CPU)
Result: PASS

------------------------------
PREREQUISITES
------------------------------

Prerequisite modules loaded:

requires:

    Module              Need  Have    
    ------------------- ----- --------
    Net::Curl           0.44  0.49    
    Promise::ES6        0.07  0.23    

build_requires:

    Module              Need  Have    
    ------------------- ----- --------
    autodie             0     2.34    
    ExtUtils::MakeMaker 0     7.62    
    FindBin             0     1.52    
    Test::Class::Tiny   0     0.03    
    Test::Deep          1.120 1.130   
    Test::FailWarnings  0     0.008   
    Test::Fatal         0     0.016   
    Test::More          0     1.302185

configure_requires:

    Module              Need  Have    
    ------------------- ----- --------
    ExtUtils::MakeMaker 0     7.62    


------------------------------
ENVIRONMENT AND OTHER CONTEXT
------------------------------

Environment variables:

    LANG = en_US.UTF-8
    LC_ALL = C
    NONINTERACTIVE_TESTING = 1
    PATH = /home/cpan/bin/perl-blead/bin:/home/cpan/bin:/home/cpan/bin:/usr/local/bin:/usr/bin:/bin:/usr/local/games:/usr/games
    PERL5LIB = 
    PERL5OPT = 
    PERL5_CPANPLUS_IS_RUNNING = 3544
    PERL5_CPAN_IS_RUNNING = 3544
    PERL_MM_USE_DEFAULT = 1
    PERL_USE_UNSAFE_INC = 1
    SHELL = /bin/bash
    TERM = xterm
    TMPDIR = /home/cpan/tmp

Perl special variables (and OS-specific diagnostics, for MSWin32):

    $^X = /home/cpan/bin/perl-blead/bin/perl5.35.0
    $UID/$EUID = 1002 / 1002
    $GID = 1002 1002
    $EGID = 1002 1002

Perl module toolchain versions installed:

    Module              Have    
    ------------------- --------
    CPAN                2.28    
    CPAN::Meta          2.150010
    Cwd                 3.80    
    ExtUtils::CBuilder  0.280236
    ExtUtils::Command   7.62    
    ExtUtils::Install   2.20    
    ExtUtils::MakeMaker 7.62    
    ExtUtils::Manifest  1.73    
    ExtUtils::ParseXS   3.43    
    File::Spec          3.80    
    JSON                4.03    
    JSON::PP            4.06    
    Module::Build       0.4231  
    Module::Signature   0.87    
    Parse::CPAN::Meta   2.150010
    Test::Harness       3.43    
    Test::More          1.302185
    YAML                1.30    
    YAML::Syck          1.34    
    version             0.9929  


--

Summary of my perl5 (revision 5 version 35 subversion 0) configuration:
  Commit id: aa467bdb344acde9c8565caf011ac311667524c7
  Platform:
    osname=linux
    osvers=5.10.0-6-amd64
    archname=x86_64-linux
    uname='linux cjg-bullseye 5.10.0-6-amd64 #1 smp debian 5.10.28-1 (2021-04-09) x86_64 gnulinux '
    config_args='-des -Dprefix=~/bin/perl-blead -Dscriptdir=~/bin/perl-blead/bin -Dusedevel -Duse64bitall'
    hint=recommended
    useposix=true
    d_sigaction=define
    useithreads=undef
    usemultiplicity=undef
    use64bitint=define
    use64bitall=define
    uselongdouble=undef
    usemymalloc=n
    default_inc_excludes_dot=define
  Compiler:
    cc='cc'
    ccflags ='-fwrapv -fno-strict-aliasing -pipe -fstack-protector-strong -I/usr/local/include -D_LARGEFILE_SOURCE -D_FILE_OFFSET_BITS=64 -D_FORTIFY_SOURCE=2'
    optimize='-O2'
    cppflags='-fwrapv -fno-strict-aliasing -pipe -fstack-protector-strong -I/usr/local/include'
    ccversion=''
    gccversion='10.2.1 20210110'
    gccosandvers=''
    intsize=4
    longsize=8
    ptrsize=8
    doublesize=8
    byteorder=12345678
    doublekind=3
    d_longlong=define
    longlongsize=8
    d_longdbl=define
    longdblsize=16
    longdblkind=3
    ivtype='long'
    ivsize=8
    nvtype='double'
    nvsize=8
    Off_t='off_t'
    lseeksize=8
    alignbytes=8
    prototype=define
  Linker and Libraries:
    ld='cc'
    ldflags =' -fstack-protector-strong -L/usr/local/lib'
    libpth=/usr/local/lib /usr/lib/x86_64-linux-gnu /usr/lib /usr/lib64
    libs=-lpthread -lnsl -ldb -ldl -lm -lcrypt -lutil -lc
    perllibs=-lpthread -lnsl -ldl -lm -lcrypt -lutil -lc
    libc=libc-2.31.so
    so=so
    useshrplib=false
    libperl=libperl.a
    gnulibc_version='2.31'
  Dynamic Linking:
    dlsrc=dl_dlopen.xs
    dlext=so
    d_dlsymun=undef
    ccdlflags='-Wl,-E'
    cccdlflags='-fPIC'
    lddlflags='-shared -O2 -L/usr/local/lib -fstack-protector-strong'


Characteristics of this binary (from libperl): 
  Compile-time options:
    HAS_TIMES
    PERLIO_LAYERS
    PERL_COPY_ON_WRITE
    PERL_DONT_CREATE_GVSV
    PERL_MALLOC_WRAP
    PERL_OP_PARENT
    PERL_PRESERVE_IVUV
    PERL_USE_DEVEL
    USE_64_BIT_ALL
    USE_64_BIT_INT
    USE_LARGE_FILES
    USE_LOCALE
    USE_LOCALE_COLLATE
    USE_LOCALE_CTYPE
    USE_LOCALE_NUMERIC
    USE_LOCALE_TIME
    USE_PERLIO
    USE_PERL_ATOF
  Built under linux
  Compiled at May 22 2021 03:56:48
  %ENV:
    PERL5LIB=""
    PERL5OPT=""
    PERL5_CPANPLUS_IS_RUNNING="3544"
    PERL5_CPAN_IS_RUNNING="3544"
    PERL_MM_USE_DEFAULT="1"
    PERL_USE_UNSAFE_INC="1"
  @INC:
    /home/cpan/bin/perl-blead/lib/site_perl/5.35.0/x86_64-linux
    /home/cpan/bin/perl-blead/lib/site_perl/5.35.0
    /home/cpan/bin/perl-blead/lib/5.35.0/x86_64-linux
    /home/cpan/bin/perl-blead/lib/5.35.0
    .