Report for MooseX-Types-Structured-0.35

Back
From: metabase:user:320bfe00-2aae-11df-837a-5e0a49663a4f
Subject: PASS MooseX-Types-Structured-0.35 v5.8.3 GNU/Linux
Date: 2017-02-26T04:04:00Z

This distribution has been tested as part of the CPAN Testers
project, supporting the Perl programming language.  See
http://wiki.cpantesters.org/ for more information or email
questions to cpan-testers-discuss@perl.org


--
Dear Karen Etheridge,

This is a computer-generated report for MooseX-Types-Structured-0.35
on perl 5.8.3, created by CPAN-Reporter-1.2018.

Thank you for uploading your work to CPAN.  Congratulations!
All tests were successful.

Sections of this report:

    * Tester comments
    * Program output
    * Prerequisites
    * Environment and other context

------------------------------
TESTER COMMENTS
------------------------------

Additional comments from tester:

this report is from an automated smoke testing program
and was not reviewed by a human for accuracy

------------------------------
PROGRAM OUTPUT
------------------------------

Output from './Build test':

t/00-load.t .................... ok
# 
# Versions for all modules listed in MYMETA.json (including optional ones):
# 
# === Configure Requires ===
# 
#     Module               Want  Have
#     ------------------- ----- -----
#     Module::Build::Tiny 0.034 0.039
# 
# === Test Requires ===
# 
#     Module                  Want     Have
#     ----------------------- ---- --------
#     Data::Dumper             any    2.161
#     DateTime                 any  missing
#     ExtUtils::MakeMaker      any  7.25_01
#     File::Spec               any     3.62
#     MooseX::Types::DateTime  any  missing
#     MooseX::Types::Moose     any     0.50
#     Test::Fatal              any    0.014
#     Test::More              0.88 1.302075
#     Test::Requires           any     0.10
#     strict                   any     1.03
#     warnings                 any     1.03
# 
# === Test Recommends ===
# 
#     Module         Want     Have
#     ---------- -------- --------
#     CPAN::Meta 2.120900 2.150010
# 
# === Runtime Requires ===
# 
#     Module                                          Want    Have
#     -------------------------------------------- ------- -------
#     Devel::PartialDump                              0.13    0.18
#     JSON::PP                                     2.27300 2.91_04
#     Moose                                            any  2.2004
#     Moose::Meta::TypeCoercion                        any  2.2004
#     Moose::Meta::TypeConstraint                      any  2.2004
#     Moose::Meta::TypeConstraint::Parameterizable     any  2.2004
#     Moose::Util::TypeConstraints                    1.06  2.2004
#     MooseX::Types                                   0.22    0.50
#     Scalar::Util                                     any    1.47
#     Sub::Exporter                                  0.982   0.987
#     if                                               any    0.03
#     namespace::clean                                0.19    0.27
#     overload                                         any    1.01
# 
# 
# *** WARNING WARNING WARNING WARNING WARNING WARNING WARNING WARNING ***
# 
# The following REQUIRED prerequisites were not satisfied:
# 
# DateTime is not installed (any version required)
# MooseX::Types::DateTime is not installed (any version required)
# 
t/00-report-prereqs.t .......... ok
t/01-basic.t ................... ok
t/02-tuple.t ................... ok
t/03-dict.t .................... ok
t/04-combined.t ................ ok
t/04-map.t ..................... ok
t/05-advanced.t ................ ok
t/06-api.t ..................... ok
t/07-coerce.t .................. ok
t/08-examples.t ................ skipped: Test requires module 'MooseX::Types::DateTime' but it's not found
t/09-optional.t ................ ok
t/10-recursion.t ............... ok
t/11-overflow.t ................ ok
t/12-error.t ................... ok
t/13-deeper_error.t ............ ok
t/14-fully-qualified.t ......... ok
t/bug-incorrect-message.t ...... ok
t/bug-is-subtype.t ............. ok
t/bug-mixed-stringy.t .......... ok
t/bug-optional.t ............... ok
t/regressions/01-is_type_of.t .. ok
t/zzz-check-breaks.t ........... ok
All tests successful.
Files=23, Tests=351, 16 wallclock secs ( 0.08 usr  0.23 sys + 11.48 cusr  1.01 csys = 12.80 CPU)
Result: PASS

------------------------------
PREREQUISITES
------------------------------

Prerequisite modules loaded:

requires:

    Module                                       Need    Have    
    -------------------------------------------- ------- --------
    Devel::PartialDump                           0.13    0.18    
    if                                           0       0.03    
    JSON::PP                                     2.27300 2.91_04 
    Moose                                        0       2.2004  
    Moose::Meta::TypeCoercion                    0       2.2004  
    Moose::Meta::TypeConstraint                  0       2.2004  
    Moose::Meta::TypeConstraint::Parameterizable 0       2.2004  
    Moose::Util::TypeConstraints                 1.06    2.2004  
    MooseX::Types                                0.22    0.50    
    namespace::clean                             0.19    0.27    
    overload                                     0       1.01    
    perl                                         5.008   5.008003
    Scalar::Util                                 0       1.47    
    Sub::Exporter                                0.982   0.987   

build_requires:

    Module                                       Need    Have    
    -------------------------------------------- ------- --------
    Data::Dumper                                 0       2.161   
  ! DateTime                                     0       n/a     
    ExtUtils::MakeMaker                          0       7.25_01 
    File::Spec                                   0       3.62    
  ! MooseX::Types::DateTime                      0       n/a     
    MooseX::Types::Moose                         0       0.50    
    perl                                         5.008   5.008003
    strict                                       0       1.03    
    Test::Fatal                                  0       0.014   
    Test::More                                   0.88    1.302075
    Test::Requires                               0       0.10    
    warnings                                     0       1.03    

configure_requires:

    Module                                       Need    Have    
    -------------------------------------------- ------- --------
    Module::Build::Tiny                          0.034   0.039   
    perl                                         5.008   5.008003


------------------------------
ENVIRONMENT AND OTHER CONTEXT
------------------------------

Environment variables:

    AUTOMATED_TESTING = 1
    LANG = en_US.UTF-8
    PATH = /home/sand/bin:/usr/local/bin:/usr/bin:/bin:/usr/games:/usr/local/perl/bin:/usr/X11/bin:/sbin:/usr/sbin
    PERL5LIB = 
    PERL5OPT = 
    PERL5_CPANPLUS_IS_RUNNING = 17814
    PERL5_CPAN_IS_RUNNING = 17814
    PERL_CANARY_STABILITY_NOPROMPT = 1
    PERL_MM_USE_DEFAULT = 1
    PERL_USE_UNSAFE_INC = 1
    SHELL = /usr/bin/zsh
    TERM = screen

Perl special variables (and OS-specific diagnostics, for MSWin32):

    $^X = /home/sand/src/perl/repoperls/installed-perls/host/k93msid/perl-5.8.3/db60/bin/perl
    $UID/$EUID = 1005 / 1005
    $GID = 1005 1005
    $EGID = 1005 1005

Perl module toolchain versions installed:

    Module              Have    
    ------------------- --------
    CPAN                2.17    
    CPAN::Meta          2.150010
    Cwd                 3.62    
    ExtUtils::CBuilder  0.280224
    ExtUtils::Command   7.25_01 
    ExtUtils::Install   1.54    
    ExtUtils::MakeMaker 7.25_01 
    ExtUtils::Manifest  1.70    
    ExtUtils::ParseXS   3.30    
    File::Spec          3.62    
    JSON                2.91_04 
    JSON::PP            2.91_04 
    Module::Build       0.4220  
    Module::Signature   0.81    
    Parse::CPAN::Meta   2.150010
    Test::Harness       3.36    
    Test::More          1.302075
    YAML                1.23    
    YAML::Syck          1.29    
    version             0.9917  


--

Summary of my perl5 (revision 5.0 version 8 subversion 3) configuration:
  Platform:
    osname=linux, osvers=4.8.0-2-amd64, archname=x86_64-linux-thread-multi-ld
    uname='linux k93msid 4.8.0-2-amd64 #1 smp debian 4.8.11-1 (2016-12-02) x86_64 gnulinux '
    config_args='-Dprefix=/home/sand/src/perl/repoperls/installed-perls/host/k93msid/perl-5.8.3/db60 -Dmyhostname=k93msid -Dinstallusrbinperl=n -Uversiononly -Dusedevel -des -Ui_db -Dlibswanted=cl pthread socket inet nsl gdbm dbm malloc dl ld sun m crypt sec util c cposix posix ucb BSD gdbm_compat -Duseithreads -Duselongdouble'
    hint=recommended, useposix=true, d_sigaction=define
    usethreads=define use5005threads=undef useithreads=define usemultiplicity=define
    useperlio=define d_sfio=undef uselargefiles=define usesocks=undef
    use64bitint=define use64bitall=define uselongdouble=define
    usemymalloc=n, bincompat5005=undef
  Compiler:
    cc='cc', ccflags ='-D_REENTRANT -D_GNU_SOURCE -fno-strict-aliasing -I/usr/local/include -D_LARGEFILE_SOURCE -D_FILE_OFFSET_BITS=64',
    optimize='-O2',
    cppflags='-D_REENTRANT -D_GNU_SOURCE -fno-strict-aliasing -I/usr/local/include'
    ccversion='', gccversion='6.2.1 20161124', gccosandvers=''
    intsize=4, longsize=8, ptrsize=8, doublesize=8, byteorder=12345678
    d_longlong=define, longlongsize=8, d_longdbl=define, longdblsize=16
    ivtype='long', ivsize=8, nvtype='long double', nvsize=16, Off_t='off_t', lseeksize=8
    alignbytes=16, prototype=define
  Linker and Libraries:
    ld='cc', ldflags =' -L/usr/local/lib'
    libpth=/usr/local/lib /lib/x86_64-linux-gnu /lib/../lib /usr/lib/x86_64-linux-gnu /usr/lib/../lib /lib /usr/lib
    libs=-lpthread -lnsl -ldl -lm -lcrypt -lutil -lc
    perllibs=-lpthread -lnsl -ldl -lm -lcrypt -lutil -lc
    libc=libc-2.24.so, so=so, useshrplib=false, libperl=libperl.a
    gnulibc_version='2.24'
  Dynamic Linking:
    dlsrc=dl_dlopen.xs, dlext=so, d_dlsymun=undef, ccdlflags='-rdynamic'
    cccdlflags='-fpic', lddlflags='-shared -L/usr/local/lib'


Characteristics of this binary (from libperl): 
  Compile-time options: MULTIPLICITY USE_ITHREADS USE_64_BIT_INT USE_64_BIT_ALL USE_LONG_DOUBLE USE_LARGE_FILES PERL_IMPLICIT_CONTEXT
  Built under linux
  Compiled at Dec 18 2016 17:47:03
  %ENV:
    PERL5LIB=""
    PERL5OPT=""
    PERL5_CPANPLUS_IS_RUNNING="17814"
    PERL5_CPAN_IS_RUNNING="17814"
    PERL_CANARY_STABILITY_NOPROMPT="1"
    PERL_MM_USE_DEFAULT="1"
    PERL_USE_UNSAFE_INC="1"
  @INC:
    /home/sand/src/perl/repoperls/installed-perls/host/k93msid/perl-5.8.3/db60/lib/5.8.3/x86_64-linux-thread-multi-ld
    /home/sand/src/perl/repoperls/installed-perls/host/k93msid/perl-5.8.3/db60/lib/5.8.3
    /home/sand/src/perl/repoperls/installed-perls/host/k93msid/perl-5.8.3/db60/lib/site_perl/5.8.3/x86_64-linux-thread-multi-ld
    /home/sand/src/perl/repoperls/installed-perls/host/k93msid/perl-5.8.3/db60/lib/site_perl/5.8.3
    /home/sand/src/perl/repoperls/installed-perls/host/k93msid/perl-5.8.3/db60/lib/site_perl
    .