Back
From: metabase:user:314402c4-2aae-11df-837a-5e0a49663a4f
Subject: PASS Games-Go-AGA-DataObjects-0.107 v5.21.8 FreeBSD
Date: 2015-01-22T10:29:53Z
This distribution has been tested as part of the CPAN Testers
project, supporting the Perl programming language. See
http://wiki.cpantesters.org/ for more information or email
questions to cpan-testers-discuss@perl.org
--
Dear Reid Augustin,
This is a computer-generated report for Games-Go-AGA-DataObjects-0.107
on perl 5.21.8, created by CPAN-Reporter-1.2011.
Thank you for uploading your work to CPAN. Congratulations!
All tests were successful.
Sections of this report:
* Tester comments
* Program output
* Prerequisites
* Environment and other context
------------------------------
TESTER COMMENTS
------------------------------
Additional comments from tester:
none provided
------------------------------
PROGRAM OUTPUT
------------------------------
Output from '/usr/bin/make test':
PERL_DL_NONLAZY=1 "/usr/perl5.21.8p/bin/perl5.21.8" "-MExtUtils::Command::MM" "-MTest::Harness" "-e" "undef *Test::Harness::Switches; test_harness(0, 'blib/lib', 'blib/arch')" t/*.t
Constants from lexical variables potentially modified elsewhere are deprecated at /usr/perl5.21.8p/lib/site_perl/5.21.8/amd64-freebsd/Mouse/Util.pm line 79.
t/001-Types.t ....... ok
Constants from lexical variables potentially modified elsewhere are deprecated at /usr/perl5.21.8p/lib/site_perl/5.21.8/amd64-freebsd/Mouse/Util.pm line 79.
t/002-Player.t ...... ok
Constants from lexical variables potentially modified elsewhere are deprecated at /usr/perl5.21.8p/lib/site_perl/5.21.8/amd64-freebsd/Mouse/Util.pm line 79.
t/003-Game.t ........ ok
Constants from lexical variables potentially modified elsewhere are deprecated at /usr/perl5.21.8p/lib/site_perl/5.21.8/amd64-freebsd/Mouse/Util.pm line 79.
t/004-Round.t ....... ok
Constants from lexical variables potentially modified elsewhere are deprecated at /usr/perl5.21.8p/lib/site_perl/5.21.8/amd64-freebsd/Mouse/Util.pm line 79.
t/005-Directives.t .. ok
Constants from lexical variables potentially modified elsewhere are deprecated at /usr/perl5.21.8p/lib/site_perl/5.21.8/amd64-freebsd/Mouse/Util.pm line 79.
t/010-Register.t .... ok
t/author-critic.t ... skipped: these tests are for testing by the author
All tests successful.
Files=7, Tests=135, 2 wallclock secs ( 0.08 usr 0.04 sys + 1.10 cusr 0.23 csys = 1.45 CPU)
Result: PASS
------------------------------
PREREQUISITES
------------------------------
Prerequisite modules loaded:
requires:
Module Need Have
------------------------------- ---- ------------
Carp 0 1.34
Exporter 0 5.72
Games::Go::AGA::Parse::Util 0 0.042
IO::File 0 1.16
IO::String 0 1.08
Mouse 0 2.4.1
Mouse::Util::TypeConstraints 0 0
parent 0 0.228
Readonly 0 2.00
Scalar::Util 0 1.41
Scalar::Util::Numeric 0 0.40
strict 0 1.09
Try::Tiny 0 0.22
warnings 0 1.30
build_requires:
Module Need Have
------------------------------- ---- ------------
ExtUtils::MakeMaker 0 7.04
Games::Go::AGA::Parse::Register 0 0.042
Test::More 0 1.301001_097
configure_requires:
Module Need Have
------------------------------- ---- ------------
ExtUtils::MakeMaker 0 7.04
------------------------------
ENVIRONMENT AND OTHER CONTEXT
------------------------------
Environment variables:
DBIC_NO_WARN_BAD_PERL = 1
LC_ALL = de_DE.ISO8859-1
PATH = /usr/local/bin:/usr/bin:/bin:/usr/local/sbin:/usr/sbin:/sbin:/home/cpansand/bin/freebsd10.0:/home/cpansand/bin/sh:/home/cpansand/bin:/usr/games:/home/cpansand/devel:/home/eserte/src/srezic-misc/scripts
PERL5LIB =
PERL5OPT =
PERL5_CPANPLUS_IS_RUNNING = 46383
PERL5_CPAN_IS_RUNNING = 46383
PERL5_CPAN_IS_RUNNING_IN_RECURSION = 55329,46383
PERLDOC = -MPod::Perldoc::ToTextOverstrike
PERL_BATCH = yes
PERL_CPAN_REPORTER_CONFIG = /var/tmp/cpansmoker-1023/4dOtTauxFC_config.ini
PERL_EXTUTILS_AUTOINSTALL = --defaultdeps
PERL_HTML_DISPLAY_CLASS = HTML::Display::Mozilla
SHELL = /usr/local/bin/zsh
TERM = screen
TMPDIR = /var/tmp/cpansmoker-1023
Perl special variables (and OS-specific diagnostics, for MSWin32):
$^X = /usr/perl5.21.8p/bin/perl5.21.8
$UID/$EUID = 1023 / 1023
$GID = 1023 1023
$EGID = 1023 1023
Perl module toolchain versions installed:
Module Have
------------------- ------------
CPAN 2.05
CPAN::Meta 2.143240
Cwd 3.54
ExtUtils::CBuilder 0.280221
ExtUtils::Command 1.20
ExtUtils::Install 2.04
ExtUtils::MakeMaker 7.04
ExtUtils::Manifest 1.70
ExtUtils::ParseXS 3.27
File::Spec 3.53
JSON 2.90
JSON::PP 2.27300
Module::Build 0.4211
Module::Signature n/a
Parse::CPAN::Meta 1.4414
Test::Harness 3.35
Test::More 1.301001_097
YAML 1.14
YAML::Syck 1.29
version 0.9909
--
Summary of my perl5 (revision 5 version 21 subversion 8) configuration:
Platform:
osname=freebsd, osvers=10.0-release-p1, archname=amd64-freebsd
uname='freebsd cvrsnica-freebsd-10-64bit.herceg.de 10.0-release-p1 freebsd 10.0-release-p1 #0: tue apr 8 06:45:06 utc 2014 root@amd64-builder.daemonology.net:usrobjusrsrcsysgeneric amd64 '
config_args='-D useshrplib=true -Dprefix=/usr/perl5.21.8p -Dusemymalloc=n -D cc=ccache cc -D usedevel=define -Duse64bit -de -D hintfile=myfreebsd'
hint=recommended, useposix=true, d_sigaction=define
useithreads=undef, usemultiplicity=undef
use64bitint=define, use64bitall=define, uselongdouble=undef
usemymalloc=n, bincompat5005=undef
Compiler:
cc='ccache cc', ccflags ='-DHAS_FPSETMASK -DHAS_FLOATINGPOINT_H -fno-strict-aliasing -pipe -fstack-protector -I/usr/local/include -D_FORTIFY_SOURCE=2',
optimize='-O',
cppflags='-DHAS_FPSETMASK -DHAS_FLOATINGPOINT_H -fno-strict-aliasing -pipe -fstack-protector -I/usr/local/include'
ccversion='', gccversion='4.2.1 Compatible FreeBSD Clang 3.3 (tags/RELEASE_33/final 183502)', gccosandvers=''
intsize=4, longsize=8, ptrsize=8, doublesize=8, byteorder=12345678, doublekind=3
d_longlong=define, longlongsize=8, d_longdbl=define, longdblsize=16, longdblkind=3
ivtype='long', ivsize=8, nvtype='double', nvsize=8, Off_t='off_t', lseeksize=8
alignbytes=8, prototype=define
Linker and Libraries:
ld='ccache cc', ldflags ='-Wl,-E -fstack-protector -L/usr/local/lib'
libpth=/usr/lib /usr/local/lib /usr/include/clang/3.3 /usr/lib
libs=-lpthread -lm -lcrypt -lutil -lc
perllibs=-lpthread -lm -lcrypt -lutil -lc
libc=, so=so, useshrplib=true, libperl=libperl.so
gnulibc_version=''
Dynamic Linking:
dlsrc=dl_dlopen.xs, dlext=so, d_dlsymun=undef, ccdlflags=' -Wl,-R/usr/perl5.21.8p/lib/5.21.8/amd64-freebsd/CORE'
cccdlflags='-DPIC -fPIC', lddlflags='-shared -L/usr/local/lib -fstack-protector'
Characteristics of this binary (from libperl):
Compile-time options: HAS_TIMES PERLIO_LAYERS PERL_DONT_CREATE_GVSV
PERL_HASH_FUNC_ONE_AT_A_TIME_HARD PERL_MALLOC_WRAP
PERL_NEW_COPY_ON_WRITE PERL_PRESERVE_IVUV
PERL_USE_DEVEL USE_64_BIT_ALL USE_64_BIT_INT
USE_LARGE_FILES USE_LOCALE USE_LOCALE_COLLATE
USE_LOCALE_CTYPE USE_LOCALE_NUMERIC USE_LOCALE_TIME
USE_PERLIO USE_PERL_ATOF
Built under freebsd
Compiled at Jan 21 2015 20:19:19
%ENV:
PERL5LIB=""
PERL5OPT=""
PERL5_CPANPLUS_IS_RUNNING="46383"
PERL5_CPAN_IS_RUNNING="46383"
PERL5_CPAN_IS_RUNNING_IN_RECURSION="55329,46383"
PERLDOC="-MPod::Perldoc::ToTextOverstrike"
PERL_BATCH="yes"
PERL_CPAN_REPORTER_CONFIG="/var/tmp/cpansmoker-1023/4dOtTauxFC_config.ini"
PERL_EXTUTILS_AUTOINSTALL="--defaultdeps"
PERL_HTML_DISPLAY_CLASS="HTML::Display::Mozilla"
@INC:
/usr/perl5.21.8p/lib/site_perl/5.21.8/amd64-freebsd
/usr/perl5.21.8p/lib/site_perl/5.21.8
/usr/perl5.21.8p/lib/5.21.8/amd64-freebsd
/usr/perl5.21.8p/lib/5.21.8
.