Back
From: metabase:user:31d414ea-2aae-11df-837a-5e0a49663a4f
Subject: PASS Math-Complex_C-L-0.03 v5.16.3 GNU/Linux
Date: 2016-01-17T21:16:41Z
This distribution has been tested as part of the CPAN Testers
project, supporting the Perl programming language. See
http://wiki.cpantesters.org/ for more information or email
questions to cpan-testers-discuss@perl.org
--
Dear Sisyphus,
This is a computer-generated report for Math-Complex_C-L-0.03
on perl 5.16.3, created by CPAN-Reporter-1.2014.
Thank you for uploading your work to CPAN. Congratulations!
All tests were successful.
Sections of this report:
* Tester comments
* Program output
* Prerequisites
* Environment and other context
------------------------------
TESTER COMMENTS
------------------------------
Additional comments from tester:
this report is from an automated smoke testing program
and was not reviewed by a human for accuracy
------------------------------
PROGRAM OUTPUT
------------------------------
Output from '/usr/bin/make test':
Running Mkbootstrap for Math::Complex_C::L ()
chmod 644 "L.bs"
PERL_DL_NONLAZY=1 "/home/david/cpantesting/perl-5.16.3/bin/perl" "-MExtUtils::Command::MM" "-MTest::Harness" "-e" "undef *Test::Harness::Switches; test_harness(0, 'blib/lib', 'blib/arch')" t/*.t
No tests with this file. Instead, mainly for the benefit
of the author, we (hopefully) see some diagnostics from some
test executables that were run during the Makefile.PL stage.
CC = cc
OPTIMIZE = -O2
catanhl & powl check:
gcc version check (build):
gcc version check (run): gcc version (4.1.2) is ok
t/00config_xtra.t .... ok
Default decimal precision is 21
t/01load.t ........... ok
Skipping tests 12-15 - Math::LongDouble not loaded
$@: Can't locate Math/LongDouble.pm in @INC (@INC contains: /home/david/cpantesting/perl-5.16.3/.cpan/build/Math-Complex_C-L-0.03-Gcw009/blib/lib /home/david/cpantesting/perl-5.16.3/.cpan/build/Math-Complex_C-L-0.03-Gcw009/blib/arch /home/david/cpantesting/perl-5.16.3/lib/site_perl/5.16.3/x86_64-linux-thread-multi /home/david/cpantesting/perl-5.16.3/lib/site_perl/5.16.3 /home/david/cpantesting/perl-5.16.3/lib/5.16.3/x86_64-linux-thread-multi /home/david/cpantesting/perl-5.16.3/lib/5.16.3 .) at t/abs_arg.t line 98.
t/abs_arg.t .......... ok
t/arith.t ............ ok
t/bool.t ............. ok
Skipping tests 3 & 4 - your glibc contains a bug that breaks cprojl()
Updating your glibc to version 2.12.0 or later should fix the problem
t/conj_proj.t ........ ok
t/log_exp.t .......... ok
t/nan.t .............. ok
Skipping test 5 - Math::LongDouble not loaded
t/new.t .............. ok
Skipping all tests as Math::LongDouble is not available:
Can't locate Math/LongDouble.pm in @INC (@INC contains: /home/david/cpantesting/perl-5.16.3/.cpan/build/Math-Complex_C-L-0.03-Gcw009/blib/lib /home/david/cpantesting/perl-5.16.3/.cpan/build/Math-Complex_C-L-0.03-Gcw009/blib/arch /home/david/cpantesting/perl-5.16.3/lib/site_perl/5.16.3/x86_64-linux-thread-multi /home/david/cpantesting/perl-5.16.3/lib/site_perl/5.16.3 /home/david/cpantesting/perl-5.16.3/lib/5.16.3/x86_64-linux-thread-multi /home/david/cpantesting/perl-5.16.3/lib/5.16.3 .) at t/new_LD.t line 5.
t/new_LD.t ........... ok
t/nnum.t ............. ok
You have a buggy libc that's assigning 'nan' instead of 'inf'
for division by zero - not registering a fail for this as the
module is behaving correctly. The problem is your libc.
Test 5 should also experience the same bug.
Same division by zero bug at work here - again not registering
a fail
t/overload_string.t .. ok
t/overload_xtra.t .... ok
t/pow.t .............. ok
t/prec.t ............. ok
t/trig.t ............. ok
All tests successful.
Files=16, Tests=182, 0 wallclock secs ( 0.03 usr 0.05 sys + 0.10 cusr 0.01 csys = 0.19 CPU)
Result: PASS
------------------------------
PREREQUISITES
------------------------------
Prerequisite modules loaded:
build_requires:
Module Need Have
------------------- ---- ----
ExtUtils::MakeMaker 0 7.04
configure_requires:
Module Need Have
------------------- ---- ----
ExtUtils::MakeMaker 0 7.04
------------------------------
ENVIRONMENT AND OTHER CONTEXT
------------------------------
Environment variables:
AUTOMATED_TESTING = 1
NONINTERACTIVE_TESTING = 1
PATH = /usr/local/bin:/usr/bin:/bin:/usr/games
PERL = 5.16.3
PERL5LIB =
PERL5OPT =
PERL5_CPANPLUS_IS_RUNNING = 12351
PERL5_CPAN_IS_RUNNING = 12351
PERLVER = 5.16.3
PERL_INLINE_DIRECTORY = /home/david/.Inline-5.16.3
PERL_MM_USE_DEFAULT = 1
SHELL = /bin/bash
TERM = screen
Perl special variables (and OS-specific diagnostics, for MSWin32):
$^X = /home/david/cpantesting/perl-5.16.3/bin/perl
$UID/$EUID = 1000 / 1000
$GID = 1000 1000
$EGID = 1000 1000
Perl module toolchain versions installed:
Module Have
------------------- --------
CPAN 2.10
CPAN::Meta 2.150005
Cwd 3.62
ExtUtils::CBuilder 0.280206
ExtUtils::Command 1.17
ExtUtils::Install 1.58
ExtUtils::MakeMaker 7.04
ExtUtils::Manifest 1.70
ExtUtils::ParseXS 3.30
File::Spec 3.62
JSON 2.53
JSON::PP 2.27300
Module::Build 0.4214
Module::Signature n/a
Parse::CPAN::Meta 1.4417
Test::Harness 3.36
Test::More 1.001014
YAML 1.15
YAML::Syck n/a
version 0.9912
--
Summary of my perl5 (revision 5 version 16 subversion 3) configuration:
Platform:
osname=linux, osvers=3.2.0-4-amd64, archname=x86_64-linux-thread-multi
uname='linux pigsty.barnyard.co.uk 3.2.0-4-amd64 #1 smp debian 3.2.35-2 x86_64 gnulinux '
config_args='-de -Dprefix=/home/david/cpantesting/perl-5.16.3 -Dusethreads -Duse64bitall'
hint=recommended, useposix=true, d_sigaction=define
useithreads=define, usemultiplicity=define
useperlio=define, d_sfio=undef, uselargefiles=define, usesocks=undef
use64bitint=define, use64bitall=define, uselongdouble=undef
usemymalloc=n, bincompat5005=undef
Compiler:
cc='cc', ccflags ='-D_REENTRANT -D_GNU_SOURCE -fno-strict-aliasing -pipe -fstack-protector -I/usr/local/include -D_LARGEFILE_SOURCE -D_FILE_OFFSET_BITS=64',
optimize='-O2',
cppflags='-D_REENTRANT -D_GNU_SOURCE -fno-strict-aliasing -pipe -fstack-protector -I/usr/local/include'
ccversion='', gccversion='4.1.2 20061115 (prerelease) (Debian 4.1.1-21)', gccosandvers=''
intsize=4, longsize=8, ptrsize=8, doublesize=8, byteorder=12345678
d_longlong=define, longlongsize=8, d_longdbl=define, longdblsize=16
ivtype='long', ivsize=8, nvtype='double', nvsize=8, Off_t='off_t', lseeksize=8
alignbytes=8, prototype=define
Linker and Libraries:
ld='cc', ldflags =' -fstack-protector -L/usr/local/lib'
libpth=/usr/local/lib /lib /usr/lib /lib64 /usr/lib64
libs=-lnsl -lgdbm -ldb -ldl -lm -lcrypt -lutil -lpthread -lc -lgdbm_compat
perllibs=-lnsl -ldl -lm -lcrypt -lutil -lpthread -lc
libc=/lib/libc-2.3.6.so, so=so, useshrplib=false, libperl=libperl.a
gnulibc_version='2.3.6'
Dynamic Linking:
dlsrc=dl_dlopen.xs, dlext=so, d_dlsymun=undef, ccdlflags='-Wl,-E'
cccdlflags='-fPIC', lddlflags='-shared -O2 -L/usr/local/lib -fstack-protector'
Characteristics of this binary (from libperl):
Compile-time options: HAS_TIMES MULTIPLICITY PERLIO_LAYERS
PERL_DONT_CREATE_GVSV PERL_IMPLICIT_CONTEXT
PERL_MALLOC_WRAP PERL_PRESERVE_IVUV USE_64_BIT_ALL
USE_64_BIT_INT USE_ITHREADS USE_LARGE_FILES
USE_LOCALE USE_LOCALE_COLLATE USE_LOCALE_CTYPE
USE_LOCALE_NUMERIC USE_PERLIO USE_PERL_ATOF
USE_REENTRANT_API
Built under linux
Compiled at Mar 22 2013 21:25:26
%ENV:
PERL="5.16.3"
PERL5LIB=""
PERL5OPT=""
PERL5_CPANPLUS_IS_RUNNING="12351"
PERL5_CPAN_IS_RUNNING="12351"
PERLVER="5.16.3"
PERL_INLINE_DIRECTORY="/home/david/.Inline-5.16.3"
PERL_MM_USE_DEFAULT="1"
@INC:
/home/david/cpantesting/perl-5.16.3/lib/site_perl/5.16.3/x86_64-linux-thread-multi
/home/david/cpantesting/perl-5.16.3/lib/site_perl/5.16.3
/home/david/cpantesting/perl-5.16.3/lib/5.16.3/x86_64-linux-thread-multi
/home/david/cpantesting/perl-5.16.3/lib/5.16.3
.