Back
From: metabase:user:314402c4-2aae-11df-837a-5e0a49663a4f
Subject: PASS Catalyst-Model-DBIC-Schema-0.65 v5.25.12 FreeBSD
Date: 2017-04-24T17:22:34Z
This distribution has been tested as part of the CPAN Testers
project, supporting the Perl programming language. See
http://wiki.cpantesters.org/ for more information or email
questions to cpan-testers-discuss@perl.org
--
Dear Gareth Kirwan,
This is a computer-generated report for Catalyst-Model-DBIC-Schema-0.65
on perl 5.25.12, created by CPAN-Reporter-1.2018.
Thank you for uploading your work to CPAN. Congratulations!
All tests were successful.
Sections of this report:
* Tester comments
* Program output
* Prerequisites
* Environment and other context
------------------------------
TESTER COMMENTS
------------------------------
Additional comments from tester:
none provided
------------------------------
PROGRAM OUTPUT
------------------------------
Output from '/usr/bin/make test':
PERL_DL_NONLAZY=1 "/usr/perl5.25.12p/bin/perl5.25.12" "-MExtUtils::Command::MM" "-MTest::Harness" "-e" "undef *Test::Harness::Switches; test_harness(0, 'inc', 'blib/lib', 'blib/arch')" t/01use.t t/02pod.t t/05testapp.t t/06c3_issues.t t/07connect_info.t t/08helper.t t/09schema_options.t t/10literal_sql_through_accessor.t
t/01use.t ........................... ok
t/02pod.t ........................... skipped: set TEST_POD to enable this test
t/05testapp.t ....................... skipped: Enable this optional test with $ENV{C_M_DBIC_SCHEMA_TESTAPP}
t/06c3_issues.t ..................... ok
t/07connect_info.t .................. ok
t/08helper.t ........................ skipped: Test requires module 'Catalyst::Helper' but it's not found
t/09schema_options.t ................ ok
t/10literal_sql_through_accessor.t .. ok
All tests successful.
Files=8, Tests=25, 8 wallclock secs ( 0.00 usr 0.08 sys + 0.77 cusr 2.40 csys = 3.24 CPU)
Result: PASS
------------------------------
PREREQUISITES
------------------------------
Prerequisite modules loaded:
requires:
Module Need Have
--------------------------------------- -------- --------
Carp::Clan 0 6.06
Catalyst::Component::InstancePerContext 0 0.001001
Catalyst::Runtime 5.80005 5.90114
CatalystX::Component::Traits 0.14 0.19
DBD::SQLite 0 1.54
DBIx::Class 0.08114 0.082840
DBIx::Class::Schema::Loader 0.04005 0.07046
Hash::Merge 0 0.200
List::MoreUtils 0 0.419
Module::Runtime 0.012 0.014
Moose 1.12 2.2004
MooseX::MarkAsMethods 0.13 0.15
MooseX::NonMoose 0.16 0.26
MooseX::Types 0 0.50
MooseX::Types::LoadableClass 0.009 0.014
namespace::autoclean 0.09 0.28
namespace::clean 0 0.27
perl 5.008001 5.025012
Storable 0 2.62
Test::Exception 0 0.43
Test::More 0.94 1.302083
Test::Requires 0 0.10
Tie::IxHash 0 1.23
Try::Tiny 0 0.28
build_requires:
Module Need Have
--------------------------------------- -------- --------
DBD::SQLite 0 1.54
ExtUtils::MakeMaker 6.59 7.24
Storable 0 2.62
Test::Exception 0 0.43
Test::More 0.94 1.302083
Test::Requires 0 0.10
configure_requires:
Module Need Have
--------------------------------------- -------- --------
ExtUtils::MakeMaker 6.59 7.24
------------------------------
ENVIRONMENT AND OTHER CONTEXT
------------------------------
Environment variables:
LC_ALL = de_DE.ISO8859-1
PATH = /usr/local/bin:/usr/bin:/bin:/usr/local/sbin:/usr/sbin:/sbin:/home/cpansand/bin/freebsd10.3:/home/cpansand/bin/sh:/home/cpansand/bin:/usr/games:/home/cpansand/devel:/home/eserte/src/srezic-misc/scripts
PERL5LIB = /home/cpansand/.cpan/build/2017042418/MooseX-Types-LoadableClass-0.014-0/blib/arch:/home/cpansand/.cpan/build/2017042418/MooseX-Types-LoadableClass-0.014-0/blib/lib:/home/cpansand/.cpan/build/2017042418/MooseX-MarkAsMethods-0.15-0/blib/arch:/home/cpansand/.cpan/build/2017042418/MooseX-MarkAsMethods-0.15-0/blib/lib:/home/cpansand/.cpan/build/2017042418/CatalystX-Component-Traits-0.19-0/blib/arch:/home/cpansand/.cpan/build/2017042418/CatalystX-Component-Traits-0.19-0/blib/lib:/home/cpansand/.cpan/build/2017042418/MooseX-Traits-Pluggable-0.12-0/blib/arch:/home/cpansand/.cpan/build/2017042418/MooseX-Traits-Pluggable-0.12-0/blib/lib:/home/cpansand/.cpan/build/2017042418/Catalyst-Component-InstancePerContext-0.001001-0/blib/arch:/home/cpansand/.cpan/build/2017042418/Catalyst-Component-InstancePerContext-0.001001-0/blib/lib
PERL5OPT =
PERL5_CPANPLUS_IS_RUNNING = 33063
PERL5_CPAN_IS_RUNNING = 33063
PERL5_CPAN_IS_RUNNING_IN_RECURSION = 33049,33063
PERLDOC = -MPod::Perldoc::ToTextOverstrike
PERL_BATCH = yes
PERL_CANARY_STABILITY_NOPROMPT = 1
PERL_CPAN_REPORTER_CONFIG = /var/tmp/cpansmoker-1023/2017042418/cpanreporter_002_config.ini
PERL_EXTUTILS_AUTOINSTALL = --defaultdeps
PERL_USE_UNSAFE_INC = 1
SHELL = /usr/local/bin/zsh
TERM = screen
TMPDIR = /var/tmp/cpansmoker-1023/2017042418
Perl special variables (and OS-specific diagnostics, for MSWin32):
$^X = /usr/perl5.25.12p/bin/perl5.25.12
$UID/$EUID = 1023 / 1023
$GID = 1023 1023
$EGID = 1023 1023
Perl module toolchain versions installed:
Module Have
------------------- ----------
CPAN 2.18
CPAN::Meta 2.150010
Cwd 3.67
ExtUtils::CBuilder 0.280225
ExtUtils::Command 7.24
ExtUtils::Install 2.04
ExtUtils::MakeMaker 7.24
ExtUtils::Manifest 1.70
ExtUtils::ParseXS 3.34
File::Spec 3.67
JSON 2.90
JSON::PP 2.27400_02
Module::Build 0.4222
Module::Signature 0.81
Parse::CPAN::Meta 2.150010
Test::Harness 3.38
Test::More 1.302083
YAML 1.23
YAML::Syck 1.30
version 0.9917
--
Summary of my perl5 (revision 5 version 25 subversion 12) configuration:
Platform:
osname=freebsd
osvers=10.3-release-p11
archname=amd64-freebsd
uname='freebsd cvrsnica-freebsd-101.herceg.de 10.3-release-p11 freebsd 10.3-release-p11 #0: mon oct 24 18:49:24 utc 2016 root@amd64-builder.daemonology.net:usrobjusrsrcsysgeneric amd64 '
config_args='-ds -e -Dprefix=/usr/perl5.25.12p -Dusedevel -Dusemallocwrap=no -Dcf_email=srezic@cpan.org -Doptimize=-O2 -pipe'
hint=previous
useposix=true
d_sigaction=define
useithreads=undef
usemultiplicity=undef
use64bitint=define
use64bitall=define
uselongdouble=undef
usemymalloc=n
default_inc_excludes_dot=define
bincompat5005=undef
Compiler:
cc='cc'
ccflags ='-DHAS_FPSETMASK -DHAS_FLOATINGPOINT_H -fno-strict-aliasing -pipe -fstack-protector -I/usr/local/include -D_FORTIFY_SOURCE=2'
optimize='-O2 -pipe'
cppflags='-DHAS_FPSETMASK -DHAS_FLOATINGPOINT_H -fno-strict-aliasing -pipe -fstack-protector -I/usr/local/include'
ccversion=''
gccversion='4.2.1 Compatible FreeBSD Clang 3.4.1 (tags/RELEASE_34/dot1-final 208032)'
gccosandvers=''
intsize=4
longsize=8
ptrsize=8
doublesize=8
byteorder=12345678
doublekind=3
d_longlong=define
longlongsize=8
d_longdbl=define
longdblsize=16
longdblkind=3
ivtype='long'
ivsize=8
nvtype='double'
nvsize=8
Off_t='off_t'
lseeksize=8
alignbytes=8
prototype=define
Linker and Libraries:
ld='cc'
ldflags ='-pthread -Wl,-E -fstack-protector -L/usr/local/lib'
libpth=/usr/lib /usr/local/lib /usr/include/clang/3.4.1 /usr/lib /usr/include/clang/3.4.1 /usr/lib
libs=-lpthread -lgdbm -lm -lcrypt -lutil -lc -lelf
perllibs=-lpthread -lm -lcrypt -lutil -lc -lelf
libc=
so=so
useshrplib=false
libperl=libperl.a
gnulibc_version=''
Dynamic Linking:
dlsrc=dl_dlopen.xs
dlext=so
d_dlsymun=undef
ccdlflags=' '
cccdlflags='-DPIC -fPIC'
lddlflags='-shared -L/usr/local/lib -fstack-protector'
Characteristics of this binary (from libperl):
Compile-time options:
HAS_TIMES
PERLIO_LAYERS
PERL_COPY_ON_WRITE
PERL_DONT_CREATE_GVSV
PERL_OP_PARENT
PERL_PRESERVE_IVUV
PERL_USE_DEVEL
USE_64_BIT_ALL
USE_64_BIT_INT
USE_LARGE_FILES
USE_LOCALE
USE_LOCALE_COLLATE
USE_LOCALE_CTYPE
USE_LOCALE_NUMERIC
USE_LOCALE_TIME
USE_PERLIO
USE_PERL_ATOF
Built under freebsd
Compiled at Apr 20 2017 22:19:27
%ENV:
PERL5LIB="/home/cpansand/.cpan/build/2017042418/MooseX-Types-LoadableClass-0.014-0/blib/arch:/home/cpansand/.cpan/build/2017042418/MooseX-Types-LoadableClass-0.014-0/blib/lib:/home/cpansand/.cpan/build/2017042418/MooseX-MarkAsMethods-0.15-0/blib/arch:/home/cpansand/.cpan/build/2017042418/MooseX-MarkAsMethods-0.15-0/blib/lib:/home/cpansand/.cpan/build/2017042418/CatalystX-Component-Traits-0.19-0/blib/arch:/home/cpansand/.cpan/build/2017042418/CatalystX-Component-Traits-0.19-0/blib/lib:/home/cpansand/.cpan/build/2017042418/MooseX-Traits-Pluggable-0.12-0/blib/arch:/home/cpansand/.cpan/build/2017042418/MooseX-Traits-Pluggable-0.12-0/blib/lib:/home/cpansand/.cpan/build/2017042418/Catalyst-Component-InstancePerContext-0.001001-0/blib/arch:/home/cpansand/.cpan/build/2017042418/Catalyst-Component-InstancePerContext-0.001001-0/blib/lib"
PERL5OPT=""
PERL5_CPANPLUS_IS_RUNNING="33063"
PERL5_CPAN_IS_RUNNING="33063"
PERL5_CPAN_IS_RUNNING_IN_RECURSION="33049,33063"
PERLDOC="-MPod::Perldoc::ToTextOverstrike"
PERL_BATCH="yes"
PERL_CANARY_STABILITY_NOPROMPT="1"
PERL_CPAN_REPORTER_CONFIG="/var/tmp/cpansmoker-1023/2017042418/cpanreporter_002_config.ini"
PERL_EXTUTILS_AUTOINSTALL="--defaultdeps"
PERL_USE_UNSAFE_INC="1"
@INC:
/home/cpansand/.cpan/build/2017042418/MooseX-Types-LoadableClass-0.014-0/blib/arch
/home/cpansand/.cpan/build/2017042418/MooseX-Types-LoadableClass-0.014-0/blib/lib
/home/cpansand/.cpan/build/2017042418/MooseX-MarkAsMethods-0.15-0/blib/arch
/home/cpansand/.cpan/build/2017042418/MooseX-MarkAsMethods-0.15-0/blib/lib
/home/cpansand/.cpan/build/2017042418/CatalystX-Component-Traits-0.19-0/blib/arch
/home/cpansand/.cpan/build/2017042418/CatalystX-Component-Traits-0.19-0/blib/lib
/home/cpansand/.cpan/build/2017042418/MooseX-Traits-Pluggable-0.12-0/blib/arch
/home/cpansand/.cpan/build/2017042418/MooseX-Traits-Pluggable-0.12-0/blib/lib
/home/cpansand/.cpan/build/2017042418/Catalyst-Component-InstancePerContext-0.001001-0/blib/arch
/home/cpansand/.cpan/build/2017042418/Catalyst-Component-InstancePerContext-0.001001-0/blib/lib
/usr/perl5.25.12p/lib/site_perl/5.25.12/amd64-freebsd
/usr/perl5.25.12p/lib/site_perl/5.25.12
/usr/perl5.25.12p/lib/5.25.12/amd64-freebsd
/usr/perl5.25.12p/lib/5.25.12
.