Pinto v0.14 Perl 5 v5.30.0 x86_64-gnukfreebsd

Status
Pass
From
Chris Williams (BINGOS)
Dist
Pinto v0.14
Platform
Perl 5 v5.30.0 x86_64-gnukfreebsd
Date
2019-06-14 01:20:33
ID
9b165fb0-8e42-11e9-9066-e374b0ba08e8
This distribution has been tested as part of the CPAN Testers
project, supporting the Perl programming language.  See
http://wiki.cpantesters.org/ for more information or email
questions to cpan-testers-discuss@perl.org


--

Dear Jeffrey Ryan Thalhammer,

This is a computer-generated error report created automatically by
CPANPLUS, version 0.9176. Testers personal comments may appear
at the end of this report.


Thank you for uploading your work to CPAN.  Congratulations!
All tests were successful.

TEST RESULTS:

Below is the error stack from stage 'make test':

PERL_DL_NONLAZY=1 "/home/cpan/pit/bare/perl-5.30.0/bin/perl" "-MExtUtils::Command::MM" "-MTest::Harness" "-e" "undef *Test::Harness::Switches; test_harness(0, 'blib/lib', 'blib/arch')" t/*.t t/01-common/*.t t/02-bowels/*.t t/03-remote/*.t t/04-server/*.t
t/00-compile.t ........................ ok
# 
# Versions for all modules listed in MYMETA.json (including optional ones):
# 
# === Configure Requires ===
# 
#     Module              Want Have
#     ------------------- ---- ----
#     ExtUtils::MakeMaker 6.64 7.36
# 
# === Configure Suggests ===
# 
#     Module      Want Have
#     -------- ------- ----
#     JSON::PP 2.27300 4.02
# 
# === Build Requires ===
# 
#     Module              Want Have
#     ------------------- ---- ----
#     ExtUtils::MakeMaker  any 7.36
# 
# === Test Requires ===
# 
#     Module                 Want     Have
#     --------------------- ----- --------
#     Apache::Htpasswd        any      1.9
#     Capture::Tiny           any     0.48
#     ExtUtils::MakeMaker     any     7.36
#     File::Spec              any     3.78
#     File::Temp              any   0.2309
#     FindBin                 any     1.51
#     HTTP::Body              any     1.22
#     HTTP::Response          any     6.18
#     HTTP::Server::PSGI      any    undef
#     IO::Handle              any     1.40
#     IPC::Open3              any     1.20
#     Module::Faker::Dist   0.014    0.022
#     Plack::Test             any    undef
#     Test::Builder::Module   any 1.302164
#     Test::Exception         any     0.43
#     Test::File              any    1.443
#     Test::LWP::UserAgent  0.018    0.033
#     Test::More             0.96 1.302164
#     Test::TCP               any     2.19
#     blib                   1.01     1.07
#     lib                     any     0.65
# 
# === Test Recommends ===
# 
#     Module         Want     Have
#     ---------- -------- --------
#     CPAN::Meta 2.120900 2.150010
# 
# === Runtime Requires ===
# 
#     Module                                Want       Have
#     ------------------------------- ---------- ----------
#     App::Cmd                             0.323      0.331
#     App::Cmd::Command::help                any      0.331
#     App::Cmd::Setup                        any      0.331
#     Archive::Extract                      0.68       0.80
#     Archive::Tar                           any       2.32
#     Authen::Simple::Passwd                 any        0.6
#     CPAN::Checksums                        any       2.12
#     CPAN::DistnameInfo                     any       0.12
#     CPAN::Meta                             any   2.150010
#     CPAN::Meta::Requirements               any      2.140
#     Carp                                   any       1.50
#     Class::Load                            any       0.25
#     Cwd                                    any       3.78
#     Cwd::Guard                             any       0.05
#     DBD::SQLite                           1.33       1.62
#     DBIx::Class                        0.08200   0.082841
#     DBIx::Class::Core                      any      undef
#     DBIx::Class::ResultSet                 any      undef
#     DBIx::Class::Schema                    any      undef
#     DateTime                               any       1.51
#     DateTime::TimeZone                     any       2.35
#     DateTime::TimeZone::Local::Unix        any       2.35
#     DateTime::TimeZone::OffsetOnly         any       2.35
#     Devel::StackTrace                      any       2.04
#     Digest::MD5                            any       2.55
#     Digest::SHA                            any       6.02
#     Dist::Metadata                       0.926      0.927
#     Encode                                 any       3.01
#     Exporter                               any       5.73
#     File::Copy                             any       2.34
#     File::Find                             any       1.36
#     File::HomeDir                          any      1.004
#     File::NFSLock                          any       1.29
#     File::Spec                             any       3.78
#     File::Temp                             any     0.2309
#     File::Which                            any       1.23
#     Getopt::Long                           any        2.5
#     HTTP::Date                             any       6.02
#     HTTP::Request::Common                  any       6.18
#     HTTP::Status                           any       6.18
#     IO::File                               any       1.40
#     IO::Handle                             any       1.40
#     IO::Interactive                        any      1.022
#     IO::Pipe                               any       1.40
#     IO::Prompt                             any   0.997004
#     IO::Select                             any       1.40
#     IO::String                             any       1.08
#     IO::Zlib                               any       1.10
#     JSON                                   any       4.02
#     JSON::PP                           2.27103       4.02
#     LWP::UserAgent                         any       6.39
#     List::MoreUtils                        any      0.428
#     List::Util                             any       1.50
#     Module::CoreList                5.20170720 5.20190522
#     Module::Metadata                  1.000031   1.000036
#     Moose                                  any     2.2011
#     Moose::Role                            any     2.2011
#     MooseX::Aliases                        any       0.11
#     MooseX::ClassAttribute                0.27       0.29
#     MooseX::Configuration                  any       0.02
#     MooseX::MarkAsMethods                  any       0.15
#     MooseX::NonMoose                       any       0.26
#     MooseX::SetOnce                        any   0.200002
#     MooseX::StrictConstructor              any       0.21
#     MooseX::Types                          any       0.50
#     MooseX::Types::Moose                   any       0.50
#     Path::Class                            any       0.37
#     Path::Class::Dir                       any       0.37
#     Path::Class::File                      any       0.37
#     Plack                               1.0028     1.0047
#     Plack::MIME                            any      undef
#     Plack::Middleware::Auth::Basic         any      undef
#     Plack::Request                         any     1.0047
#     Plack::Response                        any     1.0047
#     Plack::Runner                          any      undef
#     Pod::Usage                             any       1.69
#     Proc::Fork                             any      0.806
#     Proc::Terminator                       any       0.05
#     Readonly                               any       2.05
#     Router::Simple                         any       0.17
#     Scalar::Util                           any       1.50
#     Starman                             0.3014     0.4015
#     String::Format                         any       1.18
#     Term::ANSIColor                       2.02       4.06
#     Throwable::Error                  0.200005   0.200013
#     Try::Tiny                              any       0.30
#     URI                                    any       1.76
#     URI::Escape                           3.31       3.31
#     URI::file                              any       4.21
#     UUID::Tiny                             any       1.04
#     Variable::Magic                       0.57       0.62
#     base                                   any       2.27
#     overload                               any       1.30
#     strict                                 any       1.11
#     utf8                                   any       1.22
#     version                                any     0.9924
#     warnings                               any       1.44
# 
# === Other Modules ===
# 
#     Module          Have
#     ----------- --------
#     DBD::SQLite     1.62
#     DBIx::Class 0.082841
# 
t/00-report-prereqs.t ................. ok
t/01-common/01-types.t ................ ok
t/01-common/02-target-package.t ....... ok
t/01-common/03-target-distribution.t .. ok
t/01-common/04-util.t ................. ok
t/01-common/05-pauseconfig.t .......... ok
t/02-bowels/01-config.t ............... ok
t/02-bowels/02-chrome.t ............... ok
t/02-bowels/03-package.t .............. ok
t/02-bowels/04-distribution.t ......... ok
t/02-bowels/05-compare.t .............. ok
t/02-bowels/10-init.t ................. ok
t/02-bowels/11-tester.t ............... ok
t/02-bowels/12-locator.t .............. ok
t/02-bowels/19-basic.t ................ ok
t/02-bowels/20-add.t .................. ok
t/02-bowels/21-add-no-index.t ......... ok
t/02-bowels/21-pull-vreq.t ............ ok
t/02-bowels/21-pull.t ................. ok
t/02-bowels/22-add-deep.t ............. ok
t/02-bowels/23-pull-multi.t ........... ok
t/02-bowels/24-skip-prereqs.t ......... ok
t/02-bowels/31-pin.t .................. ok
t/02-bowels/32-pin-rjbs.t ............. ok
t/02-bowels/35-delete.t ............... ok
t/02-bowels/40-list.t ................. ok
t/02-bowels/41-log.t .................. ok
t/02-bowels/42-install.t .............. skipped: Need cpanm 1.6920 or newer
t/02-bowels/43-install-and-pull.t ..... skipped: Need cpanm 1.6920 or newer
t/02-bowels/50-diff.t ................. ok
t/02-bowels/51-diff-more.t ............ ok
t/02-bowels/52-intermingle.t .......... ok
t/02-bowels/53-roots.t ................ ok
t/02-bowels/54-revert.t ............... ok
t/02-bowels/60-dryrun.t ............... ok
t/02-bowels/61-nofail.t ............... ok
t/02-bowels/62-commit.t ............... ok
t/02-bowels/63-prereq-circular.t ...... ok
t/02-bowels/63-prereq-core.t .......... ok
t/02-bowels/64-metadata.t ............. ok
t/02-bowels/70-stack-copy.t ........... ok
t/02-bowels/71-stack-kill.t ........... ok
t/02-bowels/72-stack-rename.t ......... ok
t/02-bowels/73-stack-lock.t ........... ok
t/02-bowels/74-stack-default.t ........ ok
t/02-bowels/75-stack-props.t .......... ok
PINTO_STALE_LOCKFILE_TIMEOUT > 0, may steal lock !!
t/02-bowels/80-repo-lock.t ............ ok
t/03-remote/01-requests.t ............. ok
t/03-remote/02-responses.t ............ ok
t/03-remote/03-install.t .............. skipped: Need cpanm 1.6920 or newer
t/03-remote/04-install-with-auth.t .... skipped: Need cpanm 1.6920 or newer
t/03-remote/05-timezone.t ............. ok
t/04-server/01-functional.t ........... ok
t/04-server/02-authentication.t ....... ok
t/04-server/03-security.t ............. ok
All tests successful.
Files=56, Tests=645, 220 wallclock secs ( 0.27 usr  0.08 sys + 135.53 cusr 22.08 csys = 157.97 CPU)
Result: PASS


PREREQUISITES:

Here is a list of prerequisites you specified and versions we
managed to load:

	  Module Name                        Have     Want
	  Apache::Htpasswd                    1.9        0
	  App::Cmd                          0.331    0.323
	  App::Cmd::Command::help           0.331        0
	  App::Cmd::Setup                   0.331        0
	  Archive::Extract                   0.80     0.68
	  Archive::Tar                       2.32        0
	  Authen::Simple::Passwd              0.6        0
	  CPAN::Checksums                    2.12        0
	  CPAN::DistnameInfo                 0.12        0
	  CPAN::Meta                     2.150010        0
	  CPAN::Meta::Requirements          2.140        0
	  Capture::Tiny                      0.48        0
	  Carp                               1.50        0
	  Class::Load                        0.25        0
	  Cwd                                3.78        0
	  Cwd::Guard                         0.05        0
	  DBD::SQLite                        1.62     1.33
	  DBIx::Class                    0.082841  0.08200
	  DBIx::Class::Core                     0        0
	  DBIx::Class::ResultSet                0        0
	  DBIx::Class::Schema                   0        0
	  DateTime                           1.51        0
	  DateTime::TimeZone                 2.35        0
	  DateTime::TimeZone::Local::Unix     2.35        0
	  DateTime::TimeZone::OffsetOnly     2.35        0
	  Devel::StackTrace                  2.04        0
	  Digest::MD5                        2.55        0
	  Digest::SHA                        6.02        0
	  Dist::Metadata                    0.927    0.926
	  Encode                             3.01        0
	  Exporter                           5.73        0
	  ExtUtils::MakeMaker                7.36        0
	  File::Copy                         2.34        0
	  File::Find                         1.36        0
	  File::HomeDir                     1.004        0
	  File::NFSLock                      1.29        0
	  File::Spec                         3.78        0
	  File::Temp                       0.2309        0
	  File::Which                        1.23        0
	  FindBin                            1.51        0
	  Getopt::Long                        2.5        0
	  HTTP::Body                         1.22        0
	  HTTP::Date                         6.02        0
	  HTTP::Request::Common              6.18        0
	  HTTP::Response                     6.18        0
	  HTTP::Server::PSGI                    0        0
	  HTTP::Status                       6.18        0
	  IO::File                           1.40        0
	  IO::Handle                         1.40        0
	  IO::Interactive                   1.022        0
	  IO::Pipe                           1.40        0
	  IO::Prompt                     0.997004        0
	  IO::Select                         1.40        0
	  IO::String                         1.08        0
	  IO::Zlib                           1.10        0
	  IPC::Open3                         1.20        0
	  JSON                               4.02        0
	  JSON::PP                           4.02  2.27103
	  LWP::UserAgent                     6.39        0
	  List::MoreUtils                   0.428        0
	  List::Util                         1.50        0
	  Module::CoreList               5.20190522 5.20170720
	  Module::Faker::Dist               0.022    0.014
	  Module::Metadata               1.000036 1.000031
	  Moose                            2.2011        0
	  Moose::Role                      2.2011        0
	  MooseX::Aliases                    0.11        0
	  MooseX::ClassAttribute             0.29     0.27
	  MooseX::Configuration              0.02        0
	  MooseX::MarkAsMethods              0.15        0
	  MooseX::NonMoose                   0.26        0
	  MooseX::SetOnce                0.200002        0
	  MooseX::StrictConstructor          0.21        0
	  MooseX::Types                      0.50        0
	  MooseX::Types::Moose               0.50        0
	  Path::Class                        0.37        0
	  Path::Class::Dir                   0.37        0
	  Path::Class::File                  0.37        0
	  Plack                            1.0047   1.0028
	  Plack::MIME                           0        0
	  Plack::Middleware::Auth::Basic        0        0
	  Plack::Request                   1.0047        0
	  Plack::Response                  1.0047        0
	  Plack::Runner                         0        0
	  Plack::Test                           0        0
	  Pod::Usage                         1.69        0
	  Proc::Fork                        0.806        0
	  Proc::Terminator                   0.05        0
	  Readonly                           2.05        0
	  Router::Simple                     0.17        0
	  Scalar::Util                       1.50        0
	  Starman                          0.4015   0.3014
	  String::Format                     1.18        0
	  Term::ANSIColor                    4.06     2.02
	  Test::Builder::Module          1.302164        0
	  Test::Exception                    0.43        0
	  Test::File                        1.443        0
	  Test::LWP::UserAgent              0.033    0.018
	  Test::More                     1.302164     0.96
	  Test::TCP                          2.19        0
	  Throwable::Error               0.200013 0.200005
	  Try::Tiny                          0.30        0
	  URI                                1.76        0
	  URI::Escape                        3.31     3.31
	  URI::file                          4.21        0
	  UUID::Tiny                         1.04        0
	  Variable::Magic                    0.62     0.57
	  base                               2.27        0
	  blib                               1.07     1.01
	  lib                                0.65        0
	  overload                           1.30        0
	  strict                             1.11        0
	  utf8                               1.22        0
	  version                          0.9924        0
	  warnings                           1.44        0

Perl module toolchain versions installed:
	Module Name                        Have
	CPANPLUS                         0.9176
	CPANPLUS::Dist::Build              0.90
	Cwd                                3.78
	ExtUtils::CBuilder             0.280231
	ExtUtils::Command                  7.36
	ExtUtils::Install                  2.14
	ExtUtils::MakeMaker                7.36
	ExtUtils::Manifest                 1.72
	ExtUtils::ParseXS                  3.40
	File::Spec                         3.78
	Module::Build                    0.4229
	Pod::Parser                        1.63
	Pod::Simple                        3.35
	Test2                          1.302164
	Test::Harness                      3.42
	Test::More                     1.302164
	version                          0.9924

******************************** NOTE ********************************
The comments above are created mechanically, possibly without manual
checking by the sender.  As there are many people performing automatic
tests on each upload to CPAN, it is likely that you will receive
identical messages about the same problem.

If you believe that the message is mistaken, please reply to the first
one with correction and/or additional informations, and do not take
it personally.  We appreciate your patience. :)
**********************************************************************

Additional comments:


This report was machine-generated by CPANPLUS::Dist::YACSmoke 1.08.
Powered by minismokebox version 0.68

CPANPLUS is prefering Build.PL

------------------------------
ENVIRONMENT AND OTHER CONTEXT
------------------------------

Environment variables:

    AUTOMATED_TESTING = 1
    LANG = en_GB.UTF-8
    LANGUAGE = en_GB:en
    NONINTERACTIVE_TESTING = 1
    PATH = /home/cpan/pit/bare/conf/perl-5.30.0/.cpanplus/5.30.0/build/GQoQ40XECI/Pinto-0.14/blib/script:/usr/local/bin:/usr/bin:/bin:/usr/local/games:/usr/games
    PERL5LIB = /home/cpan/pit/jail/MTpnJXtKQx/lib/perl5:/home/cpan/pit/bare/conf/perl-5.30.0/.cpanplus/5.30.0/build/GQoQ40XECI/Pinto-0.14/blib/lib:/home/cpan/pit/bare/conf/perl-5.30.0/.cpanplus/5.30.0/build/GQoQ40XECI/Pinto-0.14/blib/arch
    PERL5_CPANPLUS_IS_RUNNING = 16036
    PERL5_CPANPLUS_IS_VERSION = 0.9176
    PERL5_MINISMOKEBOX = 0.68
    PERL5_YACSMOKE_BASE = /home/cpan/pit/bare/conf/perl-5.30.0
    PERL_EXTUTILS_AUTOINSTALL = --defaultdeps
    PERL_LOCAL_LIB_ROOT = /home/cpan/pit/jail/MTpnJXtKQx
    PERL_MB_OPT = --install_base "/home/cpan/pit/jail/MTpnJXtKQx"
    PERL_MM_OPT = INSTALL_BASE=/home/cpan/pit/jail/MTpnJXtKQx
    PERL_MM_USE_DEFAULT = 1
    PERL_USE_UNSAFE_INC = 1
    SHELL = /bin/bash
    TERM = screen

Perl special variables (and OS-specific diagnostics, for MSWin32):

    Perl: $^X = /home/cpan/pit/bare/perl-5.30.0/bin/perl
    UID:  $<  = 1001
    EUID: $>  = 1001
    GID:  $(  = 1001 1001
    EGID: $)  = 1001 1001


-------------------------------


--

Summary of my perl5 (revision 5 version 30 subversion 0) configuration:
   
  Platform:
    osname=gnukfreebsd
    osvers=10.1-0-amd64
    archname=x86_64-gnukfreebsd
    uname='gnukfreebsd kondor 10.1-0-amd64 #0 wed, 16 mar 2016 23:16:33 +0000 x86_64 amd64 qemu virtual cpu version 2.0.0 gnukfreebsd '
    config_args='-des -Dprefix=/home/cpan/pit/bare/perl-5.30.0'
    hint=recommended
    useposix=true
    d_sigaction=define
    useithreads=undef
    usemultiplicity=undef
    use64bitint=define
    use64bitall=define
    uselongdouble=undef
    usemymalloc=n
    default_inc_excludes_dot=define
    bincompat5005=undef
  Compiler:
    cc='cc'
    ccflags ='-fwrapv -fno-strict-aliasing -pipe -fstack-protector-strong -I/usr/local/include -D_LARGEFILE_SOURCE -D_FILE_OFFSET_BITS=64 -D_FORTIFY_SOURCE=2'
    optimize='-O2'
    cppflags='-fwrapv -fno-strict-aliasing -pipe -fstack-protector-strong -I/usr/local/include'
    ccversion=''
    gccversion='4.9.2'
    gccosandvers=''
    intsize=4
    longsize=8
    ptrsize=8
    doublesize=8
    byteorder=12345678
    doublekind=3
    d_longlong=define
    longlongsize=8
    d_longdbl=define
    longdblsize=16
    longdblkind=3
    ivtype='long'
    ivsize=8
    nvtype='double'
    nvsize=8
    Off_t='off_t'
    lseeksize=8
    alignbytes=8
    prototype=define
  Linker and Libraries:
    ld='cc'
    ldflags =' -fstack-protector-strong -L/usr/local/lib'
    libpth=/usr/local/lib /usr/lib/gcc/x86_64-kfreebsd-gnu/4.9/include-fixed /usr/include/x86_64-kfreebsd-gnu /usr/lib /lib/x86_64-kfreebsd-gnu /lib/../lib /usr/lib/x86_64-kfreebsd-gnu /usr/lib/../lib /lib
    libs=-lpthread -lnsl -lgdbm -ldl -lm -lcrypt -lutil -lc -lgdbm_compat
    perllibs=-lpthread -lnsl -ldl -lm -lcrypt -lutil -lc
    libc=/usr/lib/x86_64-kfreebsd-gnu/libc.so
    so=so
    useshrplib=false
    libperl=libperl.a
    gnulibc_version='2.19'
  Dynamic Linking:
    dlsrc=dl_dlopen.xs
    dlext=so
    d_dlsymun=undef
    ccdlflags='-Wl,-E'
    cccdlflags='-fpic'
    lddlflags='-shared -O2 -L/usr/local/lib -fstack-protector-strong'


Characteristics of this binary (from libperl): 
  Compile-time options:
    HAS_TIMES
    PERLIO_LAYERS
    PERL_COPY_ON_WRITE
    PERL_DONT_CREATE_GVSV
    PERL_MALLOC_WRAP
    PERL_OP_PARENT
    PERL_PRESERVE_IVUV
    USE_64_BIT_ALL
    USE_64_BIT_INT
    USE_LARGE_FILES
    USE_LOCALE
    USE_LOCALE_COLLATE
    USE_LOCALE_CTYPE
    USE_LOCALE_NUMERIC
    USE_LOCALE_TIME
    USE_PERLIO
    USE_PERL_ATOF
  Built under gnukfreebsd
  Compiled at May 22 2019 19:37:21
  %ENV:
    PERL5LIB="/home/cpan/pit/jail/MTpnJXtKQx/lib/perl5:/home/cpan/pit/bare/conf/perl-5.30.0/.cpanplus/5.30.0/build/GQoQ40XECI/Pinto-0.14/blib/lib:/home/cpan/pit/bare/conf/perl-5.30.0/.cpanplus/5.30.0/build/GQoQ40XECI/Pinto-0.14/blib/arch"
    PERL5_CPANPLUS_IS_RUNNING="16036"
    PERL5_CPANPLUS_IS_VERSION="0.9176"
    PERL5_MINISMOKEBOX="0.68"
    PERL5_YACSMOKE_BASE="/home/cpan/pit/bare/conf/perl-5.30.0"
    PERL_EXTUTILS_AUTOINSTALL="--defaultdeps"
    PERL_LOCAL_LIB_ROOT="/home/cpan/pit/jail/MTpnJXtKQx"
    PERL_MB_OPT="--install_base "/home/cpan/pit/jail/MTpnJXtKQx""
    PERL_MM_OPT="INSTALL_BASE=/home/cpan/pit/jail/MTpnJXtKQx"
    PERL_MM_USE_DEFAULT="1"
    PERL_USE_UNSAFE_INC="1"
  @INC:
    /home/cpan/pit/jail/MTpnJXtKQx/lib/perl5/5.30.0/x86_64-gnukfreebsd
    /home/cpan/pit/jail/MTpnJXtKQx/lib/perl5/5.30.0
    /home/cpan/pit/jail/MTpnJXtKQx/lib/perl5/x86_64-gnukfreebsd
    /home/cpan/pit/jail/MTpnJXtKQx/lib/perl5
    /home/cpan/pit/bare/conf/perl-5.30.0/.cpanplus/5.30.0/build/GQoQ40XECI/Pinto-0.14/blib/lib
    /home/cpan/pit/bare/conf/perl-5.30.0/.cpanplus/5.30.0/build/GQoQ40XECI/Pinto-0.14/blib/arch
    /home/cpan/pit/bare/perl-5.30.0/lib/site_perl/5.30.0/x86_64-gnukfreebsd
    /home/cpan/pit/bare/perl-5.30.0/lib/site_perl/5.30.0
    /home/cpan/pit/bare/perl-5.30.0/lib/5.30.0/x86_64-gnukfreebsd
    /home/cpan/pit/bare/perl-5.30.0/lib/5.30.0
    .