Back
From: metabase:user:3138bf04-2aae-11df-837a-5e0a49663a4f
Subject: PASS Convert-BinHex-1.122 v5.12.4 Mac OS X
Date: 2013-08-27T18:22:18Z
This distribution has been tested as part of the CPAN Testers
project, supporting the Perl programming language. See
http://wiki.cpantesters.org/ for more information or email
questions to cpan-testers-discuss@perl.org
--
Dear Stephen Nelson,
This is a computer-generated report for Convert-BinHex-1.122
on perl 5.12.4, created by CPAN-Reporter-1.2010.
Thank you for uploading your work to CPAN. Congratulations!
All tests were successful.
Sections of this report:
* Tester comments
* Program output
* Prerequisites
* Environment and other context
------------------------------
TESTER COMMENTS
------------------------------
Additional comments from tester:
none provided
------------------------------
PROGRAM OUTPUT
------------------------------
Output from '/usr/bin/make test':
PERL_DL_NONLAZY=1 /usr/bin/perl "-MExtUtils::Command::MM" "-e" "test_harness(0, 'blib/lib', 'blib/arch')" t/*.t
t/1.t ..................... ok
Use of uninitialized value in pack at /Users/roland/.cpan/build/Convert-BinHex-1.122-wi9b4O/blib/lib/Convert/BinHex.pm line 938.
Use of uninitialized value in string eq at /Users/roland/.cpan/build/Convert-BinHex-1.122-wi9b4O/blib/lib/Convert/BinHex.pm line 1444.
t/bin_to_hex_file.t ....... ok
t/comp2bin.t .............. ok
t/crc.t ................... ok
t/hex_to_bin_oo.t ......... ok
t/release-cpan-changes.t .. skipped: these tests are for release candidate testing
All tests successful.
Files=6, Tests=18, 1 wallclock secs ( 0.03 usr 0.02 sys + 0.34 cusr 0.04 csys = 0.43 CPU)
Result: PASS
------------------------------
PREREQUISITES
------------------------------
Prerequisite modules loaded:
requires:
Module Need Have
------------------- ---- -------
Carp 0 1.26
Exporter 0 5.68
Fcntl 0 1.06
File::Basename 0 2.78
FileHandle 0 2.02
Getopt::Std 0 1.06
integer 0 1.00
lib 0 0.63
POSIX 0 1.19
strict 0 1.04
vars 0 1.01
warnings 0 1.09
build_requires:
Module Need Have
------------------- ---- -------
autodie 0 2.20
File::Compare 0 1.1006
File::Slurp 0 9999.19
File::Temp 0 0.2301
FindBin 0 1.50
Test::More 0 0.98
Test::Most 0 0.31
configure_requires:
Module Need Have
------------------- ---- -------
ExtUtils::MakeMaker 6.30 6.72
------------------------------
ENVIRONMENT AND OTHER CONTEXT
------------------------------
Environment variables:
LANG = en_US.UTF-8
LC_ALL = en_US.UTF-8
LC_CTYPE = UTF-8
PATH = /usr/bin:/bin
PERL5LIB =
PERL5OPT =
PERL5_CPANPLUS_IS_RUNNING = 2019
PERL5_CPAN_IS_RUNNING = 2019
SHELL = /bin/bash
TERM = xterm-256color
VERSIONER_PERL_PREFER_32_BIT = no
VERSIONER_PERL_VERSION = 5.12
Perl special variables (and OS-specific diagnostics, for MSWin32):
$^X = /usr/bin/perl
$UID/$EUID = 0 / 0
$GID = 0 0 401 403 1 2 3 4 5 8 9 12 20 29 33 61 80 98 100 204 402
$EGID = 0 0 401 403 1 2 3 4 5 8 9 12 20 29 33 61 80 98 100 204 402
Perl module toolchain versions installed:
Module Have
------------------- --------
CPAN 2.00
CPAN::Meta 2.132140
Cwd 3.40
ExtUtils::CBuilder 0.280205
ExtUtils::Command 1.17
ExtUtils::Install 1.55
ExtUtils::MakeMaker 6.72
ExtUtils::Manifest 1.61
ExtUtils::ParseXS 3.21
File::Spec 3.40
JSON 2.59
JSON::PP 2.27202
Module::Build 0.4007
Module::Signature 0.73
Parse::CPAN::Meta 1.4405
Test::Harness 3.28
Test::More 0.98
YAML 0.84
YAML::Syck 1.27
version 0.9903
--
Summary of my perl5 (revision 5 version 12 subversion 4) configuration:
Platform:
osname=darwin, osvers=12.0, archname=darwin-thread-multi-2level
uname='darwin b1026.apple.com 12.0 darwin kernel version 12.0.0: tue may 15 23:31:29 pdt 2012; root:xnu-2050.6.70~1release_x86_64 x86_64 '
config_args='-ds -e -Dprefix=/usr -Dccflags=-g -pipe -Dldflags= -Dman3ext=3pm -Duseithreads -Duseshrplib -Dinc_version_list=none -Dcc=clang'
hint=recommended, useposix=true, d_sigaction=define
useithreads=define, usemultiplicity=define
useperlio=define, d_sfio=undef, uselargefiles=define, usesocks=undef
use64bitint=define, use64bitall=define, uselongdouble=undef
usemymalloc=n, bincompat5005=undef
Compiler:
cc='clang', ccflags ='-arch i386 -arch x86_64 -g -pipe -fno-common -DPERL_DARWIN -fno-strict-aliasing -fstack-protector -I/usr/local/include',
optimize='-Os',
cppflags='-g -pipe -fno-common -DPERL_DARWIN -fno-strict-aliasing -fstack-protector -I/usr/local/include'
ccversion='', gccversion='4.2.1 Compatible Apple Clang 4.0 (tags/Apple/clang-418.0.60)', gccosandvers=''
intsize=4, longsize=8, ptrsize=8, doublesize=8, byteorder=12345678
d_longlong=define, longlongsize=8, d_longdbl=define, longdblsize=16
ivtype='long', ivsize=8, nvtype='double', nvsize=8, Off_t='off_t', lseeksize=8
alignbytes=8, prototype=define
Linker and Libraries:
ld='clang -mmacosx-version-min=10.8', ldflags ='-arch i386 -arch x86_64 -fstack-protector -L/usr/local/lib'
libpth=/usr/local/lib /usr/lib
libs=-ldbm -ldl -lm -lutil -lc
perllibs=-ldl -lm -lutil -lc
libc=, so=dylib, useshrplib=true, libperl=libperl.dylib
gnulibc_version=''
Dynamic Linking:
dlsrc=dl_dlopen.xs, dlext=bundle, d_dlsymun=undef, ccdlflags=' '
cccdlflags=' ', lddlflags='-arch i386 -arch x86_64 -bundle -undefined dynamic_lookup -L/usr/local/lib -fstack-protector'
Characteristics of this binary (from libperl):
Compile-time options: MULTIPLICITY PERL_DONT_CREATE_GVSV
PERL_IMPLICIT_CONTEXT PERL_MALLOC_WRAP USE_64_BIT_ALL
USE_64_BIT_INT USE_ITHREADS USE_LARGE_FILES
USE_PERLIO USE_PERL_ATOF USE_REENTRANT_API
Locally applied patches:
/Library/Perl/Updates/<version> comes before system perl directories
installprivlib and installarchlib points to the Updates directory
Built under darwin
Compiled at Jun 20 2012 13:55:28
%ENV:
PERL5LIB=""
PERL5OPT=""
PERL5_CPANPLUS_IS_RUNNING="2019"
PERL5_CPAN_IS_RUNNING="2019"
@INC:
/Library/Perl/5.12/darwin-thread-multi-2level
/Library/Perl/5.12
/Network/Library/Perl/5.12/darwin-thread-multi-2level
/Network/Library/Perl/5.12
/Library/Perl/Updates/5.12.4/darwin-thread-multi-2level
/Library/Perl/Updates/5.12.4
/System/Library/Perl/5.12/darwin-thread-multi-2level
/System/Library/Perl/5.12
/System/Library/Perl/Extras/5.12/darwin-thread-multi-2level
/System/Library/Perl/Extras/5.12
.