WebService-IPAPI v0.01 Perl 5 v5.22.1 MSWin32-x86-multi-thread-64int

Status
Pass
From
Alexandr Ciornii (CHORNY)
Dist
WebService-IPAPI v0.01
Platform
Perl 5 v5.22.1 MSWin32-x86-multi-thread-64int
Date
2019-02-04 15:18:52
ID
9b5b4566-6bf3-1014-9518-daec75b82fd8
This distribution has been tested as part of the CPAN Testers
project, supporting the Perl programming language.  See
http://wiki.cpantesters.org/ for more information or email
questions to cpan-testers-discuss@perl.org


--
Dear Kian Meng, Ang,

This is a computer-generated report for WebService-IPAPI-0.01
on perl 5.22.1, created by CPAN-Reporter-1.2018_01.

Thank you for uploading your work to CPAN.  Congratulations!
All tests were successful.

Sections of this report:

    * Tester comments
    * Program output
    * Prerequisites
    * Environment and other context

------------------------------
TESTER COMMENTS
------------------------------

Additional comments from tester:

this report is from an automated smoke testing program
and was not reviewed by a human for accuracy

------------------------------
PROGRAM OUTPUT
------------------------------

Output from 'C:\Strawberry221\perl\bin\perl.exe ./Build test':

t/00-compile.t .............. ok
# Testing with Perl 5.022001, C:\Strawberry221\perl\bin\perl.exe
#     File::Spec version is 3.62
#     IO::Handle version is 1.35
#     IPC::Open3 version is 1.18
#     JSON version is 2.90
#     Module::Build::Tiny version is 0.039
#     Moo version is 2.001001
#     MooX::Enumeration version is 0.007
#     Pod::Coverage::TrustPod version is 0.100003
#     REST::Client version is 273
#     Role::REST::Client version is 0.23
#     Test::CPAN::Meta version is 0.25
#     Test::DistManifest version is 1.014
#     Test::Exception version is 0.43
#     Test::HasVersion version is 0.014
#     Test::More version is 1.001014
#     Test::Warn version is 0.30
#     Types::Standard version is 1.000005
#     namespace::clean version is 0.26
#     strictures version is 2.000002
t/000-report-versions.t ..... ok
t/00_compile.t .............. ok
t/01_instantiation.t ........ ok
t/02_lookup.t ............... skipped: $ENV{IPAPI_ACCESS_KEY} not set, skipping live tests
t/03_bulk_lookup.t .......... skipped: $ENV{IPAPI_ACCESS_KEY} not set, skipping live tests
t/04_check.t ................ skipped: $ENV{IPAPI_ACCESS_KEY} not set, skipping live tests
t/author-eol.t .............. skipped: these tests are for testing by the author
t/author-minimum-version.t .. skipped: these tests are for testing by the author
t/author-pod-coverage.t ..... skipped: these tests are for testing by the author
t/author-pod-syntax.t ....... skipped: these tests are for testing by the author
t/release-distmeta.t ........ skipped: these tests are for release candidate testing
t/release-has-version.t ..... skipped: these tests are for release candidate testing
t/release-kwalitee.t ........ skipped: these tests are for release candidate testing
t/release-unused-vars.t ..... skipped: these tests are for release candidate testing
All tests successful.
Files=15, Tests=27,  6 wallclock secs ( 0.11 usr +  0.08 sys =  0.19 CPU)
Result: PASS

------------------------------
PREREQUISITES
------------------------------

Prerequisite modules loaded:

requires:

    Module                  Need  Have    
    ----------------------- ----- --------
    JSON                    0     2.90    
    Moo                     0     2.001001
    MooX::Enumeration       0     0.007   
    namespace::clean        0     0.26    
    perl                    5.010 5.022001
    REST::Client            0     273     
    Role::REST::Client      0     0.23    
    strictures              2     2.000002
    Types::Standard         0     1.000005

build_requires:

    Module                  Need  Have    
    ----------------------- ----- --------
    File::Spec              0     3.62    
    IO::Handle              0     1.35    
    IPC::Open3              0     1.18    
    Pod::Coverage::TrustPod 0     0.100003
    Test::CPAN::Meta        0     0.25    
    Test::DistManifest      0     1.014   
    Test::Exception         0     0.43    
    Test::HasVersion        0     0.014   
    Test::Kwalitee          0     1.22    
    Test::More              0     1.001014
    Test::Pod::Coverage     0     1.10    
    Test::Warn              0     0.30    

configure_requires:

    Module                  Need  Have    
    ----------------------- ----- --------
    Module::Build::Tiny     0.034 0.039   


------------------------------
ENVIRONMENT AND OTHER CONTEXT
------------------------------

Environment variables:

    AUTOMATED_TESTING = 1
    COMSPEC = C:\WINDOWS\system32\cmd.exe
    NUMBER_OF_PROCESSORS = 1
    PATH = C:\WINDOWS\system32;C:\WINDOWS;C:\WINDOWS\System32\Wbem;C:\Strawberry221\c\bin;C:\Strawberry221\perl\site\bin;C:\Strawberry221\perl\bin;C:\Git\cmd
    PERL5LIB = C:\STRAWB~1\cpan\build\Role-REST-Client-0.23-AmjNli/blib/arch;C:\STRAWB~1\cpan\build\Role-REST-Client-0.23-AmjNli/blib/lib;C:\STRAWB~1\cpan\build\URI-Escape-XS-0.14-dWjXtZ/blib/arch;C:\STRAWB~1\cpan\build\URI-Escape-XS-0.14-dWjXtZ/blib/lib;C:\STRAWB~1\cpan\build\MooX-Enumeration-0.007-DaglcP/blib/arch;C:\STRAWB~1\cpan\build\MooX-Enumeration-0.007-DaglcP/blib/lib;C:\STRAWB~1\cpan\build\REST-Client-273-ZVJCjj/blib/arch;C:\STRAWB~1\cpan\build\REST-Client-273-ZVJCjj/blib/lib
    PERL5OPT = 
    PERL5_CPANPLUS_IS_RUNNING = 764
    PERL5_CPAN_IS_RUNNING = 764
    PERL5_CPAN_IS_RUNNING_IN_RECURSION = 1964,764
    PERL_CR_SMOKER_CURRENT = WebService-IPAPI-0.01
    PERL_CR_SMOKER_RUNONCE = 1
    PERL_EXTUTILS_AUTOINSTALL = --defaultdeps
    PERL_HASH_SEED = 0x11111111
    PERL_MM_USE_DEFAULT = 1
    PROCESSOR_IDENTIFIER = x86 Family 16 Model 5 Stepping 3, AuthenticAMD
    TEMP = C:\DOCUME~1\c\LOCALS~1\Temp

Perl special variables (and OS-specific diagnostics, for MSWin32):

    $^X = C:\Strawberry221\perl\bin\perl.exe
    $UID/$EUID = 0 / 0
    $GID = 0
    $EGID = 0
    Win32::GetOSName = WinXP/.Net
    Win32::GetOSVersion = Service Pack 3, 5, 1, 2600, 2, 3, 0, 256, 1
    Win32::FsType = NTFS
    Win32::IsAdminUser = 1

Perl module toolchain versions installed:

    Module              Have    
    ------------------- --------
    CPAN                2.11    
    CPAN::Meta          2.150005
    Cwd                 3.62    
    ExtUtils::CBuilder  0.280224
    ExtUtils::Command   7.10    
    ExtUtils::Install   2.04    
    ExtUtils::MakeMaker 7.10    
    ExtUtils::Manifest  1.70    
    ExtUtils::ParseXS   3.30    
    File::Spec          3.62    
    JSON                2.90    
    JSON::PP            2.27300 
    Module::Build       0.4216  
    Module::Signature   0.79    
    Parse::CPAN::Meta   1.4417  
    Test::Harness       3.36    
    Test::More          1.001014
    YAML                1.15    
    YAML::Syck          1.29    
    version             0.9916  


--

Summary of my perl5 (revision 5 version 22 subversion 1) configuration:
   
  Platform:
    osname=MSWin32, osvers=4.0, archname=MSWin32-x86-multi-thread-64int
    uname='Win32 strawberry-perl 5.22.1.4 #1 Sat Mar 26 14:08:02 2016 i386'
    config_args='undef'
    hint=recommended, useposix=true, d_sigaction=undef
    useithreads=define, usemultiplicity=define
    use64bitint=define, use64bitall=undef, uselongdouble=undef
    usemymalloc=n, bincompat5005=undef
  Compiler:
    cc='gcc', ccflags =' -s -O2 -DWIN32  -DPERL_TEXTMODE_SCRIPTS -DPERL_IMPLICIT_CONTEXT -DPERL_IMPLICIT_SYS -fwrapv -fno-strict-aliasing -mms-bitfields',
    optimize='-s -O2',
    cppflags='-DWIN32'
    ccversion='', gccversion='4.9.2', gccosandvers=''
    intsize=4, longsize=4, ptrsize=4, doublesize=8, byteorder=12345678, doublekind=3
    d_longlong=define, longlongsize=8, d_longdbl=define, longdblsize=12, longdblkind=3
    ivtype='long long', ivsize=8, nvtype='double', nvsize=8, Off_t='long long', lseeksize=8
    alignbytes=8, prototype=define
  Linker and Libraries:
    ld='g++', ldflags ='-s -L"C:\STRAWB~1\perl\lib\CORE" -L"C:\STRAWB~1\c\lib"'
    libpth=C:\STRAWB~1\c\lib C:\STRAWB~1\c\i686-w64-mingw32\lib C:\STRAWB~1\c\lib\gcc\i686-w64-mingw32\4.9.2
    libs=-lmoldname -lkernel32 -luser32 -lgdi32 -lwinspool -lcomdlg32 -ladvapi32 -lshell32 -lole32 -loleaut32 -lnetapi32 -luuid -lws2_32 -lmpr -lwinmm -lversion -lodbc32 -lodbccp32 -lcomctl32
    perllibs=-lmoldname -lkernel32 -luser32 -lgdi32 -lwinspool -lcomdlg32 -ladvapi32 -lshell32 -lole32 -loleaut32 -lnetapi32 -luuid -lws2_32 -lmpr -lwinmm -lversion -lodbc32 -lodbccp32 -lcomctl32
    libc=, so=dll, useshrplib=true, libperl=libperl522.a
    gnulibc_version=''
  Dynamic Linking:
    dlsrc=dl_win32.xs, dlext=xs.dll, d_dlsymun=undef, ccdlflags=' '
    cccdlflags=' ', lddlflags='-mdll -s -L"C:\STRAWB~1\perl\lib\CORE" -L"C:\STRAWB~1\c\lib"'


Characteristics of this binary (from libperl): 
  Compile-time options: HAS_TIMES HAVE_INTERP_INTERN MULTIPLICITY
                        PERLIO_LAYERS PERL_DONT_CREATE_GVSV
                        PERL_HASH_FUNC_ONE_AT_A_TIME_HARD
                        PERL_IMPLICIT_CONTEXT PERL_IMPLICIT_SYS
                        PERL_MALLOC_WRAP PERL_NEW_COPY_ON_WRITE
                        PERL_PRESERVE_IVUV USE_64_BIT_INT USE_ITHREADS
                        USE_LARGE_FILES USE_LOCALE USE_LOCALE_COLLATE
                        USE_LOCALE_CTYPE USE_LOCALE_NUMERIC USE_LOCALE_TIME
                        USE_PERLIO USE_PERL_ATOF
  Built under MSWin32
  Compiled at Mar 26 2016 14:12:26
  %ENV:
    PERL5LIB="C:\STRAWB~1\cpan\build\Role-REST-Client-0.23-AmjNli/blib/arch;C:\STRAWB~1\cpan\build\Role-REST-Client-0.23-AmjNli/blib/lib;C:\STRAWB~1\cpan\build\URI-Escape-XS-0.14-dWjXtZ/blib/arch;C:\STRAWB~1\cpan\build\URI-Escape-XS-0.14-dWjXtZ/blib/lib;C:\STRAWB~1\cpan\build\MooX-Enumeration-0.007-DaglcP/blib/arch;C:\STRAWB~1\cpan\build\MooX-Enumeration-0.007-DaglcP/blib/lib;C:\STRAWB~1\cpan\build\REST-Client-273-ZVJCjj/blib/arch;C:\STRAWB~1\cpan\build\REST-Client-273-ZVJCjj/blib/lib"
    PERL5_CPANPLUS_IS_RUNNING="764"
    PERL5_CPAN_IS_RUNNING="764"
    PERL5_CPAN_IS_RUNNING_IN_RECURSION="1964,764"
    PERL_CR_SMOKER_CURRENT="WebService-IPAPI-0.01"
    PERL_CR_SMOKER_RUNONCE="1"
    PERL_EXTUTILS_AUTOINSTALL="--defaultdeps"
    PERL_HASH_SEED="0x11111111"
    PERL_MM_USE_DEFAULT="1"
  @INC:
    C:\STRAWB~1\cpan\build\Role-REST-Client-0.23-AmjNli/blib/arch
    C:\STRAWB~1\cpan\build\Role-REST-Client-0.23-AmjNli/blib/lib
    C:\STRAWB~1\cpan\build\URI-Escape-XS-0.14-dWjXtZ/blib/arch
    C:\STRAWB~1\cpan\build\URI-Escape-XS-0.14-dWjXtZ/blib/lib
    C:\STRAWB~1\cpan\build\MooX-Enumeration-0.007-DaglcP/blib/arch
    C:\STRAWB~1\cpan\build\MooX-Enumeration-0.007-DaglcP/blib/lib
    C:\STRAWB~1\cpan\build\REST-Client-273-ZVJCjj/blib/arch
    C:\STRAWB~1\cpan\build\REST-Client-273-ZVJCjj/blib/lib
    C:/Strawberry221/perl/site/lib
    C:/Strawberry221/perl/vendor/lib
    C:/Strawberry221/perl/lib
    .