Email-Address-List v0.06 Perl 5 v5.29.6 i86pc-solaris

Status
Pass
From
Nigel Horne
Dist
Email-Address-List v0.06
Platform
Perl 5 v5.29.6 i86pc-solaris
Date
2019-01-30 09:22:47
ID
9b788154-2470-11e9-a67e-7c80f4a5784b
This distribution has been tested as part of the CPAN Testers
project, supporting the Perl programming language.  See
http://wiki.cpantesters.org/ for more information or email
questions to cpan-testers-discuss@perl.org


--
Dear Best Practical Solutions,

This is a computer-generated report for Email-Address-List-0.06
on perl 5.29.6, created by CPAN-Reporter-1.2018.

Thank you for uploading your work to CPAN.  Congratulations!
All tests were successful.

Sections of this report:

    * Tester comments
    * Program output
    * Prerequisites
    * Environment and other context

------------------------------
TESTER COMMENTS
------------------------------

Additional comments from tester:

this report is from an automated smoke testing program
and was not reviewed by a human for accuracy

------------------------------
PROGRAM OUTPUT
------------------------------

Output from '/usr/bin/make test':

PERL_DL_NONLAZY=1 "/export/home/njh/perl5/perlbrew/perls/perl-5.29.6/bin/perl5.29.6" "-MExtUtils::Command::MM" "-MTest::Harness" "-e" "undef *Test::Harness::Switches; test_harness(0, 'inc', 'blib/lib', 'blib/arch')" t/*.t
t/basics.t ............... ok
t/invalid.t .............. ok
t/pathological.t ......... ok
# srand is 60719
t/random.combinations.t .. ok
t/single.suit.t .......... ok
All tests successful.
Files=5, Tests=2115,  2 wallclock secs ( 0.33 usr  0.05 sys +  1.44 cusr  0.30 csys =  2.12 CPU)
Result: PASS

------------------------------
PREREQUISITES
------------------------------

Prerequisite modules loaded:

requires:

    Module              Need  Have    
    ------------------- ----- --------
    Email::Address      0     1.912   
    perl                5.010 5.029006

build_requires:

    Module              Need  Have    
    ------------------- ----- --------
    ExtUtils::MakeMaker 6.59  7.34    
    JSON                0     4.01    
    Test::More          0     1.302160

configure_requires:

    Module              Need  Have    
    ------------------- ----- --------
    ExtUtils::MakeMaker 6.59  7.34    


------------------------------
ENVIRONMENT AND OTHER CONTEXT
------------------------------

Environment variables:

    AUTOMATED_TESTING = 1
    NONINTERACTIVE_TESTING = 1
    PATH = /export/home/njh/perl5/perlbrew/bin:/export/home/njh/perl5/perlbrew/perls/perl-5.29.6/bin:/export/home/njh/src/njh/smoker/bin:/usr/bin
    PERL5LIB = /export/home/njh/.cpan/build/Email-Address-1.912-0/blib/arch:/export/home/njh/.cpan/build/Email-Address-1.912-0/blib/lib:/export/home/njh/.cpan/build/Net-AS2-1.0-0/blib/arch:/export/home/njh/.cpan/build/Net-AS2-1.0-0/blib/lib:/export/home/njh/.cpan/build/MIME-tools-5.509-0/blib/arch:/export/home/njh/.cpan/build/MIME-tools-5.509-0/blib/lib:/export/home/njh/.cpan/build/MailTools-2.20-0/blib/arch:/export/home/njh/.cpan/build/MailTools-2.20-0/blib/lib:/export/home/njh/.cpan/build/Crypt-SMIME-0.25-0/blib/arch:/export/home/njh/.cpan/build/Crypt-SMIME-0.25-0/blib/lib:/export/home/njh/.cpan/build/ExtUtils-PkgConfig-1.16-0/blib/arch:/export/home/njh/.cpan/build/ExtUtils-PkgConfig-1.16-0/blib/lib:/export/home/njh/.cpan/build/ExtUtils-CChecker-0.10-0/blib/arch:/export/home/njh/.cpan/build/ExtUtils-CChecker-0.10-0/blib/lib
    PERL5OPT = 
    PERL5_CPANPLUS_IS_RUNNING = 18330
    PERL5_CPAN_IS_RUNNING = 18330
    PERLBREW_HOME = /export/home/njh/.perlbrew
    PERLBREW_MANPATH = /export/home/njh/perl5/perlbrew/perls/perl-5.29.6/man
    PERLBREW_PATH = /export/home/njh/perl5/perlbrew/bin:/export/home/njh/perl5/perlbrew/perls/perl-5.29.6/bin
    PERLBREW_PERL = perl-5.29.6
    PERLBREW_ROOT = /export/home/njh/perl5/perlbrew
    PERLBREW_SHELLRC_VERSION = 0.84
    PERLBREW_VERSION = 0.84
    PERL_MM_USE_DEFAULT = 1
    PERL_USE_UNSAFE_INC = 1
    SHELL = /usr/bin/sh
    TERM = dumb
    TMPDIR = /tmp/testwrapper.18317

Perl special variables (and OS-specific diagnostics, for MSWin32):

    $^X = /export/home/njh/perl5/perlbrew/perls/perl-5.29.6/bin/perl5.29.6
    $UID/$EUID = 101 / 101
    $GID = 10 10
    $EGID = 10 10

Perl module toolchain versions installed:

    Module              Have    
    ------------------- --------
    CPAN                2.22    
    CPAN::Meta          2.150010
    Cwd                 3.76    
    ExtUtils::CBuilder  0.280230
    ExtUtils::Command   7.34    
    ExtUtils::Install   2.14    
    ExtUtils::MakeMaker 7.34    
    ExtUtils::Manifest  1.71    
    ExtUtils::ParseXS   3.40    
    File::Spec          3.76    
    JSON                4.01    
    JSON::PP            2.97001 
    Module::Build       0.4224  
    Module::Signature   n/a     
    Parse::CPAN::Meta   2.150010
    Test::Harness       3.42    
    Test::More          1.302160
    YAML                1.27    
    YAML::Syck          1.31    
    version             0.9924  


--

Summary of my perl5 (revision 5 version 29 subversion 6) configuration:
   
  Platform:
    osname=solaris
    osvers=2.11
    archname=i86pc-solaris
    uname='sunos vultr1.bandsman.co.uk 5.11 illumos-7d1eae8c55 i86pc i386 i86pc '
    config_args='-de -Dprefix=/export/home/njh/perl5/perlbrew/perls/perl-5.29.6 -Dusedevel -Aeval:scriptdir=/export/home/njh/perl5/perlbrew/perls/perl-5.29.6/bin'
    hint=recommended
    useposix=true
    d_sigaction=define
    useithreads=undef
    usemultiplicity=undef
    use64bitint=undef
    use64bitall=undef
    uselongdouble=undef
    usemymalloc=n
    default_inc_excludes_dot=define
    bincompat5005=undef
  Compiler:
    cc='/opt/SUNWspro/bin/cc'
    ccflags ='-I/usr/gnu/include -D_LARGEFILE_SOURCE -D_FILE_OFFSET_BITS=64 -DPERL_USE_SAFE_PUTENV'
    optimize='-O'
    cppflags='-I/usr/gnu/include'
    ccversion='Sun C 5.10 SunOS_i386 2009/06/03'
    gccversion=''
    gccosandvers=''
    intsize=4
    longsize=4
    ptrsize=4
    doublesize=8
    byteorder=1234
    doublekind=3
    d_longlong=define
    longlongsize=8
    d_longdbl=define
    longdblsize=12
    longdblkind=3
    ivtype='long'
    ivsize=4
    nvtype='double'
    nvsize=8
    Off_t='off_t'
    lseeksize=8
    alignbytes=4
    prototype=define
  Linker and Libraries:
    ld='/opt/SUNWspro/bin/cc'
    ldflags =' -L/usr/lib -L/usr/ccs/lib -L/opt/sunstudio12.1/prod/lib -L/lib -L/usr/gnu/lib '
    libpth=/usr/lib /usr/ccs/lib /opt/sunstudio12.1/prod/lib /lib /usr/gnu/lib
    libs=-lpthread -lsocket -lnsl -lgdbm -ldb -ldl -lm -lc
    perllibs=-lpthread -lsocket -lnsl -ldl -lm -lc
    libc=/lib/libc.so
    so=so
    useshrplib=true
    libperl=libperl.so
    gnulibc_version=''
  Dynamic Linking:
    dlsrc=dl_dlopen.xs
    dlext=so
    d_dlsymun=undef
    ccdlflags='  -R /export/home/njh/perl5/perlbrew/perls/perl-5.29.6/lib/5.29.6/i86pc-solaris/CORE'
    cccdlflags='-KPIC'
    lddlflags='-G -L/usr/lib -L/usr/ccs/lib -L/opt/sunstudio12.1/prod/lib -L/lib -L/usr/gnu/lib'


Characteristics of this binary (from libperl): 
  Compile-time options:
    HAS_TIMES
    PERLIO_LAYERS
    PERL_COPY_ON_WRITE
    PERL_DONT_CREATE_GVSV
    PERL_MALLOC_WRAP
    PERL_OP_PARENT
    PERL_PRESERVE_IVUV
    PERL_USE_DEVEL
    PERL_USE_SAFE_PUTENV
    USE_LARGE_FILES
    USE_LOCALE
    USE_LOCALE_COLLATE
    USE_LOCALE_CTYPE
    USE_LOCALE_NUMERIC
    USE_LOCALE_TIME
    USE_PERLIO
    USE_PERL_ATOF
  Locally applied patches:
    Devel::PatchPerl 1.52
  Built under solaris
  Compiled at Jan 20 2019 09:19:03
  %ENV:
    PERL5LIB="/export/home/njh/.cpan/build/Email-Address-1.912-0/blib/arch:/export/home/njh/.cpan/build/Email-Address-1.912-0/blib/lib:/export/home/njh/.cpan/build/Net-AS2-1.0-0/blib/arch:/export/home/njh/.cpan/build/Net-AS2-1.0-0/blib/lib:/export/home/njh/.cpan/build/MIME-tools-5.509-0/blib/arch:/export/home/njh/.cpan/build/MIME-tools-5.509-0/blib/lib:/export/home/njh/.cpan/build/MailTools-2.20-0/blib/arch:/export/home/njh/.cpan/build/MailTools-2.20-0/blib/lib:/export/home/njh/.cpan/build/Crypt-SMIME-0.25-0/blib/arch:/export/home/njh/.cpan/build/Crypt-SMIME-0.25-0/blib/lib:/export/home/njh/.cpan/build/ExtUtils-PkgConfig-1.16-0/blib/arch:/export/home/njh/.cpan/build/ExtUtils-PkgConfig-1.16-0/blib/lib:/export/home/njh/.cpan/build/ExtUtils-CChecker-0.10-0/blib/arch:/export/home/njh/.cpan/build/ExtUtils-CChecker-0.10-0/blib/lib"
    PERL5OPT=""
    PERL5_CPANPLUS_IS_RUNNING="18330"
    PERL5_CPAN_IS_RUNNING="18330"
    PERLBREW_HOME="/export/home/njh/.perlbrew"
    PERLBREW_MANPATH="/export/home/njh/perl5/perlbrew/perls/perl-5.29.6/man"
    PERLBREW_PATH="/export/home/njh/perl5/perlbrew/bin:/export/home/njh/perl5/perlbrew/perls/perl-5.29.6/bin"
    PERLBREW_PERL="perl-5.29.6"
    PERLBREW_ROOT="/export/home/njh/perl5/perlbrew"
    PERLBREW_SHELLRC_VERSION="0.84"
    PERLBREW_VERSION="0.84"
    PERL_MM_USE_DEFAULT="1"
    PERL_USE_UNSAFE_INC="1"
  @INC:
    /export/home/njh/.cpan/build/Email-Address-1.912-0/blib/arch
    /export/home/njh/.cpan/build/Email-Address-1.912-0/blib/lib
    /export/home/njh/.cpan/build/Net-AS2-1.0-0/blib/arch
    /export/home/njh/.cpan/build/Net-AS2-1.0-0/blib/lib
    /export/home/njh/.cpan/build/MIME-tools-5.509-0/blib/arch
    /export/home/njh/.cpan/build/MIME-tools-5.509-0/blib/lib
    /export/home/njh/.cpan/build/MailTools-2.20-0/blib/arch
    /export/home/njh/.cpan/build/MailTools-2.20-0/blib/lib
    /export/home/njh/.cpan/build/Crypt-SMIME-0.25-0/blib/arch
    /export/home/njh/.cpan/build/Crypt-SMIME-0.25-0/blib/lib
    /export/home/njh/.cpan/build/ExtUtils-PkgConfig-1.16-0/blib/arch
    /export/home/njh/.cpan/build/ExtUtils-PkgConfig-1.16-0/blib/lib
    /export/home/njh/.cpan/build/ExtUtils-CChecker-0.10-0/blib/arch
    /export/home/njh/.cpan/build/ExtUtils-CChecker-0.10-0/blib/lib
    /export/home/njh/perl5/perlbrew/perls/perl-5.29.6/lib/site_perl/5.29.6/i86pc-solaris
    /export/home/njh/perl5/perlbrew/perls/perl-5.29.6/lib/site_perl/5.29.6
    /export/home/njh/perl5/perlbrew/perls/perl-5.29.6/lib/5.29.6/i86pc-solaris
    /export/home/njh/perl5/perlbrew/perls/perl-5.29.6/lib/5.29.6
    .