Report for WWW-Curl-4.19_9902

Back
From: metabase:user:320bfe00-2aae-11df-837a-5e0a49663a4f
Subject: PASS WWW-Curl-4.19_9902 v5.6.2 GNU/Linux
Date: 2011-03-16T22:56:19Z

This distribution has been tested as part of the CPAN Testers
project, supporting the Perl programming language.  See
http://wiki.cpantesters.org/ for more information or email
questions to cpan-testers-discuss@perl.org


--
Dear Przemyslaw Iskra,

This is a computer-generated report for WWW-Curl-4.19_9902
on perl 5.6.2, created by CPAN-Reporter-1.1902.

Thank you for uploading your work to CPAN.  Congratulations!
All tests were successful.

Sections of this report:

    * Tester comments
    * Program output
    * Prerequisites
    * Environment and other context

------------------------------
TESTER COMMENTS
------------------------------

Additional comments from tester:

this report is from an automated smoke testing program
and was not reviewed by a human for accuracy

------------------------------
PROGRAM OUTPUT
------------------------------

Output from '/usr/bin/make test':

PERL_DL_NONLAZY=1 /usr/local/perl-5.6.2-fromgit/bin/perl "-MExtUtils::Command::MM" "-e" "test_harness(0, 'blib/lib', 'blib/arch')" t/*.t
t/00constants.t ........... ok
t/01basic.t ............... ok
t/02callbacks.t ........... ok
t/04abort-test.t .......... ok
t/05progress.t ............ ok
t/06http-post.t ........... skipped: Not performing http POST/upload tests
t/07ftp-upload.t .......... skipped: Not performing ftp upload tests
t/08ssl.t ................. ok
t/09times.t ............... ok
t/10errbuf.t .............. ok
t/13slowleak.t ............ skipped: Not performing slow leakage regression test
t/14duphandle.t ........... ok
t/15duphandle-callback.t .. ok
t/16formpost.t ............ skipped: Not performing POST
t/17slist.t ............... skipped: Not performing printenv cgi tests
t/18twinhandles.t ......... ok
t/19multi.t ............... ok
t/20undefined_subs.t ...... ok
t/21write-to-scalar.t ..... ok
t/meta.t .................. ok
t/pod-coverage.t .......... ok
t/pod.t ................... skipped: Test::Pod 1.14 required for testing POD
All tests successful.
Files=22, Tests=821, 14 wallclock secs ( 0.17 usr  0.04 sys +  1.09 cusr  0.24 csys =  1.54 CPU)
Result: PASS

------------------------------
PREREQUISITES
------------------------------

Prerequisite modules loaded:

requires:

    Module              Need     Have    
    ------------------- -------- --------
    perl                5.006001 5.006002

build_requires:

    Module              Need     Have    
    ------------------- -------- --------
    ExtUtils::MakeMaker 0        6.57_06 

configure_requires:

    Module              Need     Have    
    ------------------- -------- --------
    ExtUtils::MakeMaker 0        6.57_06 


------------------------------
ENVIRONMENT AND OTHER CONTEXT
------------------------------

Environment variables:

    AUTOMATED_TESTING = 1
    LANG = en_US.UTF-8
    LC_TIME = de_DE.utf8
    PATH = /home/sand/bin:/usr/local/bin:/usr/bin:/bin:/usr/bin/X11:/usr/games:/usr/local/perl/bin:/usr/X11/bin:/sbin:/usr/sbin
    PERL5LIB = 
    PERL5OPT = 
    PERL5_CPANPLUS_IS_RUNNING = 3500
    PERL5_CPAN_IS_RUNNING = 3500
    PERL_MM_USE_DEFAULT = 1
    SHELL = /usr/bin/zsh
    TERM = screen

Perl special variables (and OS-specific diagnostics, for MSWin32):

    $^X = /usr/local/perl-5.6.2-fromgit/bin/perl
    $UID/$EUID = 1001 / 1001
    $GID = 1001 1001
    $EGID = 1001 1001

Perl module toolchain versions installed:

    Module              Have    
    ------------------- --------
    CPAN                1.9600  
    Cwd                 3.33    
    ExtUtils::CBuilder  0.280202
    ExtUtils::Command   1.16    
    ExtUtils::Install   1.52    
    ExtUtils::MakeMaker 6.57_06 
    ExtUtils::Manifest  1.58    
    ExtUtils::ParseXS   2.2206  
    File::Spec          3.33    
    Module::Build       0.3800  
    Module::Signature   0.66    
    Test::Harness       3.23    
    Test::More          0.98    
    YAML                n/a     
    YAML::Syck          1.17    
    version             0.88    


--

Summary of my perl5 (revision 5.0 version 6 subversion 2) configuration:
  Platform:
    osname=linux, osvers=2.6.32-2-amd64, archname=x86_64-linux
    uname='linux k81 2.6.32-2-amd64 #1 smp fri feb 12 00:01:47 utc 2010 x86_64 gnulinux '
    config_args='-Dprefix=/usr/local/perl-5.6.2-fromgit -Dinstallusrbinperl=n -Uversiononly -Dusedevel -des -Ui_db'
    hint=recommended, useposix=true, d_sigaction=define
    usethreads=undef use5005threads=undef useithreads=undef usemultiplicity=undef
    useperlio=undef d_sfio=undef uselargefiles=define usesocks=undef
    use64bitint=define use64bitall=define uselongdouble=undef
  Compiler:
    cc='cc', ccflags ='-fno-strict-aliasing -I/usr/local/include -D_LARGEFILE_SOURCE -D_FILE_OFFSET_BITS=64',
    optimize='-O2',
    cppflags='-fno-strict-aliasing -I/usr/local/include'
    ccversion='', gccversion='4.4.4', gccosandvers=''
    intsize=4, longsize=8, ptrsize=8, doublesize=8, byteorder=12345678
    d_longlong=define, longlongsize=8, d_longdbl=define, longdblsize=16
    ivtype='long', ivsize=8, nvtype='double', nvsize=8, Off_t='off_t', lseeksize=8
    alignbytes=8, usemymalloc=n, prototype=define
  Linker and Libraries:
    ld='cc', ldflags =' -L/usr/local/lib'
    libpth=/usr/local/lib /lib /usr/lib
    libs=-lnsl -lgdbm -ldb -ldl -lm -lc -lcrypt -lutil
    perllibs=-lnsl -ldl -lm -lc -lcrypt -lutil
    libc=/lib/libc-2.11.2.so, so=so, useshrplib=false, libperl=libperl.a
  Dynamic Linking:
    dlsrc=dl_dlopen.xs, dlext=so, d_dlsymun=undef, ccdlflags='-rdynamic'
    cccdlflags='-fpic', lddlflags='-shared -L/usr/local/lib'


Characteristics of this binary (from libperl): 
  Compile-time options: USE_64_BIT_INT USE_64_BIT_ALL USE_LARGE_FILES
  Built under linux
  Compiled at Jul 30 2010 21:19:18
  %ENV:
    PERL5LIB=""
    PERL5OPT=""
    PERL5_CPANPLUS_IS_RUNNING="3500"
    PERL5_CPAN_IS_RUNNING="3500"
    PERL_MM_USE_DEFAULT="1"
  @INC:
    /usr/local/perl-5.6.2-fromgit/lib/5.6.2/x86_64-linux
    /usr/local/perl-5.6.2-fromgit/lib/5.6.2
    /usr/local/perl-5.6.2-fromgit/lib/site_perl/5.6.2/x86_64-linux
    /usr/local/perl-5.6.2-fromgit/lib/site_perl/5.6.2
    /usr/local/perl-5.6.2-fromgit/lib/site_perl
    .