Report for Unicode-Japanese-0.47

Back
From: metabase:user:d1ac2ff8-7f34-11e0-ad7d-d635d302c8a1
Subject: PASS Unicode-Japanese-0.47 v5.14.0 GNU/Linux
Date: 2011-06-02T19:14:58Z

This distribution has been tested as part of the CPAN Testers
project, supporting the Perl programming language.  See
http://wiki.cpantesters.org/ for more information or email
questions to cpan-testers-discuss@perl.org


--
Dear YAMASHINA Hio,

This is a computer-generated report for Unicode-Japanese-0.47
on perl 5.14.0, created by CPAN-Reporter-1.1902.

Thank you for uploading your work to CPAN.  Congratulations!
All tests were successful.

Sections of this report:

    * Tester comments
    * Program output
    * Prerequisites
    * Environment and other context

------------------------------
TESTER COMMENTS
------------------------------

Additional comments from tester:

this report is from an automated smoke testing program
and was not reviewed by a human for accuracy

------------------------------
PROGRAM OUTPUT
------------------------------

Output from '/usr/bin/make test':

PERL_DL_NONLAZY=1 /home/lonesome/perl-5.14.0/bin/perl "-MExtUtils::Command::MM" "-e" "test_harness(0, 'blib/lib', 'blib/arch')" t/*.t
t/0.loadxs.t .............. ok
# Testing Unicode::Japanese 0.47, Perl 5.014000, /usr/local/ymir/perl/bin/perl
t/00-load.t ............... ok
t/allchar_eucjp_sjis.t .... skipped: no ALLCHAR_TEST
t/allchar_sjis_eucjp.t .... skipped: no ALLCHAR_TEST
t/allchar_ucs4.t .......... skipped: no ALLCHAR_TEST
t/base.t .................. ok
t/emoji-imode-utf8.t ...... ok
t/emoji-jsky-chopped.t .... ok
t/emoji-jsky-utf8.t ....... ok
t/emoji.t ................. ok
t/fromutf8.t .............. ok
t/getcode.t ............... ok
defined(%hash) is deprecated at (eval 10) line 4, <GEN0> line 1666.
	(Maybe you should just omit the defined()?)
defined(%hash) is deprecated at (eval 14) line 4, <GEN0> line 1666.
	(Maybe you should just omit the defined()?)
t/hirakata.t .............. ok
t/illegal.t ............... ok
t/illlet.t ................ ok
t/jis.t ................... ok
t/outrange.t .............. ok
t/pod-coverage.t .......... ok
t/pod.t ................... ok
t/sjis_extras.t ........... ok
t/toutf8.t ................ ok
t/utf16.t ................. ok
defined(%hash) is deprecated at (eval 12) line 4, <GEN0> line 1666.
	(Maybe you should just omit the defined()?)
defined(%hash) is deprecated at (eval 14) line 4, <GEN0> line 1666.
	(Maybe you should just omit the defined()?)
defined(%hash) is deprecated at (eval 15) line 4, <GEN0> line 1666.
	(Maybe you should just omit the defined()?)
defined(%hash) is deprecated at (eval 16) line 4, <GEN0> line 1666.
	(Maybe you should just omit the defined()?)
defined(%hash) is deprecated at (eval 17) line 4, <GEN0> line 1666.
	(Maybe you should just omit the defined()?)
t/utf8flag.t .............. ok
t/util.t .................. ok
t/v031_getcode_jiskana.t .. ok
t/v038_guess_imode2.t ..... ok
t/v041_sjisau.t ........... ok
t/v045_getcode_doti.t ..... ok
t/v045_imodexs.t .......... ok
t/v046_earlycall.t ........ ok
defined(%hash) is deprecated at (eval 19) line 4, <GEN0> line 1666.
	(Maybe you should just omit the defined()?)
defined(%hash) is deprecated at (eval 21) line 4, <GEN0> line 1666.
	(Maybe you should just omit the defined()?)
defined(%hash) is deprecated at (eval 22) line 4, <GEN0> line 1666.
	(Maybe you should just omit the defined()?)
defined(%hash) is deprecated at (eval 23) line 4, <GEN0> line 1666.
	(Maybe you should just omit the defined()?)
defined(%hash) is deprecated at (eval 24) line 4, <GEN0> line 1666.
	(Maybe you should just omit the defined()?)
t/wavedash.t .............. ok
defined(%hash) is deprecated at (eval 11) line 4, <GEN0> line 1666.
	(Maybe you should just omit the defined()?)
defined(%hash) is deprecated at (eval 13) line 4, <GEN0> line 1666.
	(Maybe you should just omit the defined()?)
defined(%hash) is deprecated at (eval 14) line 4, <GEN0> line 1666.
	(Maybe you should just omit the defined()?)
defined(%hash) is deprecated at (eval 15) line 4, <GEN0> line 1666.
	(Maybe you should just omit the defined()?)
defined(%hash) is deprecated at (eval 16) line 4, <GEN0> line 1666.
	(Maybe you should just omit the defined()?)
defined(%hash) is deprecated at (eval 21) line 4, <GEN0> line 1666.
	(Maybe you should just omit the defined()?)
defined(%hash) is deprecated at (eval 22) line 4, <GEN0> line 1666.
	(Maybe you should just omit the defined()?)
defined(%hash) is deprecated at (eval 23) line 4, <GEN0> line 1666.
	(Maybe you should just omit the defined()?)
defined(%hash) is deprecated at (eval 24) line 4, <GEN0> line 1666.
	(Maybe you should just omit the defined()?)
defined(%hash) is deprecated at (eval 25) line 4, <GEN0> line 1666.
	(Maybe you should just omit the defined()?)
t/z2h.t ................... ok
All tests successful.
Files=32, Tests=2118,  2 wallclock secs ( 0.41 usr  0.06 sys +  1.28 cusr  0.17 csys =  1.92 CPU)
Result: PASS

------------------------------
PREREQUISITES
------------------------------

Prerequisite modules loaded:

build_requires:

    Module              Need Have   
    ------------------- ---- -------
    ExtUtils::MakeMaker 0    6.57_11


------------------------------
ENVIRONMENT AND OTHER CONTEXT
------------------------------

Environment variables:

    AUTOMATED_TESTING = 1
    LANG = en_GB.UTF-8
    PATH = /usr/lib/ccache:/usr/local/bin:/bin:/usr/bin:/usr/local/sbin:/usr/sbin:/sbin:/home/lonesome/bin
    PERL5LIB = 
    PERL5OPT = 
    PERL5_CPANPLUS_IS_RUNNING = 11243
    PERL5_CPAN_IS_RUNNING = 11243
    PERL5_CPAN_IS_RUNNING_IN_RECURSION = 9665,11243
    PERL_CR_SMOKER_CURRENT = Unicode-Japanese-0.47
    PERL_EXTUTILS_AUTOINSTALL = --defaultdeps
    PERL_MM_USE_DEFAULT = 1
    SHELL = /bin/bash
    TERM = screen

Perl special variables (and OS-specific diagnostics, for MSWin32):

    $^X = /home/lonesome/perl-5.14.0/bin/perl
    $UID/$EUID = 500 / 500
    $GID = 500 10 500
    $EGID = 500 10 500

Perl module toolchain versions installed:

    Module              Have    
    ------------------- --------
    CPAN                1.9600  
    Cwd                 3.33    
    ExtUtils::CBuilder  0.280202
    ExtUtils::Command   1.17    
    ExtUtils::Install   1.56    
    ExtUtils::MakeMaker 6.57_11 
    ExtUtils::Manifest  1.58    
    ExtUtils::ParseXS   2.2206  
    File::Spec          3.33    
    Module::Build       0.3800  
    Module::Signature   0.68    
    Test::Harness       3.23    
    Test::More          0.98    
    YAML                0.73    
    YAML::Syck          1.17    
    version             0.90    


--

Summary of my perl5 (revision 5 version 14 subversion 0) configuration:
   
  Platform:
    osname=linux, osvers=2.6.38.6-27.fc15.i686, archname=i686-linux
    uname='linux fedora15 2.6.38.6-27.fc15.i686 #1 smp sun may 15 17:57:13 utc 2011 i686 i686 i386 gnulinux '
    config_args='-des -Dcc=ccache gcc -Dld=gcc -Dprefix=/home/lonesome/perl-5.14.0'
    hint=recommended, useposix=true, d_sigaction=define
    useithreads=undef, usemultiplicity=undef
    useperlio=define, d_sfio=undef, uselargefiles=define, usesocks=undef
    use64bitint=undef, use64bitall=undef, uselongdouble=undef
    usemymalloc=n, bincompat5005=undef
  Compiler:
    cc='ccache gcc', ccflags ='-fno-strict-aliasing -pipe -fstack-protector -I/usr/local/include -D_LARGEFILE_SOURCE -D_FILE_OFFSET_BITS=64',
    optimize='-O2',
    cppflags='-fno-strict-aliasing -pipe -fstack-protector -I/usr/local/include'
    ccversion='', gccversion='4.6.0 20110509 (Red Hat 4.6.0-7)', gccosandvers=''
    intsize=4, longsize=4, ptrsize=4, doublesize=8, byteorder=1234
    d_longlong=define, longlongsize=8, d_longdbl=define, longdblsize=12
    ivtype='long', ivsize=4, nvtype='double', nvsize=8, Off_t='off_t', lseeksize=8
    alignbytes=4, prototype=define
  Linker and Libraries:
    ld='gcc', ldflags =' -fstack-protector -L/usr/local/lib'
    libpth=/usr/local/lib /lib /usr/lib
    libs=-lnsl -ldl -lm -lcrypt -lutil -lc
    perllibs=-lnsl -ldl -lm -lcrypt -lutil -lc
    libc=/lib/libc-2.13.90.so, so=so, useshrplib=false, libperl=libperl.a
    gnulibc_version='2.13.90'
  Dynamic Linking:
    dlsrc=dl_dlopen.xs, dlext=so, d_dlsymun=undef, ccdlflags='-Wl,-E'
    cccdlflags='-fPIC', lddlflags='-shared -O2 -L/usr/local/lib -fstack-protector'


Characteristics of this binary (from libperl): 
  Compile-time options: PERL_DONT_CREATE_GVSV PERL_MALLOC_WRAP
                        PERL_PRESERVE_IVUV USE_LARGE_FILES USE_PERLIO
                        USE_PERL_ATOF
  Built under linux
  Compiled at Jun  1 2011 10:32:53
  %ENV:
    PERL5LIB=""
    PERL5OPT=""
    PERL5_CPANPLUS_IS_RUNNING="11243"
    PERL5_CPAN_IS_RUNNING="11243"
    PERL5_CPAN_IS_RUNNING_IN_RECURSION="9665,11243"
    PERL_CR_SMOKER_CURRENT="Unicode-Japanese-0.47"
    PERL_EXTUTILS_AUTOINSTALL="--defaultdeps"
    PERL_MM_USE_DEFAULT="1"
  @INC:
    /home/lonesome/perl-5.14.0/lib/site_perl/5.14.0/i686-linux
    /home/lonesome/perl-5.14.0/lib/site_perl/5.14.0
    /home/lonesome/perl-5.14.0/lib/5.14.0/i686-linux
    /home/lonesome/perl-5.14.0/lib/5.14.0
    .