Math-Prime-Util v0.73 Perl 5 v5.36.3 aarch64-linux
- Status
- Pass
- From
- Slaven Rezić
- Dist
-
Math-Prime-Util v0.73
- Platform
- Perl 5 v5.36.3 aarch64-linux
- Date
- 2025-04-03 19:12:38
- ID
- 9bc1f2fc-10bf-11f0-91fb-1d496e8775ea
This distribution has been tested as part of the CPAN Testers
project, supporting the Perl programming language. See
http://wiki.cpantesters.org/ for more information or email
questions to cpan-testers-discuss@perl.org
--
Dear Dana Jacobsen,
This is a computer-generated report for Math-Prime-Util-0.73
on perl 5.36.3, created by CPAN-Reporter-1.2020.
Thank you for uploading your work to CPAN. Congratulations!
All tests were successful.
Sections of this report:
* Tester comments
* Program output
* Prerequisites
* Environment and other context
------------------------------
TESTER COMMENTS
------------------------------
Additional comments from tester:
none provided
------------------------------
PROGRAM OUTPUT
------------------------------
Output from '/usr/bin/make test':
"/opt/perl-5.36.3/bin/perl" -MExtUtils::Command::MM -e 'cp_nonempty' -- Util.bs blib/arch/auto/Math/Prime/Util/Util.bs 644
PERL_DL_NONLAZY=1 "/opt/perl-5.36.3/bin/perl" "-MExtUtils::Command::MM" "-MTest::Harness" "-e" "undef *Test::Harness::Switches; test_harness(0, 'blib/lib', 'blib/arch')" t/*.t
t/01-load.t .................. ok
t/011-load-ntheory.t ......... ok
t/02-can.t ................... ok
t/022-can-ntheory.t .......... ok
# Using XS with MPU::GMP version 0.52.
t/03-init.t .................. ok
t/04-inputvalidation.t ....... ok
t/10-isprime.t ............... ok
t/11-clusters.t .............. ok
t/11-primes.t ................ ok
t/11-ramanujanprimes.t ....... ok
t/11-semiprimes.t ............ ok
t/11-sumprimes.t ............. ok
t/11-twinprimes.t ............ ok
t/12-nextprime.t ............. ok
t/13-primecount.t ............ ok
t/14-nthprime.t .............. ok
t/15-probprime.t ............. ok
t/16-randomprime.t ........... ok
t/17-pseudoprime.t ........... ok
t/18-functions.t ............. ok
t/19-chebyshev.t ............. ok
t/19-chinese.t ............... ok
t/19-divisorsum.t ............ ok
t/19-gcd.t ................... ok
t/19-kronecker.t ............. ok
t/19-legendrephi.t ........... ok
t/19-liouville.t ............. ok
t/19-mangoldt.t .............. ok
t/19-moebius.t ............... ok
t/19-popcount.t .............. ok
t/19-primroots.t ............. ok
t/19-ramanujan.t ............. ok
t/19-rootint.t ............... ok
t/19-totients.t .............. ok
t/19-valuation.t ............. ok
t/19-znorder.t ............... ok
t/20-jordantotient.t ......... ok
t/20-primorial.t ............. ok
t/21-conseq-lcm.t ............ ok
t/22-aks-prime.t ............. ok
t/23-primality-proofs.t ...... ok
t/23-random-certs.t .......... ok
t/24-partitions.t ............ ok
t/25-lucas_sequences.t ....... ok
t/26-combinatorial.t ......... ok
t/26-digits.t ................ ok
t/26-iscarmichael.t .......... ok
t/26-isfundamental.t ......... ok
t/26-ispower.t ............... ok
t/26-issemiprime.t ........... ok
t/26-issquarefree.t .......... ok
t/26-istotient.t ............. ok
t/26-mod.t ................... ok
t/26-pillai.t ................ ok
t/26-polygonal.t ............. ok
t/26-vec.t ................... ok
t/27-bernfrac.t .............. ok
t/28-pi.t .................... ok
t/29-mersenne.t .............. ok
t/30-relations.t ............. ok
t/31-threading.t ............. skipped: only in release or extended testing
t/32-iterators.t ............. ok
t/33-examples.t .............. skipped: these tests are for release candidate testing
# CORE::rand: drand48 (yech). Our PRNG: ChaCha20
t/34-random.t ................ ok
t/35-cipher.t ................ ok
t/35-rand-tag.t .............. ok
t/50-factoring.t ............. ok
t/51-randfactor.t ............ ok
t/51-znlog.t ................. ok
t/52-primearray.t ............ ok
t/70-rt-bignum.t ............. ok
t/80-pp.t .................... ok
# BigInt 0.65/2.005002, lib: GMP. MPU::GMP 0.52
t/81-bignum.t ................ ok
t/90-release-perlcritic.t .... skipped: these tests are for release candidate testing
t/91-release-pod-syntax.t .... skipped: these tests are for release candidate testing
t/92-release-pod-coverage.t .. skipped: these tests are for release candidate testing
t/93-release-spelling.t ...... skipped: these tests are for release candidate testing
t/94-weaken.t ................ skipped: these tests are for release candidate testing
t/97-synopsis.t .............. skipped: these tests are for release candidate testing
All tests successful.
Files=79, Tests=4067, 8 wallclock secs ( 0.49 usr 0.20 sys + 6.61 cusr 1.12 csys = 8.42 CPU)
Result: PASS
------------------------------
PREREQUISITES
------------------------------
Prerequisite modules loaded:
requires:
Module Need Have
---------------------- -------- --------
base 0 2.27
Carp 0 1.52
Config 0 5.036003
constant 0 1.33
Exporter 5.57 5.78
Math::BigFloat 1.59 2.005002
Math::BigInt 1.88 2.005002
Math::Prime::Util::GMP 0.50 0.52
perl 5.006002 5.036003
Tie::Array 0 1.07
XSLoader 0.01 0.31
build_requires:
Module Need Have
---------------------- -------- --------
bignum 0.22 0.65
ExtUtils::MakeMaker 0 7.72
Test::More 0.45 1.302209
configure_requires:
Module Need Have
---------------------- -------- --------
ExtUtils::MakeMaker 0 7.72
------------------------------
ENVIRONMENT AND OTHER CONTEXT
------------------------------
Environment variables:
LANG = en_US.UTF-8
PATH = /usr/local/bin:/usr/bin:/bin:/usr/local/sbin:/usr/sbin:/sbin:/home/cpansand/bin/linux-gnu:/home/cpansand/bin/sh:/home/cpansand/bin:/usr/games:/home/cpansand/devel:/home/eserte/src/srezic-misc/scripts
PERL5LIB = /home/cpansand/.local/share/.cpan/build/2025040318/Math-Prime-Util-GMP-0.52-2/blib/arch:/home/cpansand/.local/share/.cpan/build/2025040318/Math-Prime-Util-GMP-0.52-2/blib/lib
PERL5OPT =
PERL5_CPANPLUS_IS_RUNNING = 1187380
PERL5_CPAN_IS_RUNNING = 1187380
PERL5_CPAN_IS_RUNNING_IN_RECURSION = 1185730,1187380
PERLDOC = -MPod::Perldoc::ToTextOverstrike
PERL_BATCH = yes
PERL_CANARY_STABILITY_NOPROMPT = 1
PERL_CPAN_REPORTER_CONFIG = /var/tmp/cpansmoker-1023/2025040318/cpanreporter_000_config.ini
PERL_EXTUTILS_AUTOINSTALL = --defaultdeps
PERL_USE_UNSAFE_INC = 1
SHELL = /usr/bin/zsh
TERM = screen
TMPDIR = /var/tmp/cpansmoker-1023/2025040318
Perl special variables (and OS-specific diagnostics, for MSWin32):
$^X = /opt/perl-5.36.3/bin/perl
$UID/$EUID = 1023 / 1023
$GID = 1023 1023
$EGID = 1023 1023
Perl module toolchain versions installed:
Module Have
------------------- --------
CPAN 2.33
CPAN::Meta 2.150010
Cwd 3.84
ExtUtils::CBuilder 0.280236
ExtUtils::Command 7.72
ExtUtils::Install 2.20
ExtUtils::MakeMaker 7.72
ExtUtils::Manifest 1.75
ExtUtils::ParseXS 3.51
File::Spec 3.84
JSON 4.10
JSON::PP 4.16
Module::Build 0.4234
Module::Signature n/a
Parse::CPAN::Meta 2.150010
Test2 1.302209
Test::Harness 3.44
Test::More 1.302209
YAML 1.31
YAML::Syck 1.34
version 0.9929
--
Summary of my perl5 (revision 5 version 36 subversion 3) configuration:
Platform:
osname=linux
osvers=6.8.0-51-generic
archname=aarch64-linux
uname='linux cloud6.bbbike.org 6.8.0-51-generic #52-ubuntu smp preempt_dynamic thu dec 5 13:32:09 utc 2024 aarch64 aarch64 aarch64 gnulinux '
config_args='-ds -e -Dprefix=/opt/perl-5.36.3 -Uinstallusrbinperl -Dcf_email=srezic@cpan.org'
hint=recommended
useposix=true
d_sigaction=define
useithreads=undef
usemultiplicity=undef
use64bitint=define
use64bitall=define
uselongdouble=undef
usemymalloc=n
default_inc_excludes_dot=define
Compiler:
cc='cc'
ccflags ='-fwrapv -fno-strict-aliasing -pipe -fstack-protector-strong -I/usr/local/include -D_LARGEFILE_SOURCE -D_FILE_OFFSET_BITS=64'
optimize='-O2'
cppflags='-fwrapv -fno-strict-aliasing -pipe -fstack-protector-strong -I/usr/local/include'
ccversion=''
gccversion='13.3.0'
gccosandvers=''
intsize=4
longsize=8
ptrsize=8
doublesize=8
byteorder=12345678
doublekind=3
d_longlong=define
longlongsize=8
d_longdbl=define
longdblsize=16
longdblkind=1
ivtype='long'
ivsize=8
nvtype='double'
nvsize=8
Off_t='off_t'
lseeksize=8
alignbytes=8
prototype=define
Linker and Libraries:
ld='cc'
ldflags =' -fstack-protector-strong -L/usr/local/lib'
libpth=/usr/local/lib /usr/lib/aarch64-linux-gnu /usr/lib
libs=-lpthread -lgdbm -ldb -ldl -lm -lcrypt -lutil -lc
perllibs=-lpthread -ldl -lm -lcrypt -lutil -lc
libc=/lib/aarch64-linux-gnu/libc.so.6
so=so
useshrplib=false
libperl=libperl.a
gnulibc_version='2.39'
Dynamic Linking:
dlsrc=dl_dlopen.xs
dlext=so
d_dlsymun=undef
ccdlflags='-Wl,-E'
cccdlflags='-fPIC'
lddlflags='-shared -O2 -L/usr/local/lib -fstack-protector-strong'
Characteristics of this binary (from libperl):
Compile-time options:
HAS_TIMES
PERLIO_LAYERS
PERL_COPY_ON_WRITE
PERL_DONT_CREATE_GVSV
PERL_MALLOC_WRAP
PERL_OP_PARENT
PERL_PRESERVE_IVUV
USE_64_BIT_ALL
USE_64_BIT_INT
USE_LARGE_FILES
USE_LOCALE
USE_LOCALE_COLLATE
USE_LOCALE_CTYPE
USE_LOCALE_NUMERIC
USE_LOCALE_TIME
USE_PERLIO
USE_PERL_ATOF
Built under linux
Compiled at Jan 18 2025 23:11:29
%ENV:
PERL5LIB="/home/cpansand/.local/share/.cpan/build/2025040318/Math-Prime-Util-GMP-0.52-2/blib/arch:/home/cpansand/.local/share/.cpan/build/2025040318/Math-Prime-Util-GMP-0.52-2/blib/lib"
PERL5OPT=""
PERL5_CPANPLUS_IS_RUNNING="1187380"
PERL5_CPAN_IS_RUNNING="1187380"
PERL5_CPAN_IS_RUNNING_IN_RECURSION="1185730,1187380"
PERLDOC="-MPod::Perldoc::ToTextOverstrike"
PERL_BATCH="yes"
PERL_CANARY_STABILITY_NOPROMPT="1"
PERL_CPAN_REPORTER_CONFIG="/var/tmp/cpansmoker-1023/2025040318/cpanreporter_000_config.ini"
PERL_EXTUTILS_AUTOINSTALL="--defaultdeps"
PERL_USE_UNSAFE_INC="1"
@INC:
/home/cpansand/.local/share/.cpan/build/2025040318/Math-Prime-Util-GMP-0.52-2/blib/arch
/home/cpansand/.local/share/.cpan/build/2025040318/Math-Prime-Util-GMP-0.52-2/blib/lib
/opt/perl-5.36.3/lib/site_perl/5.36.3/aarch64-linux
/opt/perl-5.36.3/lib/site_perl/5.36.3
/opt/perl-5.36.3/lib/5.36.3/aarch64-linux
/opt/perl-5.36.3/lib/5.36.3
.