Dist-Zilla-Plugin-CopyFilesFromBuild v0.170880 Perl 5 v5.31.1 darwin-2level
- Status
- Pass
- From
- Dist
-
Dist-Zilla-Plugin-CopyFilesFromBuild v0.170880
- Platform
- Perl 5 v5.31.1 darwin-2level
- Date
- 2019-06-25 01:36:09
- ID
- 9bca99ee-96e9-11e9-99d0-0ceca99f00c1
This distribution has been tested as part of the CPAN Testers
project, supporting the Perl programming language. See
http://wiki.cpantesters.org/ for more information or email
questions to cpan-testers-discuss@perl.org
--
Dear Ryan C. Thompson,
This is a computer-generated report for Dist-Zilla-Plugin-CopyFilesFromBuild-0.170880
on perl 5.31.1, created by CPAN-Reporter-1.2018.
Thank you for uploading your work to CPAN. Congratulations!
All tests were successful.
Sections of this report:
* Tester comments
* Program output
* Prerequisites
* Environment and other context
------------------------------
TESTER COMMENTS
------------------------------
Additional comments from tester:
none provided
------------------------------
PROGRAM OUTPUT
------------------------------
Output from '/usr/bin/make test':
PERL_DL_NONLAZY=1 "/Users/ollisg/opt/perl/5.31.1/bin/perl5.31.1" "-MExtUtils::Command::MM" "-MTest::Harness" "-e" "undef *Test::Harness::Switches; test_harness(0, 'blib/lib', 'blib/arch')" t/*.t
t/00-compile.t ........... ok
# Testing with Perl 5.031001, /Users/ollisg/opt/perl/5.31.1/bin/perl5.31.1
# Carp version is 1.50
# Dist::Zilla::Plugin::ReadmeAnyFromPod version is 0.163250
# Dist::Zilla::Role::AfterBuild version is 6.012
# ExtUtils::MakeMaker version is 7.36
# File::Copy version is 2.34
# File::Spec version is 3.78
# IO::File version is 1.41
# IO::Handle version is 1.41
# IPC::Open3 version is 1.20
# List::Util version is 1.5
# Moose version is 2.2011
# MooseX::Has::Sugar version is 1.000006
# Path::Tiny version is 0.108
# Scalar::Util version is 1.5
# Set::Scalar version is 1.29
# Test::DZil version is 6.012
# Test::Exception version is 0.43
# Test::More version is 1.302164
# Test::Most version is 0.35
# autodie version is 2.29
# blib version is 1.07
# strict version is 1.11
# utf8 version is 1.22
# warnings version is 1.45
t/000-report-versions.t .. ok
t/author-critic.t ........ skipped: these tests are for testing by the author
t/author-pod-coverage.t .. skipped: these tests are for testing by the author
t/author-pod-syntax.t .... skipped: these tests are for testing by the author
t/basic.t ................ ok
t/release-has-version.t .. skipped: these tests are for release candidate testing
t/release-kwalitee.t ..... skipped: these tests are for release candidate testing
t/release-portability.t .. skipped: these tests are for release candidate testing
t/release-unused-vars.t .. skipped: these tests are for release candidate testing
All tests successful.
Files=10, Tests=34, 1 wallclock secs ( 0.02 usr 0.01 sys + 1.02 cusr 0.10 csys = 1.15 CPU)
Result: PASS
------------------------------
PREREQUISITES
------------------------------
Prerequisite modules loaded:
requires:
Module Need Have
------------------------------------- ----- --------
Dist::Zilla::Role::AfterBuild 0 6.012
File::Copy 0 2.34
IO::File 0 1.41
List::Util 1.33 1.50
Moose 0 2.2011
MooseX::Has::Sugar 0 1.000006
Path::Tiny 0 0.108
perl 5.008 5.031001
Set::Scalar 0 1.29
strict 0 1.11
utf8 0 1.22
warnings 0 1.45
build_requires:
Module Need Have
------------------------------------- ----- --------
autodie 0 2.29
blib 1.01 1.07
Carp 0 1.50
Dist::Zilla::Plugin::ReadmeAnyFromPod 0 0.163250
ExtUtils::MakeMaker 0 7.36
File::Spec 0 3.78
IO::Handle 0 1.41
IPC::Open3 0 1.20
Scalar::Util 0 1.50
Test::DZil 0 6.012
Test::Exception 0 0.43
Test::More 0.94 1.302164
Test::Most 0 0.35
configure_requires:
Module Need Have
------------------------------------- ----- --------
ExtUtils::MakeMaker 0 7.36
perl 5.008 5.031001
------------------------------
ENVIRONMENT AND OTHER CONTEXT
------------------------------
Environment variables:
LANG = en_US.UTF-8
LC_COLLATE = C
MANPATH_WITHOUT_PERLBREW = /usr/local/share/man:/usr/share/man:/opt/X11/share/man:/Library/Developer/CommandLineTools/usr/share/man
PATH = /Users/ollisg/opt/perl/5.31.1/bin:/Users/ollisg/perl5/perlbrew/bin:/Users/ollisg/bin:/Users/ollisg/opt/postgres/11.2/bin:/usr/local/bin:/usr/bin:/bin:/usr/sbin:/sbin:/opt/X11/bin:/Applications/VMware Fusion.app/Contents/Public
PATH_WITHOUT_PERLBREW = /Users/ollisg/bin:/Users/ollisg/opt/postgres/11.2/bin:/usr/local/bin:/usr/bin:/bin:/usr/sbin:/sbin:/opt/X11/bin:/Applications/VMware Fusion.app/Contents/Public
PERL5LIB =
PERL5OPT =
PERL5_CPANPLUS_IS_RUNNING = 17523
PERL5_CPAN_IS_RUNNING = 17523
PERLBREW_CSHRC_VERSION = 0.80
PERLBREW_HOME = /Users/ollisg/.perlbrew
PERLBREW_PATH = /Users/ollisg/perl5/perlbrew/bin
PERLBREW_ROOT = /Users/ollisg/perl5/perlbrew
PERLBREW_VERSION = 0.83
PERL_CPANM_OPT = --mirror http://mirror.sydney.wdlabs.com/cpan/ --mirror-only
PERL_MM_USE_DEFAULT = 1
PERL_USE_UNSAFE_INC = 1
SHELL = /bin/tcsh
TERM = xterm-256color
TMPDIR = /var/folders/zw/5phm6l1n19q1mxc17l23ksxm0000gn/T/
Perl special variables (and OS-specific diagnostics, for MSWin32):
$^X = /Users/ollisg/opt/perl/5.31.1/bin/perl5.31.1
$UID/$EUID = 501 / 501
$GID = 20 20 701 12 61 79 80 81 98 33 100 204 250 395 398 399
$EGID = 20 20 701 12 61 79 80 81 98 33 100 204 250 395 398 399
Perl module toolchain versions installed:
Module Have
------------------- --------
CPAN 2.27
CPAN::Meta 2.150010
Cwd 3.78
ExtUtils::CBuilder 0.280232
ExtUtils::Command 7.36
ExtUtils::Install 2.14
ExtUtils::MakeMaker 7.36
ExtUtils::Manifest 1.72
ExtUtils::ParseXS 3.40
File::Spec 3.78
JSON 4.02
JSON::PP 4.02
Module::Build 0.4229
Module::Signature n/a
Parse::CPAN::Meta 2.150010
Test::Harness 3.42
Test::More 1.302164
YAML 1.29
YAML::Syck n/a
version 0.9924
--
Summary of my perl5 (revision 5 version 31 subversion 1) configuration:
Platform:
osname=darwin
osvers=17.7.0
archname=darwin-2level
uname='darwin helix 17.7.0 darwin kernel version 17.7.0: wed apr 24 21:17:24 pdt 2019; root:xnu-4570.71.45~1release_x86_64 x86_64 '
config_args='-Dprefix=/Users/ollisg/opt/perl/5.31.1 -de -Dcc=clang -Dusedevel -Dman1dir=none -Dman3dir=none -A'eval:scriptdir=/Users/ollisg/opt/perl/5.31.1/bin''
hint=recommended
useposix=true
d_sigaction=define
useithreads=undef
usemultiplicity=undef
use64bitint=define
use64bitall=define
uselongdouble=undef
usemymalloc=n
default_inc_excludes_dot=define
bincompat5005=undef
Compiler:
cc='clang'
ccflags ='-fno-common -DPERL_DARWIN -no-cpp-precomp -mmacosx-version-min=10.13 -fno-strict-aliasing -pipe -fstack-protector-strong -I/usr/local/include -DPERL_USE_SAFE_PUTENV'
optimize='-O3'
cppflags='-no-cpp-precomp -fno-common -DPERL_DARWIN -no-cpp-precomp -mmacosx-version-min=10.13 -fno-strict-aliasing -pipe -fstack-protector-strong -I/usr/local/include'
ccversion=''
gccversion='4.2.1 Compatible Apple LLVM 10.0.0 (clang-1000.10.44.4)'
gccosandvers=''
intsize=4
longsize=8
ptrsize=8
doublesize=8
byteorder=12345678
doublekind=3
d_longlong=define
longlongsize=8
d_longdbl=define
longdblsize=16
longdblkind=3
ivtype='long'
ivsize=8
nvtype='double'
nvsize=8
Off_t='off_t'
lseeksize=8
alignbytes=8
prototype=define
Linker and Libraries:
ld='clang'
ldflags =' -mmacosx-version-min=10.13 -fstack-protector-strong -L/usr/local/lib'
libpth=/usr/local/lib /Library/Developer/CommandLineTools/usr/lib/clang/10.0.0/lib /Library/Developer/CommandLineTools/usr/lib /usr/lib
libs=-lpthread -lgdbm -ldbm -ldl -lm -lutil -lc
perllibs=-lpthread -ldl -lm -lutil -lc
libc=
so=dylib
useshrplib=false
libperl=libperl.a
gnulibc_version=''
Dynamic Linking:
dlsrc=dl_dlopen.xs
dlext=bundle
d_dlsymun=undef
ccdlflags=' '
cccdlflags=' '
lddlflags=' -mmacosx-version-min=10.13 -bundle -undefined dynamic_lookup -L/usr/local/lib -fstack-protector-strong'
Characteristics of this binary (from libperl):
Compile-time options:
HAS_TIMES
PERLIO_LAYERS
PERL_COPY_ON_WRITE
PERL_DONT_CREATE_GVSV
PERL_MALLOC_WRAP
PERL_OP_PARENT
PERL_PRESERVE_IVUV
PERL_USE_DEVEL
PERL_USE_SAFE_PUTENV
USE_64_BIT_ALL
USE_64_BIT_INT
USE_LARGE_FILES
USE_LOCALE
USE_LOCALE_COLLATE
USE_LOCALE_CTYPE
USE_LOCALE_NUMERIC
USE_LOCALE_TIME
USE_PERLIO
USE_PERL_ATOF
Locally applied patches:
Devel::PatchPerl 1.52
Built under darwin
Compiled at Jun 24 2019 12:32:38
%ENV:
PERL5LIB=""
PERL5OPT=""
PERL5_CPANPLUS_IS_RUNNING="17523"
PERL5_CPAN_IS_RUNNING="17523"
PERLBREW_CSHRC_VERSION="0.80"
PERLBREW_HOME="/Users/ollisg/.perlbrew"
PERLBREW_PATH="/Users/ollisg/perl5/perlbrew/bin"
PERLBREW_ROOT="/Users/ollisg/perl5/perlbrew"
PERLBREW_VERSION="0.83"
PERL_CPANM_OPT="--mirror http://mirror.sydney.wdlabs.com/cpan/ --mirror-only"
PERL_MM_USE_DEFAULT="1"
PERL_USE_UNSAFE_INC="1"
@INC:
/Users/ollisg/opt/perl/5.31.1/lib/site_perl/5.31.1/darwin-2level
/Users/ollisg/opt/perl/5.31.1/lib/site_perl/5.31.1
/Users/ollisg/opt/perl/5.31.1/lib/5.31.1/darwin-2level
/Users/ollisg/opt/perl/5.31.1/lib/5.31.1
.