Config-Perl-V v0.38 Perl 5 v5.36.0 x86_64-linux
- Status
- Pass
- From
- Tom Molesworth
- Dist
-
Config-Perl-V v0.38
- Platform
- Perl 5 v5.36.0 x86_64-linux
- Date
- 2025-02-10 21:18:44
- ID
- 9bd32c64-e7f4-11ef-bcad-c98f77e9331b
This distribution has been tested as part of the CPAN Testers
project, supporting the Perl programming language. See
http://wiki.cpantesters.org/ for more information or email
questions to cpan-testers-discuss@perl.org
--
Dear HMBRAND,
This is a computer-generated report for Config-Perl-V-0.38
on perl 5.36.0, created by App::cpanminus::reporter 0.22 (1.7044).
Thank you for uploading your work to CPAN. Congratulations!
All tests were successful.
Sections of this report:
* Tester comments
* Program output
* Prerequisites
* Environment and other context
------------------------------
TESTER COMMENTS
------------------------------
Additional comments from tester:
none provided
------------------------------
PROGRAM OUTPUT
------------------------------
Output from '':
Building and testing Config-Perl-V-0.38
cp V.pm blib/lib/Config/Perl/V.pm
PERL_DL_NONLAZY=1 "/home/tom/perl5/perlbrew/perls/perl-5.36.0/bin/perl" "-MExtUtils::Command::MM" "-MTest::Harness" "-e" "undef *Test::Harness::Switches; test_harness(0, 'blib/lib', 'blib/arch')" t/*.t
t/10_base.t ........... ok
t/20_plv56.t .......... ok
t/21_plv58.t .......... ok
t/22_plv510.t ......... ok
t/23_plv512.t ......... ok
t/24_plv514.t ......... ok
t/25_plv516.t ......... ok
t/25_plv5162.t ........ ok
t/26_plv518.t ......... ok
t/26_plv5182.t ........ ok
t/27_plv5200.t ........ ok
t/27_plv5202.t ........ ok
t/28_plv5220.t ........ ok
t/28_plv52201w.t ...... ok
t/29_plv5235w.t ....... ok
t/30_plv5240.t ........ ok
t/31_plv52511.t ....... ok
t/32_plv5261rc1.t ..... ok
t/33_plv52711r.t ...... ok
t/34_plv5280.t ........ ok
t/35_plv52910g.t ...... ok
t/36_plv5300.t ........ ok
t/37_plv53111qm.t ..... ok
t/38_plv5320tld.t ..... ok
t/39_plv5340tqm.t ..... ok
t/40_plv5358dnqm.t .... ok
t/41_plv5360dnqm.t .... ok
t/42_plv5373tld.t ..... ok
t/43_plv53710rcs.t .... ok
t/44_plv5380tqm.t ..... ok
t/45_plv5400tqm.t ..... ok
t/46_plv5411tqmrcs.t .. ok
All tests successful.
Files=32, Tests=4099, 2 wallclock secs ( 0.17 usr 0.04 sys + 1.35 cusr 0.25 csys = 1.81 CPU)
Result: PASS
------------------------------
PREREQUISITES
------------------------------
Prerequisite modules loaded:
runtime:
Module Need Have
------------------- ---- --------
Config 0 5.036000
build:
Module Need Have
------------------- ---- --------
ExtUtils::MakeMaker 0 7.70
configure:
Module Need Have
------------------- ---- --------
ExtUtils::MakeMaker 0 7.70
------------------------------
ENVIRONMENT AND OTHER CONTEXT
------------------------------
Environment variables:
LANG = en_GB.UTF-8
LC_ADDRESS = ms_MY.UTF-8
LC_IDENTIFICATION = ms_MY.UTF-8
LC_MEASUREMENT = ms_MY.UTF-8
LC_MONETARY = ms_MY.UTF-8
LC_NAME = ms_MY.UTF-8
LC_NUMERIC = ms_MY.UTF-8
LC_PAPER = ms_MY.UTF-8
LC_TELEPHONE = ms_MY.UTF-8
LD_LIBRARY_PATH = /home/tom/local/lib:/usr/local/lib/nuitrack
PATH = /home/tom/.local/bin:/home/tom/perl5/perlbrew/bin:/home/tom/perl5/perlbrew/perls/perl-5.36.0/bin:/home/tom/local/bin:/usr/src/linux-headers-6.12.13-2-liquorix-amd64/tools/power/x86/x86_energy_perf_policy:/usr/src/linux-headers-6.12.13-2-liquorix-amd64/tools/power/x86/turbostat:/usr/src/linux-headers-6.12.13-2-liquorix-amd64/tools/power/cpupower:/usr/src/linux-headers-6.12.13-2-liquorix-amd64/tools/perf:/home/tom/.local/bin:/home/tom/local/miniconda3/bin:/home/tom/local/miniconda3/condabin:/home/tom/local/bin:/usr/src/linux-headers-6.12.13-2-liquorix-amd64/tools/power/x86/x86_energy_perf_policy:/usr/src/linux-headers-6.12.13-2-liquorix-amd64/tools/power/x86/turbostat:/usr/src/linux-headers-6.12.13-2-liquorix-amd64/tools/power/cpupower:/usr/src/linux-headers-6.12.13-2-liquorix-amd64/tools/perf:/usr/local/sbin:/usr/local/bin:/usr/sbin:/usr/bin:/sbin:/bin:/usr/games:/usr/local/games:/snap/bin:/home/tom/android/sdk/platform-tools:/home/tom/android/sdk/tools:/home/tom/android/flutter/bin:/home/tom/android/sdk/platform-tools:/home/tom/android/sdk/tools:/home/tom/android/flutter/bin
PERLBREW_HOME = /home/tom/.perlbrew
PERLBREW_MANPATH = /home/tom/perl5/perlbrew/perls/perl-5.36.0/man
PERLBREW_PATH = /home/tom/perl5/perlbrew/bin:/home/tom/perl5/perlbrew/perls/perl-5.36.0/bin
PERLBREW_PERL = perl-5.36.0
PERLBREW_ROOT = /home/tom/perl5/perlbrew
PERLBREW_SHELLRC_VERSION = 0.82
PERLBREW_VERSION = 0.94
PERL_LWP_SSL_VERIFY_HOSTNAME = 0
PERL_MM_USE_DEFAULT = 1
SHELL = /bin/bash
TERM = screen-256color
Perl special variables (and OS-specific diagnostics, for MSWin32):
EGID = 1000 4 6 24 27 29 30 44 46 115 119 120 127 131 143 147 997 999 1000 1001
EUID = 1000
EXECUTABLE_NAME = /home/tom/perl5/perlbrew/perls/perl-5.36.0/bin/perl
GID = 1000 4 6 24 27 29 30 44 46 115 119 120 127 131 143 147 997 999 1000 1001
UID = 1000
Perl module toolchain versions installed:
Module Have
------------------- --------
CPAN 2.38
CPAN::Meta 2.150010
Cwd 3.84
ExtUtils::CBuilder 0.280236
ExtUtils::Command 7.70
ExtUtils::Install 2.22
ExtUtils::MakeMaker 7.70
ExtUtils::Manifest 1.75
ExtUtils::ParseXS 3.51
File::Spec 3.84
JSON n/a
JSON::PP 4.16
Module::Build 0.4234
Module::Signature 0.89
Parse::CPAN::Meta 2.150010
Test::Harness 3.50
Test::More 1.302209
YAML 1.31
YAML::Syck n/a
version 0.9933
--
Summary of my perl5 (revision 5 version 36 subversion 0) configuration:
Platform:
osname=linux
osvers=5.19.0-4.2-liquorix-amd64
archname=x86_64-linux
uname='linux besar.rumah 5.19.0-4.2-liquorix-amd64 #1 zen smp preempt_dynamic liquorix 5.19-5ubuntu1~jammy (2022-08 x86_64 x86_64 x86_64 gnulinux '
config_args='-de -Dprefix=/home/tom/perl5/perlbrew/perls/perl-5.36.0 -DSILENT_NO_TAINT_SUPPORT -Dman1dir=none -Dman3dir=none -Aeval:scriptdir=/home/tom/perl5/perlbrew/perls/perl-5.36.0/bin'
hint=recommended
useposix=true
d_sigaction=define
useithreads=undef
usemultiplicity=undef
use64bitint=define
use64bitall=define
uselongdouble=undef
usemymalloc=n
default_inc_excludes_dot=define
Compiler:
cc='cc'
ccflags ='-fwrapv -fno-strict-aliasing -pipe -fstack-protector-strong -I/usr/local/include -D_LARGEFILE_SOURCE -D_FILE_OFFSET_BITS=64'
optimize='-O2'
cppflags='-fwrapv -fno-strict-aliasing -pipe -fstack-protector-strong -I/usr/local/include'
ccversion=''
gccversion='11.2.0'
gccosandvers=''
intsize=4
longsize=8
ptrsize=8
doublesize=8
byteorder=12345678
doublekind=3
d_longlong=define
longlongsize=8
d_longdbl=define
longdblsize=16
longdblkind=3
ivtype='long'
ivsize=8
nvtype='double'
nvsize=8
Off_t='off_t'
lseeksize=8
alignbytes=8
prototype=define
Linker and Libraries:
ld='cc'
ldflags =' -fstack-protector-strong -L/usr/local/lib'
libpth=/usr/local/lib /usr/lib/x86_64-linux-gnu /usr/lib /usr/lib64
libs=-lpthread -lnsl -ldb -ldl -lm -lcrypt -lutil -lc
perllibs=-lpthread -lnsl -ldl -lm -lcrypt -lutil -lc
libc=/lib/x86_64-linux-gnu/libc.so.6
so=so
useshrplib=false
libperl=libperl.a
gnulibc_version='2.35'
Dynamic Linking:
dlsrc=dl_dlopen.xs
dlext=so
d_dlsymun=undef
ccdlflags='-Wl,-E'
cccdlflags='-fPIC'
lddlflags='-shared -O2 -L/usr/local/lib -fstack-protector-strong'
Characteristics of this binary (from libperl):
Compile-time options:
HAS_TIMES
PERLIO_LAYERS
PERL_COPY_ON_WRITE
PERL_DONT_CREATE_GVSV
PERL_MALLOC_WRAP
PERL_OP_PARENT
PERL_PRESERVE_IVUV
USE_64_BIT_ALL
USE_64_BIT_INT
USE_LARGE_FILES
USE_LOCALE
USE_LOCALE_COLLATE
USE_LOCALE_CTYPE
USE_LOCALE_NUMERIC
USE_LOCALE_TIME
USE_PERLIO
USE_PERL_ATOF
Built under linux
Compiled at Aug 31 2022 21:22:59
%ENV:
PERLBREW_HOME="/home/tom/.perlbrew"
PERLBREW_MANPATH="/home/tom/perl5/perlbrew/perls/perl-5.36.0/man"
PERLBREW_PATH="/home/tom/perl5/perlbrew/bin:/home/tom/perl5/perlbrew/perls/perl-5.36.0/bin"
PERLBREW_PERL="perl-5.36.0"
PERLBREW_ROOT="/home/tom/perl5/perlbrew"
PERLBREW_SHELLRC_VERSION="0.82"
PERLBREW_VERSION="0.94"
PERL_LWP_SSL_VERIFY_HOSTNAME="0"
PERL_MM_USE_DEFAULT="1"
@INC:
/home/tom/perl5/perlbrew/perls/perl-5.36.0/lib/site_perl/5.36.0/x86_64-linux
/home/tom/perl5/perlbrew/perls/perl-5.36.0/lib/site_perl/5.36.0
/home/tom/perl5/perlbrew/perls/perl-5.36.0/lib/5.36.0/x86_64-linux
/home/tom/perl5/perlbrew/perls/perl-5.36.0/lib/5.36.0