Log-LogMethods v1.007 Perl 5 v5.16.3 x86_64-linux-thread-multi

Status
Pass
From
David Cantrell (DCANTRELL)
Dist
Log-LogMethods v1.007
Platform
Perl 5 v5.16.3 x86_64-linux-thread-multi
Date
2020-07-17 17:11:52
ID
9bf86614-c850-11ea-b51f-c883a1724e2f
This distribution has been tested as part of the CPAN Testers
project, supporting the Perl programming language.  See
http://wiki.cpantesters.org/ for more information or email
questions to cpan-testers-discuss@perl.org


--
Dear Michael Shipper,

This is a computer-generated report for Log-LogMethods-1.007
on perl 5.16.3, created by CPAN-Reporter-1.2018.

Thank you for uploading your work to CPAN.  Congratulations!
All tests were successful.

Sections of this report:

    * Tester comments
    * Program output
    * Prerequisites
    * Environment and other context

------------------------------
TESTER COMMENTS
------------------------------

Additional comments from tester:

this report is from an automated smoke testing program
and was not reviewed by a human for accuracy

------------------------------
PROGRAM OUTPUT
------------------------------

Output from '/usr/bin/make test':

PERL_DL_NONLAZY=1 "/home/david/cpantesting/perl-5.16.3/bin/perl" "-MExtUtils::Command::MM" "-MTest::Harness" "-e" "undef *Test::Harness::Switches; test_harness(0, 'blib/lib', 'blib/arch')" t/*.t
t/levelOrder.t .......................... ok
# pigsty.barnyard.co.uk 19576 2020/07/17 18:11:41 DEBUG 216 Log::LogMethods::_trigger_logger [] [Logger->category eq 'Log.LogMethods', Creating our own: Log::Log4perl->get_logger('test')]   
# pigsty.barnyard.co.uk 19576 2020/07/17 18:11:41 DEBUG 216 Log::LogMethods::_trigger_logger [] [Logger->category eq 'Log.LogMethods', Creating our own: Log::Log4perl->get_logger('test')]   
# pigsty.barnyard.co.uk 19576 2020/07/17 18:11:41 DEBUG 216 Log::LogMethods::_trigger_logger [] [Logger->category eq 'Log.LogMethods', Creating our own: Log::Log4perl->get_logger('test')]   
# pigsty.barnyard.co.uk 19576 2020/07/17 18:11:41 INFO 36 main:: [] [this another test]   
# testing test->always('test message for level: ALWAYS')
# pigsty.barnyard.co.uk 19576 2020/07/17 18:11:41 ALWAYS 47 main:: [] [test message for level: ALWAYS]   
# testing test->debug('test message for level: DEBUG')
# pigsty.barnyard.co.uk 19576 2020/07/17 18:11:41 DEBUG 47 main:: [] [test message for level: DEBUG]   
# testing test->error('test message for level: ERROR')
# pigsty.barnyard.co.uk 19576 2020/07/17 18:11:41 ERROR 47 main:: [] [test message for level: ERROR]   
# testing test->fatal('test message for level: FATAL')
# pigsty.barnyard.co.uk 19576 2020/07/17 18:11:41 FATAL 47 main:: [] [test message for level: FATAL]   
# testing test->info('test message for level: INFO')
# pigsty.barnyard.co.uk 19576 2020/07/17 18:11:41 INFO 47 main:: [] [test message for level: INFO]   
# testing test->off('test message for level: OFF')
# pigsty.barnyard.co.uk 19576 2020/07/17 18:11:41 OFF 47 main:: [] [test message for level: OFF]   
# testing test->trace('test message for level: TRACE')
# pigsty.barnyard.co.uk 19576 2020/07/17 18:11:41 TRACE 47 main:: [] [test message for level: TRACE]   
# testing test->warning('test message for level: WARN')
# pigsty.barnyard.co.uk 19576 2020/07/17 18:11:41 WARN 47 main:: [] [test message for level: WARN]   
# pigsty.barnyard.co.uk 19576 2020/07/17 18:11:41 INFO 85 test::test [] [this is a test]   
# pigsty.barnyard.co.uk 19576 2020/07/17 18:11:41 INFO 85 test::test [] [this is a test]   
t/Log-LogMethods-GeneratedInterfaces.t .. ok
t/Log-LogMethods-Log4PerlLogToString.t .. ok
t/Log-LogMethods.t ...................... ok
All tests successful.
Files=4, Tests=88,  7 wallclock secs ( 0.04 usr  0.00 sys +  0.72 cusr  0.05 csys =  0.81 CPU)
Result: PASS

------------------------------
PREREQUISITES
------------------------------

Prerequisite modules loaded:

requires:

    Module                       Need       Have      
    ---------------------------- ---------- ----------
  ! B                            1.68       1.35      
    Carp                         1.42       1.50      
    Data::Dumper                 2.161      2.173     
    Data::Result                 1.0        1.0003    
    Exporter                     5.72       5.74      
    IO::Scalar                   2.111      2.113     
    Log::Dispatch::Handle        2.65       2.69      
    Log::Log4perl                1.49       1.49      
    Modern::Perl                 1.20170117 1.20200211
    Moo                          2.003002   2.004000  
    MooX::Types::MooseLike::Base 0.29       0.29      
    namespace::clean             0.27       0.27      
  ! overload                     1.28       1.18      
    Ref::Util                    0.203      0.204     
    Scalar::Util                 1.48       1.55      
    Test::More                   1.302073   1.302175  
    Time::HiRes                  1.9741     1.9760    

build_requires:

    Module                       Need       Have      
    ---------------------------- ---------- ----------
    ExtUtils::MakeMaker          0          7.34      

configure_requires:

    Module                       Need       Have      
    ---------------------------- ---------- ----------
    ExtUtils::MakeMaker          0          7.34      


------------------------------
ENVIRONMENT AND OTHER CONTEXT
------------------------------

Environment variables:

    AUTOMATED_TESTING = 1
    LANG = en_US.UTF-8
    NONINTERACTIVE_TESTING = 1
    PATH = /usr/local/bin:/usr/bin:/bin:/usr/local/games:/usr/games
    PERL = 5.16.3
    PERL5LIB = 
    PERL5OPT = 
    PERL5_CPANPLUS_IS_RUNNING = 7652
    PERL5_CPAN_IS_RUNNING = 7652
    PERLVER = 5.16.3
    PERL_INLINE_DIRECTORY = /home/david/.Inline-5.16.3
    PERL_MM_USE_DEFAULT = 1
    PERL_USE_UNSAFE_INC = 0
    SHELL = /bin/bash
    TERM = screen

Perl special variables (and OS-specific diagnostics, for MSWin32):

    $^X = /home/david/cpantesting/perl-5.16.3/bin/perl
    $UID/$EUID = 1000 / 1000
    $GID = 1000 27 1000
    $EGID = 1000 27 1000

Perl module toolchain versions installed:

    Module              Have    
    ------------------- --------
    CPAN                1.9800  
    CPAN::Meta          2.143240
    Cwd                 3.39_02 
    ExtUtils::CBuilder  0.280206
    ExtUtils::Command   7.34    
    ExtUtils::Install   2.06    
    ExtUtils::MakeMaker 7.34    
    ExtUtils::Manifest  1.70    
    ExtUtils::ParseXS   3.16    
    File::Spec          3.39_02 
    JSON                n/a     
    JSON::PP            4.02    
    Module::Build       0.39_01 
    Module::Signature   n/a     
    Parse::CPAN::Meta   1.4414  
    Test::Harness       3.23    
    Test::More          1.302175
    YAML                n/a     
    YAML::Syck          n/a     
    version             0.99    


--

Summary of my perl5 (revision 5 version 16 subversion 3) configuration:
   
  Platform:
    osname=linux, osvers=4.9.0-8-amd64, archname=x86_64-linux-thread-multi
    uname='linux pigsty 4.9.0-8-amd64 #1 smp debian 4.9.144-3 (2019-02-02) x86_64 gnulinux '
    config_args='-de -Duse64bitall -Dusethreads -Dprefix=/home/david/cpantesting/perl-5.16.3 -A ccflags=-fwrapv'
    hint=previous, useposix=true, d_sigaction=define
    useithreads=define, usemultiplicity=define
    useperlio=define, d_sfio=undef, uselargefiles=define, usesocks=undef
    use64bitint=define, use64bitall=define, uselongdouble=undef
    usemymalloc=n, bincompat5005=undef
  Compiler:
    cc='cc', ccflags ='-D_REENTRANT -D_GNU_SOURCE -fwrapv -fno-strict-aliasing -pipe -fstack-protector -I/usr/local/include -D_LARGEFILE_SOURCE -D_FILE_OFFSET_BITS=64 -fwrapv -fwrapv',
    optimize='-O2',
    cppflags='-D_REENTRANT -D_GNU_SOURCE -fwrapv -fno-strict-aliasing -pipe -fstack-protector -I/usr/local/include -D_REENTRANT -D_GNU_SOURCE -fwrapv -fno-strict-aliasing -pipe -fstack-protector -I/usr/local/include -D_LARGEFILE_SOURCE -D_FILE_OFFSET_BITS=64 -fwrapv -D_REENTRANT -D_GNU_SOURCE -fwrapv -fno-strict-aliasing -pipe -fstack-protector -I/usr/local/include -D_LARGEFILE_SOURCE -D_FILE_OFFSET_BITS=64 -fwrapv -fwrapv'
    ccversion='', gccversion='6.3.0 20170516', gccosandvers=''
    intsize=4, longsize=8, ptrsize=8, doublesize=8, byteorder=12345678
    d_longlong=define, longlongsize=8, d_longdbl=define, longdblsize=16
    ivtype='long', ivsize=8, nvtype='double', nvsize=8, Off_t='off_t', lseeksize=8
    alignbytes=8, prototype=define
  Linker and Libraries:
    ld='cc', ldflags =' -fstack-protector -L/usr/local/lib'
    libpth=/usr/local/lib /lib/x86_64-linux-gnu /lib/../lib /usr/lib/x86_64-linux-gnu /usr/lib/../lib /lib /usr/lib
    libs=-lnsl -ldb -ldl -lm -lcrypt -lutil -lpthread -lc
    perllibs=-lnsl -ldl -lm -lcrypt -lutil -lpthread -lc
    libc=libc-2.24.so, so=so, useshrplib=false, libperl=libperl.a
    gnulibc_version='2.24'
  Dynamic Linking:
    dlsrc=dl_dlopen.xs, dlext=so, d_dlsymun=undef, ccdlflags='-Wl,-E'
    cccdlflags='-fPIC', lddlflags='-shared -O2 -L/usr/local/lib -fstack-protector'


Characteristics of this binary (from libperl): 
  Compile-time options: HAS_TIMES MULTIPLICITY PERLIO_LAYERS
                        PERL_DONT_CREATE_GVSV PERL_IMPLICIT_CONTEXT
                        PERL_MALLOC_WRAP PERL_PRESERVE_IVUV USE_64_BIT_ALL
                        USE_64_BIT_INT USE_ITHREADS USE_LARGE_FILES
                        USE_LOCALE USE_LOCALE_COLLATE USE_LOCALE_CTYPE
                        USE_LOCALE_NUMERIC USE_PERLIO USE_PERL_ATOF
                        USE_REENTRANT_API
  Locally applied patches:
	Devel::PatchPerl 1.56
  Built under linux
  Compiled at Apr 25 2019 22:17:10
  %ENV:
    PERL="5.16.3"
    PERL5LIB=""
    PERL5OPT=""
    PERL5_CPANPLUS_IS_RUNNING="7652"
    PERL5_CPAN_IS_RUNNING="7652"
    PERLVER="5.16.3"
    PERL_INLINE_DIRECTORY="/home/david/.Inline-5.16.3"
    PERL_MM_USE_DEFAULT="1"
    PERL_USE_UNSAFE_INC="0"
  @INC:
    /home/david/cpantesting/perl-5.16.3/lib/site_perl/5.16.3/x86_64-linux-thread-multi
    /home/david/cpantesting/perl-5.16.3/lib/site_perl/5.16.3
    /home/david/cpantesting/perl-5.16.3/lib/5.16.3/x86_64-linux-thread-multi
    /home/david/cpantesting/perl-5.16.3/lib/5.16.3
    .