libwww-perl v6.70 Perl 5 v5.36.1 x86_64-linux

Status
Pass
From
Nigel Horne
Dist
libwww-perl v6.70
Platform
Perl 5 v5.36.1 x86_64-linux
Date
2023-05-08 17:34:39
ID
9c05647e-edc6-11ed-9762-8566bdb7ba05
This distribution has been tested as part of the CPAN Testers
project, supporting the Perl programming language.  See
http://wiki.cpantesters.org/ for more information or email
questions to cpan-testers-discuss@perl.org


--
Dear Julien Fiegehenn,

This is a computer-generated report for libwww-perl-6.70
on perl 5.36.1, created by CPAN-Reporter-1.2019.

Thank you for uploading your work to CPAN.  Congratulations!
All tests were successful.

Sections of this report:

    * Tester comments
    * Program output
    * Prerequisites
    * Environment and other context

------------------------------
TESTER COMMENTS
------------------------------

Additional comments from tester:

none provided

------------------------------
PROGRAM OUTPUT
------------------------------

Output from '/usr/bin/make test':

PERL_DL_NONLAZY=1 "/home/opc/perl5/perlbrew/perls/perl-5.36.1/bin/perl" "-MExtUtils::Command::MM" "-MTest::Harness" "-e" "undef *Test::Harness::Switches; test_harness(0, 'blib/lib', 'blib/arch')" t/*.t t/base/*.t t/base/protocols/*.t t/leak/*.t t/local/*.t t/robot/*.t
t/10-attrs.t ................... ok
# 
# Versions for all modules listed in MYMETA.json (including optional ones):
# 
# === Configure Requires ===
# 
#     Module              Want Have
#     ------------------- ---- ----
#     ExtUtils::MakeMaker  any 7.70
#     File::Copy           any 2.39
#     Getopt::Long         any 2.54
# 
# === Configure Suggests ===
# 
#     Module      Want Have
#     -------- ------- ----
#     JSON::PP 2.27300 4.16
# 
# === Build Requires ===
# 
#     Module              Want Have
#     ------------------- ---- ----
#     ExtUtils::MakeMaker  any 7.70
# 
# === Test Requires ===
# 
#     Module                 Want     Have
#     ---------------------- ---- --------
#     ExtUtils::MakeMaker     any     7.70
#     File::Spec              any     3.84
#     FindBin                 any     1.53
#     HTTP::Daemon           6.12     6.16
#     Test::Fatal             any    0.017
#     Test::More             0.96 1.302195
#     Test::Needs             any 0.002010
#     Test::RequiresInternet  any     0.05
# 
# === Test Recommends ===
# 
#     Module              Want     Have
#     --------------- -------- --------
#     CPAN::Meta      2.120900 2.150010
#     Test::LeakTrace      any     0.17
# 
# === Runtime Requires ===
# 
#     Module                    Want     Have
#     --------------------- -------- --------
#     Digest::MD5                any     2.58
#     Encode                    2.12     3.19
#     Encode::Locale             any     1.05
#     File::Copy                 any     2.39
#     File::Listing                6     6.15
#     File::Temp                 any   0.2311
#     Getopt::Long               any     2.54
#     HTML::Entities             any     3.81
#     HTML::HeadParser          3.71     3.81
#     HTTP::CookieJar::LWP       any    0.014
#     HTTP::Cookies                6     6.10
#     HTTP::Date                   6     6.05
#     HTTP::Negotiate              6     6.01
#     HTTP::Request             6.18     6.44
#     HTTP::Request::Common     6.18     6.44
#     HTTP::Response            6.18     6.44
#     HTTP::Status              6.18     6.44
#     IO::Select                 any     1.51
#     IO::Socket                 any     1.51
#     LWP::MediaTypes              6     6.04
#     MIME::Base64               2.1     3.16
#     Module::Load               any     0.36
#     Net::FTP                  2.58     3.15
#     Net::HTTP                 6.18     6.22
#     Scalar::Util               any     1.63
#     Try::Tiny                  any     0.31
#     URI                       1.10     5.19
#     URI::Escape                any     5.19
#     WWW::RobotRules              6     6.02
#     parent                   0.217    0.241
#     perl                  5.008001 5.036001
#     strict                     any     1.12
#     warnings                   any     1.58
# 
# === Runtime Suggests ===
# 
#     Module               Want    Have
#     -------------------- ---- -------
#     Authen::NTLM         1.02 missing
#     Data::Dump           1.13    1.25
#     IO::Socket::INET      any    1.51
#     LWP::Protocol::https 6.02    6.10
# 
t/00-report-prereqs.t .......... ok
t/base/default_content_type.t .. ok
t/base/protocols/nntp.t ........ skipped: nntp.perl.org is unstable and Test::RequiresInternet is not catching it
t/base/protocols.t ............. ok
t/base/proxy_request.t ......... ok
t/base/simple.t ................ ok
t/base/proxy.t ................. ok
t/base/ua_handlers.t ........... ok
t/base/ua.t .................... ok
t/local/autoload-get.t ......... ok
t/leak/no_leak.t ............... ok
t/local/autoload.t ............. ok
t/local/cookie_jar.t ........... ok
t/local/download_to_fh.t ....... ok
t/local/get.t .................. ok
t/local/httpsub.t .............. ok
t/local/protosub.t ............. ok
t/redirect.t ................... ok
t/robot/ua-get.t ............... ok
t/local/http.t ................. ok
t/robot/ua.t ................... ok
All tests successful.
Files=22, Tests=311, 27 wallclock secs ( 0.10 usr  0.03 sys +  3.88 cusr  0.91 csys =  4.92 CPU)
Result: PASS

------------------------------
PREREQUISITES
------------------------------

Prerequisite modules loaded:

requires:

    Module                 Need     Have    
    ---------------------- -------- --------
    Digest::MD5            0        2.58    
    Encode                 2.12     3.19    
    Encode::Locale         0        1.05    
    File::Copy             0        2.39    
    File::Listing          6        6.15    
    File::Temp             0        0.2311  
    Getopt::Long           0        2.54    
    HTML::Entities         0        3.81    
    HTML::HeadParser       3.71     3.81    
    HTTP::CookieJar::LWP   0        0.014   
    HTTP::Cookies          6        6.10    
    HTTP::Date             6        6.05    
    HTTP::Negotiate        6        6.01    
    HTTP::Request          6.18     6.44    
    HTTP::Request::Common  6.18     6.44    
    HTTP::Response         6.18     6.44    
    HTTP::Status           6.18     6.44    
    IO::Select             0        1.51    
    IO::Socket             0        1.51    
    LWP::MediaTypes        6        6.04    
    MIME::Base64           2.1      3.16    
    Module::Load           0        0.36    
    Net::FTP               2.58     3.15    
    Net::HTTP              6.18     6.22    
    parent                 0.217    0.241   
    perl                   5.008001 5.036001
    Scalar::Util           0        1.63    
    strict                 0        1.12    
    Try::Tiny              0        0.31    
    URI                    1.10     5.19    
    URI::Escape            0        5.19    
    warnings               0        1.58    
    WWW::RobotRules        6        6.02    

build_requires:

    Module                 Need     Have    
    ---------------------- -------- --------
    ExtUtils::MakeMaker    0        7.70    
    File::Spec             0        3.84    
    FindBin                0        1.53    
    HTTP::Daemon           6.12     6.16    
    Test::Fatal            0        0.017   
    Test::More             0.96     1.302195
    Test::Needs            0        0.002010
    Test::RequiresInternet 0        0.05    

configure_requires:

    Module                 Need     Have    
    ---------------------- -------- --------
    ExtUtils::MakeMaker    0        7.70    
    File::Copy             0        2.39    
    Getopt::Long           0        2.54    

opt_build_requires:

    Module                 Need     Have    
    ---------------------- -------- --------
    CPAN::Meta             2.120900 2.150010
    Test::LeakTrace        0        0.17    


------------------------------
ENVIRONMENT AND OTHER CONTEXT
------------------------------

Environment variables:

    HARNESS_OPTIONS = j2:c
    LANG = en_US.UTF-8
    PATH = /home/opc/perl5/perlbrew/bin:/home/opc/perl5/perlbrew/perls/perl-5.36.1/bin:/usr/local/bin:/usr/bin:/usr/local/sbin:/usr/sbin:/home/opc/.local/bin:/home/opc/bin
    PERL5LIB = 
    PERL5OPT = 
    PERL5_CPANPLUS_IS_RUNNING = 11364
    PERL5_CPAN_IS_RUNNING = 11364
    PERLBREW_HOME = /home/opc/.perlbrew
    PERLBREW_MANPATH = /home/opc/perl5/perlbrew/perls/perl-5.36.1/man
    PERLBREW_PATH = /home/opc/perl5/perlbrew/bin:/home/opc/perl5/perlbrew/perls/perl-5.36.1/bin
    PERLBREW_PERL = perl-5.36.1
    PERLBREW_ROOT = /home/opc/perl5/perlbrew
    PERLBREW_SHELLRC_VERSION = 0.96
    PERLBREW_VERSION = 0.96
    PERL_USE_UNSAFE_INC = 1
    SHELL = /bin/bash
    TERM = vt220

Perl special variables (and OS-specific diagnostics, for MSWin32):

    $^X = /home/opc/perl5/perlbrew/perls/perl-5.36.1/bin/perl
    $UID/$EUID = 1000 / 1000
    $GID = 1000 4 10 190 1000
    $EGID = 1000 4 10 190 1000

Perl module toolchain versions installed:

    Module              Have    
    ------------------- --------
    CPAN                2.35    
    CPAN::Meta          2.150010
    Cwd                 3.84    
    ExtUtils::CBuilder  0.280236
    ExtUtils::Command   7.70    
    ExtUtils::Install   2.22    
    ExtUtils::MakeMaker 7.70    
    ExtUtils::Manifest  1.75    
    ExtUtils::ParseXS   3.45    
    File::Spec          3.84    
    JSON                4.10    
    JSON::PP            4.16    
    Module::Build       0.4234  
    Module::Signature   0.88    
    Parse::CPAN::Meta   2.150010
    Test2               1.302195
    Test::Harness       3.44    
    Test::More          1.302195
    YAML                1.30    
    YAML::Syck          1.34    
    version             0.9929  


--

Summary of my perl5 (revision 5 version 36 subversion 1) configuration:
   
  Platform:
    osname=linux
    osvers=5.4.17-2136.317.5.5.el7uek.x86_64
    archname=x86_64-linux
    uname='linux oracle2.bandsman.co.uk 5.4.17-2136.317.5.5.el7uek.x86_64 #2 smp wed apr 5 20:03:33 pdt 2023 x86_64 x86_64 x86_64 gnulinux '
    config_args='-de -Dprefix=/home/opc/perl5/perlbrew/perls/perl-5.36.1 -Aeval:scriptdir=/home/opc/perl5/perlbrew/perls/perl-5.36.1/bin'
    hint=recommended
    useposix=true
    d_sigaction=define
    useithreads=undef
    usemultiplicity=undef
    use64bitint=define
    use64bitall=define
    uselongdouble=undef
    usemymalloc=n
    default_inc_excludes_dot=define
  Compiler:
    cc='cc'
    ccflags ='-std=gnu99 -fwrapv -fno-strict-aliasing -pipe -fstack-protector-strong -I/usr/local/include -D_LARGEFILE_SOURCE -D_FILE_OFFSET_BITS=64 -D_FORTIFY_SOURCE=2'
    optimize='-O2'
    cppflags='-std=gnu99 -fwrapv -fno-strict-aliasing -pipe -fstack-protector-strong -I/usr/local/include'
    ccversion=''
    gccversion='4.8.5 20150623 (Red Hat 4.8.5-44.0.3)'
    gccosandvers=''
    intsize=4
    longsize=8
    ptrsize=8
    doublesize=8
    byteorder=12345678
    doublekind=3
    d_longlong=define
    longlongsize=8
    d_longdbl=define
    longdblsize=16
    longdblkind=3
    ivtype='long'
    ivsize=8
    nvtype='double'
    nvsize=8
    Off_t='off_t'
    lseeksize=8
    alignbytes=8
    prototype=define
  Linker and Libraries:
    ld='cc'
    ldflags =' -fstack-protector-strong -L/usr/local/lib'
    libpth=/usr/local/lib /usr/lib /usr/lib64 /usr/local/lib64
    libs=-lpthread -lnsl -lgdbm -ldb -ldl -lm -lcrypt -lutil -lc -lgdbm_compat
    perllibs=-lpthread -lnsl -ldl -lm -lcrypt -lutil -lc
    libc=libc-2.17.so
    so=so
    useshrplib=false
    libperl=libperl.a
    gnulibc_version='2.17'
  Dynamic Linking:
    dlsrc=dl_dlopen.xs
    dlext=so
    d_dlsymun=undef
    ccdlflags='-Wl,-E'
    cccdlflags='-fPIC'
    lddlflags='-shared -O2 -L/usr/local/lib -fstack-protector-strong'


Characteristics of this binary (from libperl): 
  Compile-time options:
    HAS_TIMES
    PERLIO_LAYERS
    PERL_COPY_ON_WRITE
    PERL_DONT_CREATE_GVSV
    PERL_MALLOC_WRAP
    PERL_OP_PARENT
    PERL_PRESERVE_IVUV
    USE_64_BIT_ALL
    USE_64_BIT_INT
    USE_LARGE_FILES
    USE_LOCALE
    USE_LOCALE_COLLATE
    USE_LOCALE_CTYPE
    USE_LOCALE_NUMERIC
    USE_LOCALE_TIME
    USE_PERLIO
    USE_PERL_ATOF
  Built under linux
  Compiled at Apr 26 2023 08:57:09
  %ENV:
    PERL5LIB=""
    PERL5OPT=""
    PERL5_CPANPLUS_IS_RUNNING="11364"
    PERL5_CPAN_IS_RUNNING="11364"
    PERLBREW_HOME="/home/opc/.perlbrew"
    PERLBREW_MANPATH="/home/opc/perl5/perlbrew/perls/perl-5.36.1/man"
    PERLBREW_PATH="/home/opc/perl5/perlbrew/bin:/home/opc/perl5/perlbrew/perls/perl-5.36.1/bin"
    PERLBREW_PERL="perl-5.36.1"
    PERLBREW_ROOT="/home/opc/perl5/perlbrew"
    PERLBREW_SHELLRC_VERSION="0.96"
    PERLBREW_VERSION="0.96"
    PERL_USE_UNSAFE_INC="1"
  @INC:
    /home/opc/perl5/perlbrew/perls/perl-5.36.1/lib/site_perl/5.36.1/x86_64-linux
    /home/opc/perl5/perlbrew/perls/perl-5.36.1/lib/site_perl/5.36.1
    /home/opc/perl5/perlbrew/perls/perl-5.36.1/lib/5.36.1/x86_64-linux
    /home/opc/perl5/perlbrew/perls/perl-5.36.1/lib/5.36.1
    .