Math-BigInt v2.005003 Perl 5 v5.40.1 darwin-thread-multi-2level

Status
Pass
From
Gintautas Grigelionis
Dist
Math-BigInt v2.005003
Platform
Perl 5 v5.40.1 darwin-thread-multi-2level
Date
2025-04-20 06:49:30
ID
9c0b8af6-1db3-11f0-a43e-c6cf64ac2108
This distribution has been tested as part of the CPAN Testers
project, supporting the Perl programming language.  See
http://wiki.cpantesters.org/ for more information or email
questions to cpan-testers-discuss@perl.org


--
Dear Peter John Acklam,

This is a computer-generated report for Math-BigInt-2.005003
on perl 5.40.1, created by CPAN-Reporter-1.2020.

Thank you for uploading your work to CPAN.  Congratulations!
All tests were successful.

Sections of this report:

    * Tester comments
    * Program output
    * Prerequisites
    * Environment and other context

------------------------------
TESTER COMMENTS
------------------------------

Additional comments from tester:

none provided

------------------------------
PROGRAM OUTPUT
------------------------------

Output from '/usr/bin/make test':

PERL_DL_NONLAZY=1 "/usr/local/Cellar/perl/5.40.1/bin/perl" "-MExtUtils::Command::MM" "-MTest::Harness" "-e" "undef *Test::Harness::Switches; test_harness(0, 'blib/lib', 'blib/arch')" t/*.t
t/00sig.t ..................... skipped: Set the environment variable TEST_SIGNATURE to enable this test.
# 
# Testing with Perl 5.040001, /usr/local/Cellar/perl/5.40.1/bin/perl
# 
#      Version Module
#      ------- ------
#     2.005003 Math::BigInt
#     2.005003 Math::BigFloat
#     2.005003 Math::BigRat
#     2.005003 Math::BigInt::Lib
#     2.005003 Math::BigInt::Calc
# 
t/01load.t .................... ok
t/bare_mbf.t .................. ok
t/bare_mbi.t .................. ok
t/bare_mbr.t .................. ok
t/bare_mif.t .................. ok
t/bfround_numify.t ............ ok
t/big_ap.t .................... ok
t/big_pi_e.t .................. ok
t/bigfltpm.t .................. ok
t/bigfltrt.t .................. ok
t/bigintc-import.t ............ ok
t/bigintc.t ................... ok
t/bigintpm.t .................. ok
t/bigints.t ................... ok
t/biglog.t .................... ok
t/bigrat.t .................... ok
t/bigratpm.t .................. ok
t/bigratup.t .................. ok
t/bigroot.t ................... ok
t/bitwise-mbr.t ............... ok
t/calling-class-methods.t ..... ok
t/calling-constant.t .......... ok
t/calling-instance-methods.t .. ok
t/calling-lib1.t .............. ok
t/calling-lib2.t .............. ok
t/config.t .................... ok
t/downgrade-mbi-mbf.t ......... ok
t/downgrade-mbi-mbr.t ......... ok
t/hang-mbr.t .................. ok
t/inf_nan.t ................... ok
t/isa.t ....................... ok
t/mbf_ali.t ................... ok
t/mbi_ali.t ................... ok
t/mbi_rand.t .................. ok
t/mbimbf.t .................... ok
t/mbr_ali.t ................... ok
t/nan_cmp.t ................... ok
t/new_overloaded.t ............ ok
t/round.t ..................... ok
t/rt-16221.t .................. ok
t/rt121139.t .................. ok
t/sub_ali.t ................... ok
t/sub_mbf.t ................... ok
t/sub_mbi.t ................... ok
t/sub_mbr.t ................... ok
t/sub_mif.t ................... ok
t/trap.t ...................... ok
t/upgrade.t ................... ok
t/upgrade2.t .................. ok
t/upgradef.t .................. ok
t/use.t ....................... ok
t/use_mbfw.t .................. ok
t/with_sub.t .................. ok
All tests successful.
Files=54, Tests=39299,  9 wallclock secs ( 1.27 usr  0.29 sys +  7.98 cusr  0.57 csys = 10.11 CPU)
Result: PASS

------------------------------
PREREQUISITES
------------------------------

Prerequisite modules loaded:

requires:

    Module              Need     Have    
    ------------------- -------- --------
    Carp                1.22     1.54    
    Math::Complex       1.36     1.62    
    perl                5.006001 5.040001
    Scalar::Util        0        1.69    

build_requires:

    Module              Need     Have    
    ------------------- -------- --------
    Test::More          0.94     1.302210

configure_requires:

    Module              Need     Have    
    ------------------- -------- --------
    ExtUtils::MakeMaker 6.58     7.74    


------------------------------
ENVIRONMENT AND OTHER CONTEXT
------------------------------

Environment variables:

    LC_CTYPE = UTF-8
    PATH = /Users/gintas/Projects/perl5/bin:/usr/local/bin:/System/Cryptexes/App/usr/bin:/usr/bin:/bin:/usr/sbin:/sbin:/var/run/com.apple.security.cryptexd/codex.system/bootstrap/usr/local/bin:/var/run/com.apple.security.cryptexd/codex.system/bootstrap/usr/bin:/var/run/com.apple.security.cryptexd/codex.system/bootstrap/usr/appleinternal/bin:/opt/X11/bin:/Library/Apple/usr/bin:/usr/local/MacGPG2/bin
    PERL5LIB = /Users/gintas/Projects/perl5/lib/perl5
    PERL5OPT = 
    PERL5_CPANPLUS_IS_RUNNING = 86181
    PERL5_CPAN_IS_RUNNING = 86181
    PERL_LOCAL_LIB_ROOT = /Users/gintas/Projects/perl5
    PERL_MB_OPT = --install_base "/Users/gintas/Projects/perl5"
    PERL_MM_OPT = INSTALL_BASE=/Users/gintas/Projects/perl5
    PERL_USE_UNSAFE_INC = 1
    SHELL = /bin/bash
    TERM = xterm-256color
    TMPDIR = /var/folders/7j/gsygg6dj3yg5vj5ph2nk1x880000gn/T/

Perl special variables (and OS-specific diagnostics, for MSWin32):

    $^X = /usr/local/Cellar/perl/5.40.1/bin/perl
    $UID/$EUID = 501 / 501
    $GID = 20 20 12 61 79 80 81 98 33 100 204 250 395 398 399 400
    $EGID = 20 20 12 61 79 80 81 98 33 100 204 250 395 398 399 400

Perl module toolchain versions installed:

    Module              Have    
    ------------------- --------
    CPAN                2.38    
    CPAN::Meta          2.150010
    Cwd                 3.91    
    ExtUtils::CBuilder  0.280236
    ExtUtils::Command   7.74    
    ExtUtils::Install   2.22    
    ExtUtils::MakeMaker 7.74    
    ExtUtils::Manifest  1.75    
    ExtUtils::ParseXS   3.51    
    File::Spec          3.91    
    JSON                4.10    
    JSON::PP            4.16    
    Module::Build       0.4234  
    Module::Signature   0.89    
    Parse::CPAN::Meta   2.150010
    Test2               1.302210
    Test::Harness       3.50    
    Test::More          1.302210
    YAML                1.31    
    YAML::Syck          1.34    
    version             0.9933  


--

Summary of my perl5 (revision 5 version 40 subversion 1) configuration:
   
  Platform:
    osname=darwin
    osvers=21.6.0
    archname=darwin-thread-multi-2level
    uname='darwin binfe-macbook-pro.local 21.6.0 darwin kernel version 21.6.0: mon jun 24 00:56:10 pdt 2024; root:xnu-8020.240.18.709.2~1release_x86_64 x86_64 '
    config_args='-des -Dinstallstyle=lib/perl5 -Dinstallprefix=/usr/local/Cellar/perl/5.40.1 -Dprefix=/usr/local/opt/perl -Dprivlib=/usr/local/opt/perl/lib/perl5/5.40 -Dsitelib=/usr/local/opt/perl/lib/perl5/site_perl/5.40 -Dotherlibdirs=/usr/local/lib/perl5/site_perl/5.40 -Dperlpath=/usr/local/opt/perl/bin/perl -Dstartperl=#!/usr/local/opt/perl/bin/perl -Dman1dir=/usr/local/opt/perl/share/man/man1 -Dman3dir=/usr/local/opt/perl/share/man/man3 -Duseshrplib -Duselargefiles -Dusethreads'
    hint=recommended
    useposix=true
    d_sigaction=define
    useithreads=define
    usemultiplicity=define
    use64bitint=define
    use64bitall=define
    uselongdouble=undef
    usemymalloc=n
    default_inc_excludes_dot=define
  Compiler:
    cc='cc'
    ccflags ='-fno-common -DPERL_DARWIN -mmacosx-version-min=12.7 -DNO_THREAD_SAFE_QUERYLOCALE -DNO_POSIX_2008_LOCALE -fno-strict-aliasing -pipe -fstack-protector-strong -I/usr/local/include'
    optimize='-O3'
    cppflags='-fno-common -DPERL_DARWIN -mmacosx-version-min=12.7 -DNO_THREAD_SAFE_QUERYLOCALE -DNO_POSIX_2008_LOCALE -fno-strict-aliasing -pipe -fstack-protector-strong -I/usr/local/include'
    ccversion=''
    gccversion='Apple LLVM 14.0.0 (clang-1400.0.29.202)'
    gccosandvers=''
    intsize=4
    longsize=8
    ptrsize=8
    doublesize=8
    byteorder=12345678
    doublekind=3
    d_longlong=define
    longlongsize=8
    d_longdbl=define
    longdblsize=16
    longdblkind=3
    ivtype='long'
    ivsize=8
    nvtype='double'
    nvsize=8
    Off_t='off_t'
    lseeksize=8
    alignbytes=8
    prototype=define
  Linker and Libraries:
    ld='cc'
    ldflags =' -mmacosx-version-min=12.7 -fstack-protector-strong -L/usr/local/lib'
    libpth=/usr/local/opt/berkeley-db@5/lib /usr/local/lib /Applications/Xcode.app/Contents/Developer/Toolchains/XcodeDefault.xctoolchain/usr/lib/clang/14.0.0/lib /Library/Developer/CommandLineTools/SDKs/MacOSX12.sdk/usr/lib /Applications/Xcode.app/Contents/Developer/Toolchains/XcodeDefault.xctoolchain/usr/lib /usr/lib
    libs=-lgdbm -ldbm
    perllibs=
    libc=
    so=dylib
    useshrplib=true
    libperl=libperl.dylib
    gnulibc_version=''
  Dynamic Linking:
    dlsrc=dl_dlopen.xs
    dlext=bundle
    d_dlsymun=undef
    ccdlflags=' '
    cccdlflags=' '
    lddlflags=' -mmacosx-version-min=12.7 -bundle -undefined dynamic_lookup -L/usr/local/lib -fstack-protector-strong'


Characteristics of this binary (from libperl): 
  Compile-time options:
    HAS_LONG_DOUBLE
    HAS_STRTOLD
    HAS_TIMES
    MULTIPLICITY
    PERLIO_LAYERS
    PERL_COPY_ON_WRITE
    PERL_DONT_CREATE_GVSV
    PERL_HASH_FUNC_SIPHASH13
    PERL_HASH_USE_SBOX32
    PERL_MALLOC_WRAP
    PERL_OP_PARENT
    PERL_PRESERVE_IVUV
    PERL_USE_SAFE_PUTENV
    USE_64_BIT_ALL
    USE_64_BIT_INT
    USE_ITHREADS
    USE_LARGE_FILES
    USE_LOCALE
    USE_LOCALE_COLLATE
    USE_LOCALE_CTYPE
    USE_LOCALE_NUMERIC
    USE_LOCALE_TIME
    USE_PERLIO
    USE_PERL_ATOF
    USE_REENTRANT_API
  Built under darwin
  Compiled at Jan 23 2025 00:42:22
  %ENV:
    PERL5LIB="/Users/gintas/Projects/perl5/lib/perl5"
    PERL5OPT=""
    PERL5_CPANPLUS_IS_RUNNING="86181"
    PERL5_CPAN_IS_RUNNING="86181"
    PERL_LOCAL_LIB_ROOT="/Users/gintas/Projects/perl5"
    PERL_MB_OPT="--install_base "/Users/gintas/Projects/perl5""
    PERL_MM_OPT="INSTALL_BASE=/Users/gintas/Projects/perl5"
    PERL_USE_UNSAFE_INC="1"
  @INC:
    /Users/gintas/Projects/perl5/lib/perl5/5.40.1/darwin-thread-multi-2level
    /Users/gintas/Projects/perl5/lib/perl5/5.40.1
    /Users/gintas/Projects/perl5/lib/perl5/darwin-thread-multi-2level
    /Users/gintas/Projects/perl5/lib/perl5
    /usr/local/opt/perl/lib/perl5/site_perl/5.40/darwin-thread-multi-2level
    /usr/local/opt/perl/lib/perl5/site_perl/5.40
    /usr/local/opt/perl/lib/perl5/5.40/darwin-thread-multi-2level
    /usr/local/opt/perl/lib/perl5/5.40
    /usr/local/lib/perl5/site_perl/5.40
    .