File-PathInfo-Ext v1.30 Perl 5 v5.41.4 x86_64-linux-ld
- Status
- Pass
- From
- Andreas J. König (ANDK)
- Dist
-
File-PathInfo-Ext v1.30
- Platform
- Perl 5 v5.41.4 x86_64-linux-ld
- Date
- 2024-10-11 09:10:07
- ID
- 9c0ebefe-87b0-11ef-a06f-d1ce8b1e64cf
This distribution has been tested as part of the CPAN Testers
project, supporting the Perl programming language. See
http://wiki.cpantesters.org/ for more information or email
questions to cpan-testers-discuss@perl.org
--
Dear Leo Charre,
This is a computer-generated report for File-PathInfo-Ext-1.30
on perl 5.41.4, created by CPAN-Reporter-1.2020.
Thank you for uploading your work to CPAN. Congratulations!
All tests were successful.
Sections of this report:
* Tester comments
* Program output
* Prerequisites
* Environment and other context
------------------------------
TESTER COMMENTS
------------------------------
Additional comments from tester:
this report is from an automated smoke testing program
and was not reviewed by a human for accuracy
------------------------------
PROGRAM OUTPUT
------------------------------
Output from '/usr/bin/make test':
PERL_DL_NONLAZY=1 "/tmp/basesmoker-reloperl-hby_/bin/perl" "-MExtUtils::Command::MM" "-MTest::Harness" "-e" "undef *Test::Harness::Switches; test_harness(0, 'blib/lib', 'blib/arch')" t/*.t
Possible precedence issue with control flow operator (return) at lib/File/PathInfo/Ext.pm line 146.
===================
PART [1], ./T/PUBLIC_HTML/DEMO
stat key 'ctime' = '1728637775'
stat key 'mtime' = '1259076971'
stat key 'nlink' = '2'
stat key 'size' = '4096'
stat key 'blocks' = '8'
stat key 'atime_pretty' = '2024/10/11 09:09'
stat key 'mtime_pretty' = '2009/11/24 15:36'
stat key 'ctime_pretty' = '2024/10/11 09:09'
stat key 'ino' = '1883093'
===================
PART [2], ./T/PUBLIC_HTML/SEVEN.PDF
stat key 'ctime' = '1728637775'
stat key 'mtime' = '1179497048'
stat key 'nlink' = '1'
stat key 'size' = '769239'
stat key 'blocks' = '1504'
stat key 'atime_pretty' = '2024/10/11 09:09'
stat key 'mtime_pretty' = '2007/05/18 14:04'
stat key 'ctime_pretty' = '2024/10/11 09:09'
stat key 'ino' = '1621265'
===================
PART [3], DEMO
stat key 'ctime' = '1728637775'
stat key 'mtime' = '1259076971'
stat key 'nlink' = '2'
stat key 'size' = '4096'
stat key 'blocks' = '8'
stat key 'atime_pretty' = '2024/10/11 09:09'
stat key 'mtime_pretty' = '2009/11/24 15:36'
stat key 'ctime_pretty' = '2024/10/11 09:09'
stat key 'ino' = '1883093'
===================
PART [4], ./T/PUBLIC_HTML/DEMO/HELLOKITTY.GIF
stat key 'ctime' = '1728637775'
stat key 'mtime' = '1174604434'
stat key 'nlink' = '1'
stat key 'size' = '4099'
stat key 'blocks' = '16'
stat key 'atime_pretty' = '2024/10/11 09:09'
stat key 'mtime_pretty' = '2007/03/22 23:00'
stat key 'ctime_pretty' = '2024/10/11 09:09'
stat key 'ino' = '1883094'
===================
PART [5], ./T/PUBLIC_HTML/DEMO/../DEMO/CIVIL.TXT
stat key 'ctime' = '1728637775'
stat key 'mtime' = '1174604434'
stat key 'nlink' = '1'
stat key 'size' = '51460'
stat key 'blocks' = '104'
stat key 'atime_pretty' = '2024/10/11 09:09'
stat key 'mtime_pretty' = '2007/03/22 23:00'
stat key 'ctime_pretty' = '2024/10/11 09:09'
stat key 'ino' = '1883095'
===================
PART [6], DEMO/../DEMO/CIVIL.TXT
stat key 'ctime' = '1728637775'
stat key 'mtime' = '1174604434'
stat key 'nlink' = '1'
stat key 'size' = '51460'
stat key 'blocks' = '104'
stat key 'atime_pretty' = '2024/10/11 09:09'
stat key 'mtime_pretty' = '2007/03/22 23:00'
stat key 'ctime_pretty' = '2024/10/11 09:09'
stat key 'ino' = '1883095'
===================
PART [7], DEMO/CIVIL.TXT
stat key 'ctime' = '1728637775'
stat key 'mtime' = '1174604434'
stat key 'nlink' = '1'
stat key 'size' = '51460'
stat key 'blocks' = '104'
stat key 'atime_pretty' = '2024/10/11 09:09'
stat key 'mtime_pretty' = '2007/03/22 23:00'
stat key 'ctime_pretty' = '2024/10/11 09:09'
stat key 'ino' = '1883095'
t/0.t ................. ok
Possible precedence issue with control flow operator (return) at lib/File/PathInfo/Ext.pm line 146.
newname cannot contain slashes at lib/File/PathInfo/Ext.pm line 16.
File::PathInfo::Ext::rename(File::PathInfo::Ext=HASH(0x65163ce306e0), "awe/gfaw/egawg/\\pou*()^T)(T3wt//n23") called at t/1.t line 21
ls for [/tmp/loop_over_bdir-3329043-FNZxoi/File-PathInfo-Ext-1.30-0]
ls for [/tmp/loop_over_bdir-3329043-FNZxoi/File-PathInfo-Ext-1.30-0/tmp2]
ls for [/tmp/loop_over_bdir-3329043-FNZxoi/File-PathInfo-Ext-1.30-0/tmp2]
t/1.t ................. ok
Possible precedence issue with control flow operator (return) at lib/File/PathInfo/Ext.pm line 146.
SET 2
# on move newloc is : /tmp/loop_over_bdir-3329043-FNZxoi/File-PathInfo-Ext-1.30-0/t/public_html/timp/incoming/movedme.txt
Can't move to '/tmp/loop_over_bdir-3329043-FNZxoi/File-PathInfo-Ext-1.30-0/t/public_html/timp/movedme.txt', destination already exists at lib/File/PathInfo/Ext.pm line 136.
File::PathInfo::Ext::move(File::PathInfo::Ext=HASH(0x6104f10d58a8), "/tmp/loop_over_bdir-3329043-FNZxoi/File-PathInfo-Ext-1.30-0/t"...) called at t/2_move.t line 92
t/2_move.t ............ ok
Possible precedence issue with control flow operator (return) at lib/File/PathInfo/Ext.pm line 146.
Can't move '/tmp/loop_over_bdir-3329043-FNZxoi/File-PathInfo-Ext-1.30-0/t/f1' to '/tmp/loop_over_bdir-3329043-FNZxoi/File-PathInfo-Ext-1.30-0/t/f2', already exists. at lib/File/PathInfo/Ext.pm line 152.
File::PathInfo::Ext::move(File::PathInfo::Ext=HASH(0x62479249d5d0), "/tmp/loop_over_bdir-3329043-FNZxoi/File-PathInfo-Ext-1.30-0/t/f2") called at lib/File/PathInfo/Ext.pm line 17
File::PathInfo::Ext::rename(File::PathInfo::Ext=HASH(0x62479249d5d0), "f2") called at t/3.t line 21
t/3.t ................. ok
Possible precedence issue with control flow operator (return) at lib/File/PathInfo/Ext.pm line 146.
### $val: undef
### $val: 'this is'
### $val: 'this is a val for errstr'
--------------
----
--------------
----
### $val: '/tmp/loop_over_bdir-3329043-FNZxoi/File-PathInfo-Ext-1.30-0/t/tmp/dir/file.txt'
--------------others
----
arg './file.txt' = [/tmp/loop_over_bdir-3329043-FNZxoi/File-PathInfo-Ext-1.30-0/file.txt]
err?
arg './' = [NO RESULT]
err? Can't set destination to '/tmp/loop_over_bdir-3329043-FNZxoi/File-PathInfo-Ext-1.30-0', already exists.
arg '.' = [NO RESULT]
err? Can't resolve arg ..
arg './../file.txt' = [/tmp/loop_over_bdir-3329043-FNZxoi/file.txt]
err?
arg './../bogus/thing' = [NO RESULT]
err? Can't resolve arg ../bogus/thing
arg './t/tmp/bogusdir/' = [NO RESULT]
err? Can't resolve arg t/tmp/bogusdir/
t/4_resolve_arg_to.t .. ok
Possible precedence issue with control flow operator (return) at lib/File/PathInfo/Ext.pm line 146.
# NOW try to dirs
### $r: '/tmp/loop_over_bdir-3329043-FNZxoi/File-PathInfo-Ext-1.30-0/t/tmp/dir/filealso.txt'
t/5_copy.t ............ ok
t/99_cleanup.t ........ ok
All tests successful.
Files=7, Tests=204, 1 wallclock secs ( 0.04 usr 0.02 sys + 0.50 cusr 0.14 csys = 0.70 CPU)
Result: PASS
------------------------------
PREREQUISITES
------------------------------
Prerequisite modules loaded:
requires:
Module Need Have
------------------- ---- --------
Carp 1 1.54
Cwd 3 3.92
Digest::MD5 2 2.58_01
File::Copy 2 2.41
File::Path 1 2.18
File::PathInfo 1.27 1.27
File::Type 0 0.22
Test::Simple 0 1.302204
YAML 0 1.31
build_requires:
Module Need Have
------------------- ---- --------
ExtUtils::MakeMaker 0 7.70
configure_requires:
Module Need Have
------------------- ---- --------
ExtUtils::MakeMaker 0 7.70
------------------------------
ENVIRONMENT AND OTHER CONTEXT
------------------------------
Environment variables:
AUTOMATED_TESTING = 1
LANG = en_US.UTF-8
LC_ADDRESS = de_DE.UTF-8
LC_IDENTIFICATION = de_DE.UTF-8
LC_MEASUREMENT = de_DE.UTF-8
LC_MONETARY = de_DE.UTF-8
LC_NAME = de_DE.UTF-8
LC_NUMERIC = de_DE.UTF-8
LC_PAPER = de_DE.UTF-8
LC_TELEPHONE = de_DE.UTF-8
LC_TIME = de_DE.UTF-8
PATH = /home/sand/bin:/usr/local/bin:/usr/local/sbin:/usr/sbin:/usr/bin:/sbin:/bin:/usr/games:/usr/local/games:/snap/bin:/usr/local/perl/bin:/usr/X11/bin
PERL = /tmp/basesmoker-reloperl-hby_/bin/perl
PERL5LIB = /tmp/loop_over_bdir-3329043-FNZxoi/App-oo_modulino_zsh_completion_helper-0.04-0/blib/arch:/tmp/loop_over_bdir-3329043-FNZxoi/App-oo_modulino_zsh_completion_helper-0.04-0/blib/lib
PERL5OPT =
PERL5_CPANPLUS_IS_RUNNING = 3329051
PERL5_CPAN_IS_RUNNING = 3329051
PERL_CANARY_STABILITY_NOPROMPT = 1
PERL_MM_USE_DEFAULT = 1
PERL_USE_UNSAFE_INC = 1
SHELL = /usr/bin/zsh
TERM = screen
Perl special variables (and OS-specific diagnostics, for MSWin32):
$^X = /tmp/basesmoker-reloperl-hby_/bin/perl
$UID/$EUID = 1005 / 1005
$GID = 1005 1005
$EGID = 1005 1005
Perl module toolchain versions installed:
Module Have
------------------- --------
CPAN 2.37
CPAN::Meta 2.150010
Cwd 3.92
ExtUtils::CBuilder 0.280240
ExtUtils::Command 7.70
ExtUtils::Install 2.22
ExtUtils::MakeMaker 7.70
ExtUtils::Manifest 1.75
ExtUtils::ParseXS 3.54
File::Spec 3.93
JSON 4.10
JSON::PP 4.16
Module::Build 0.4234
Module::Signature 0.89
Parse::CPAN::Meta 2.150010
Test2 1.302204
Test::Harness 3.50
Test::More 1.302204
YAML 1.31
YAML::Syck 1.34
version 0.9933
--
Summary of my perl5 (revision 5 version 41 subversion 4) configuration:
Commit id: 87deea969a7552a96b077acb5708d74c65099c51
Platform:
osname=linux
osvers=6.8.0-40-generic
archname=x86_64-linux-ld
uname='linux k93jammy 6.8.0-40-generic #40~22.04.3-ubuntu smp preempt_dynamic tue jul 30 17:30:19 utc 2 x86_64 x86_64 x86_64 gnulinux '
config_args='-Dprefix=/home/sand/src/perl/repoperls/installed-perls/host/k93jammy/v5.41.4/5674 -Dmyhostname=k93jammy -Dinstallusrbinperl=n -Uversiononly -Dusedevel -des -Ui_db -Dlibswanted=cl pthread socket inet nsl gdbm dbm malloc dl ld sun m crypt sec util c cposix posix ucb BSD gdbm_compat -Uuseithreads -Duselongdouble -DEBUGGING=-g'
hint=recommended
useposix=true
d_sigaction=define
useithreads=undef
usemultiplicity=undef
use64bitint=define
use64bitall=define
uselongdouble=define
usemymalloc=n
default_inc_excludes_dot=define
Compiler:
cc='cc'
ccflags ='-fwrapv -fno-strict-aliasing -pipe -fstack-protector-strong -I/usr/local/include -D_LARGEFILE_SOURCE -D_FILE_OFFSET_BITS=64'
optimize='-O2 -g'
cppflags='-fwrapv -fno-strict-aliasing -pipe -fstack-protector-strong -I/usr/local/include'
ccversion=''
gccversion='11.4.0'
gccosandvers=''
intsize=4
longsize=8
ptrsize=8
doublesize=8
byteorder=12345678
doublekind=3
d_longlong=define
longlongsize=8
d_longdbl=define
longdblsize=16
longdblkind=3
ivtype='long'
ivsize=8
nvtype='long double'
nvsize=16
Off_t='off_t'
lseeksize=8
alignbytes=16
prototype=define
Linker and Libraries:
ld='cc'
ldflags =' -fstack-protector-strong -L/usr/local/lib'
libpth=/usr/local/lib /usr/lib/x86_64-linux-gnu /usr/lib /usr/lib64
libs=-lpthread -lnsl -ldl -lm -lcrypt -lutil -lc
perllibs=-lpthread -lnsl -ldl -lm -lcrypt -lutil -lc
libc=/lib/x86_64-linux-gnu/libc.so.6
so=so
useshrplib=false
libperl=libperl.a
gnulibc_version='2.35'
Dynamic Linking:
dlsrc=dl_dlopen.xs
dlext=so
d_dlsymun=undef
ccdlflags='-Wl,-E'
cccdlflags='-fPIC'
lddlflags='-shared -O2 -g -L/usr/local/lib -fstack-protector-strong'
Characteristics of this binary (from libperl):
Compile-time options:
HAS_LONG_DOUBLE
HAS_STRTOLD
HAS_TIMES
PERLIO_LAYERS
PERL_COPY_ON_WRITE
PERL_DONT_CREATE_GVSV
PERL_HASH_FUNC_SIPHASH13
PERL_HASH_USE_SBOX32
PERL_MALLOC_WRAP
PERL_OP_PARENT
PERL_PRESERVE_IVUV
PERL_USE_DEVEL
PERL_USE_SAFE_PUTENV
USE_64_BIT_ALL
USE_64_BIT_INT
USE_LARGE_FILES
USE_LOCALE
USE_LOCALE_COLLATE
USE_LOCALE_CTYPE
USE_LOCALE_NUMERIC
USE_LOCALE_TIME
USE_LONG_DOUBLE
USE_PERLIO
USE_PERL_ATOF
Built under linux
Compiled at Sep 21 2024 07:13:55
%ENV:
PERL="/tmp/basesmoker-reloperl-hby_/bin/perl"
PERL5LIB="/tmp/loop_over_bdir-3329043-FNZxoi/App-oo_modulino_zsh_completion_helper-0.04-0/blib/arch:/tmp/loop_over_bdir-3329043-FNZxoi/App-oo_modulino_zsh_completion_helper-0.04-0/blib/lib"
PERL5OPT=""
PERL5_CPANPLUS_IS_RUNNING="3329051"
PERL5_CPAN_IS_RUNNING="3329051"
PERL_CANARY_STABILITY_NOPROMPT="1"
PERL_MM_USE_DEFAULT="1"
PERL_USE_UNSAFE_INC="1"
@INC:
/tmp/loop_over_bdir-3329043-FNZxoi/App-oo_modulino_zsh_completion_helper-0.04-0/blib/arch
/tmp/loop_over_bdir-3329043-FNZxoi/App-oo_modulino_zsh_completion_helper-0.04-0/blib/lib
/home/sand/src/perl/repoperls/installed-perls/host/k93jammy/v5.41.4/5674/lib/site_perl/5.41.4/x86_64-linux-ld
/home/sand/src/perl/repoperls/installed-perls/host/k93jammy/v5.41.4/5674/lib/site_perl/5.41.4
/home/sand/src/perl/repoperls/installed-perls/host/k93jammy/v5.41.4/5674/lib/5.41.4/x86_64-linux-ld
/home/sand/src/perl/repoperls/installed-perls/host/k93jammy/v5.41.4/5674/lib/5.41.4
.