DateTime-Format-Strptime v1.76 Perl 5 v5.31.3 darwin-2level
- Status
- Pass
- From
- Carlos Guevara
- Dist
-
DateTime-Format-Strptime v1.76
- Platform
- Perl 5 v5.31.3 darwin-2level
- Date
- 2019-07-21 19:56:20
- ID
- 9c1df02c-abf1-11e9-b0cf-32e2488dc203
This distribution has been tested as part of the CPAN Testers
project, supporting the Perl programming language. See
http://wiki.cpantesters.org/ for more information or email
questions to cpan-testers-discuss@perl.org
--
Dear Dave Rolsky,
This is a computer-generated report for DateTime-Format-Strptime-1.76
on perl 5.31.3, created by CPAN-Reporter-1.2018.
Thank you for uploading your work to CPAN. Congratulations!
All tests were successful.
Sections of this report:
* Tester comments
* Program output
* Prerequisites
* Environment and other context
------------------------------
TESTER COMMENTS
------------------------------
Additional comments from tester:
none provided
------------------------------
PROGRAM OUTPUT
------------------------------
Output from '/usr/bin/make test':
PERL_DL_NONLAZY=1 "/Users/cpan/bin/perl-blead/bin/perl5.31.3" "-MExtUtils::Command::MM" "-MTest::Harness" "-e" "undef *Test::Harness::Switches; test_harness(0, 'blib/lib', 'blib/arch')" t/*.t
#
# Versions for all modules listed in MYMETA.json (including optional ones):
#
# === Configure Requires ===
#
# Module Want Have
# ------------------- ---- ----
# ExtUtils::MakeMaker any 7.36
#
# === Configure Suggests ===
#
# Module Want Have
# -------- ------- ----
# JSON::PP 2.27300 4.04
#
# === Build Requires ===
#
# Module Want Have
# ------------------- ---- ----
# ExtUtils::MakeMaker any 7.36
#
# === Test Requires ===
#
# Module Want Have
# ------------------- ---- --------
# ExtUtils::MakeMaker any 7.36
# File::Spec any 3.78
# Test::Builder any 1.302164
# Test::Fatal any 0.014
# Test::More 0.96 1.302164
# Test::Warnings any 0.026
# lib any 0.65
# utf8 any 1.22
#
# === Test Recommends ===
#
# Module Want Have
# ---------- -------- --------
# CPAN::Meta 2.120900 2.150010
#
# === Runtime Requires ===
#
# Module Want Have
# -------------------------- ---- -----
# Carp any 1.50
# DateTime 1.00 1.51
# DateTime::Locale 1.23 1.24
# DateTime::Locale::Base any 1.24
# DateTime::Locale::FromData any 1.24
# DateTime::TimeZone 2.09 2.36
# Exporter any 5.74
# Params::ValidationCompiler any 0.30
# Specio 0.33 0.43
# Specio::Declare any 0.43
# Specio::Exporter any 0.43
# Specio::Library::Builtins any 0.43
# Specio::Library::String any 0.43
# Try::Tiny any 0.30
# constant any 1.33
# parent any 0.237
# strict any 1.11
# warnings any 1.45
#
t/00-report-prereqs.t ... ok
t/basic.t ............... ok
Subroutine olson_version redefined at /Users/cpan/bin/perl-blead/lib/site_perl/5.31.3/DateTime/TimeZone/america/new_york.pm line 2062, <DATA> line 1.
Subroutine has_dst_changes redefined at /Users/cpan/bin/perl-blead/lib/site_perl/5.31.3/DateTime/TimeZone/america/new_york.pm line 2064, <DATA> line 1.
Subroutine _max_year redefined at /Users/cpan/bin/perl-blead/lib/site_perl/5.31.3/DateTime/TimeZone/america/new_york.pm line 2066, <DATA> line 1.
Subroutine _new_instance redefined at /Users/cpan/bin/perl-blead/lib/site_perl/5.31.3/DateTime/TimeZone/america/new_york.pm line 2068, <DATA> line 1.
Subroutine _last_offset redefined at /Users/cpan/bin/perl-blead/lib/site_perl/5.31.3/DateTime/TimeZone/america/new_york.pm line 2072, <DATA> line 1.
Subroutine _last_observance redefined at /Users/cpan/bin/perl-blead/lib/site_perl/5.31.3/DateTime/TimeZone/america/new_york.pm line 2110, <DATA> line 1.
Subroutine _rules redefined at /Users/cpan/bin/perl-blead/lib/site_perl/5.31.3/DateTime/TimeZone/america/new_york.pm line 2137, <DATA> line 1.
Subroutine olson_version redefined at /Users/cpan/bin/perl-blead/lib/site_perl/5.31.3/DateTime/TimeZone/amERicA/new_YORK.pm line 2062, <DATA> line 1.
Subroutine has_dst_changes redefined at /Users/cpan/bin/perl-blead/lib/site_perl/5.31.3/DateTime/TimeZone/amERicA/new_YORK.pm line 2064, <DATA> line 1.
Subroutine _max_year redefined at /Users/cpan/bin/perl-blead/lib/site_perl/5.31.3/DateTime/TimeZone/amERicA/new_YORK.pm line 2066, <DATA> line 1.
Subroutine _new_instance redefined at /Users/cpan/bin/perl-blead/lib/site_perl/5.31.3/DateTime/TimeZone/amERicA/new_YORK.pm line 2068, <DATA> line 1.
Subroutine _last_offset redefined at /Users/cpan/bin/perl-blead/lib/site_perl/5.31.3/DateTime/TimeZone/amERicA/new_YORK.pm line 2072, <DATA> line 1.
Subroutine _last_observance redefined at /Users/cpan/bin/perl-blead/lib/site_perl/5.31.3/DateTime/TimeZone/amERicA/new_YORK.pm line 2110, <DATA> line 1.
Subroutine _rules redefined at /Users/cpan/bin/perl-blead/lib/site_perl/5.31.3/DateTime/TimeZone/amERicA/new_YORK.pm line 2137, <DATA> line 1.
t/edge.t ................ ok
t/errors.t .............. ok
t/format-datetime.t ..... ok
t/format-with-locale.t .. ok
t/import.t .............. ok
t/locale-de.t ........... ok
t/locale-en.t ........... ok
t/locale-ga.t ........... ok
t/locale-pt.t ........... ok
t/locale-zh.t ........... ok
t/zones.t ............... ok
All tests successful.
Files=13, Tests=142, 5 wallclock secs ( 0.17 usr 0.05 sys + 3.54 cusr 0.32 csys = 4.08 CPU)
Result: PASS
------------------------------
PREREQUISITES
------------------------------
Prerequisite modules loaded:
requires:
Module Need Have
-------------------------- ---- --------
Carp 0 1.50
constant 0 1.33
DateTime 1.00 1.51
DateTime::Locale 1.23 1.24
DateTime::Locale::Base 0 1.24
DateTime::Locale::FromData 0 1.24
DateTime::TimeZone 2.09 2.36
Exporter 0 5.74
Params::ValidationCompiler 0 0.30
parent 0 0.237
Specio 0.33 0.43
Specio::Declare 0 0.43
Specio::Exporter 0 0.43
Specio::Library::Builtins 0 0.43
Specio::Library::String 0 0.43
strict 0 1.11
Try::Tiny 0 0.30
warnings 0 1.45
build_requires:
Module Need Have
-------------------------- ---- --------
ExtUtils::MakeMaker 0 7.36
File::Spec 0 3.78
lib 0 0.65
Test::Builder 0 1.302164
Test::Fatal 0 0.014
Test::More 0.96 1.302164
Test::Warnings 0 0.026
utf8 0 1.22
configure_requires:
Module Need Have
-------------------------- ---- --------
ExtUtils::MakeMaker 0 7.36
------------------------------
ENVIRONMENT AND OTHER CONTEXT
------------------------------
Environment variables:
LC_ALL = C
NONINTERACTIVE_TESTING = 1
PATH = /Users/cpan/bin/perl-blead/bin:/Users/cpan/bin:/Users/cpan/bin/perl-blead/bin:/Users/cpan/bin:/usr/local/bin:/usr/bin:/bin:/usr/sbin:/sbin
PERL5LIB =
PERL5OPT =
PERL5_CPANPLUS_IS_RUNNING = 88424
PERL5_CPAN_IS_RUNNING = 88424
PERL_MM_USE_DEFAULT = 1
PERL_USE_UNSAFE_INC = 1
PERL_VERSION = blead
SHELL = /bin/bash
TERM = screen
TMPDIR = /Users/cpan/tmp
Perl special variables (and OS-specific diagnostics, for MSWin32):
$^X = /Users/cpan/bin/perl-blead/bin/perl5.31.3
$UID/$EUID = 503 / 503
$GID = 20 20 12 61 399 701 702 703 100
$EGID = 20 20 12 61 399 701 702 703 100
Perl module toolchain versions installed:
Module Have
------------------- --------
CPAN 2.27
CPAN::Meta 2.150010
Cwd 3.78
ExtUtils::CBuilder 0.280232
ExtUtils::Command 7.36
ExtUtils::Install 2.14
ExtUtils::MakeMaker 7.36
ExtUtils::Manifest 1.72
ExtUtils::ParseXS 3.40
File::Spec 3.78
JSON 4.02
JSON::PP 4.04
Module::Build 0.4229
Module::Signature n/a
Parse::CPAN::Meta 2.150010
Test::Harness 3.42
Test::More 1.302164
YAML 1.29
YAML::Syck n/a
version 0.9924
--
Summary of my perl5 (revision 5 version 31 subversion 3) configuration:
Commit id: 0f4e030a2e899b7cf67d8cdcd183fa292f60e1f2
Platform:
osname=darwin
osvers=18.6.0
archname=darwin-2level
uname='darwin cjg-mac.local 18.6.0 darwin kernel version 18.6.0: thu apr 25 23:16:27 pdt 2019; root:xnu-4903.261.4~2release_x86_64 x86_64 '
config_args='-des -Dprefix=~/bin/perl-blead -Dscriptdir=~/bin/perl-blead/bin -Dusedevel -Duse64bitall'
hint=recommended
useposix=true
d_sigaction=define
useithreads=undef
usemultiplicity=undef
use64bitint=define
use64bitall=define
uselongdouble=undef
usemymalloc=n
default_inc_excludes_dot=define
bincompat5005=undef
Compiler:
cc='cc'
ccflags ='-fno-common -DPERL_DARWIN -mmacosx-version-min=10.14 -arch x86_64 -fno-strict-aliasing -pipe -fstack-protector-strong -I/usr/local/include -DPERL_USE_SAFE_PUTENV'
optimize='-O3'
cppflags='-arch x86_64 -fno-common -DPERL_DARWIN -mmacosx-version-min=10.14 -arch x86_64 -fno-strict-aliasing -pipe -fstack-protector-strong -I/usr/local/include'
ccversion=''
gccversion='4.2.1 Compatible Apple LLVM 10.0.1 (clang-1001.0.46.4)'
gccosandvers=''
intsize=4
longsize=8
ptrsize=8
doublesize=8
byteorder=12345678
doublekind=3
d_longlong=define
longlongsize=8
d_longdbl=define
longdblsize=16
longdblkind=3
ivtype='long'
ivsize=8
nvtype='double'
nvsize=8
Off_t='off_t'
lseeksize=8
alignbytes=8
prototype=define
Linker and Libraries:
ld='cc -arch x86_64'
ldflags =' -mmacosx-version-min=10.14 -arch x86_64 -fstack-protector-strong -L/usr/local/lib'
libpth=/usr/local/lib /Applications/Xcode.app/Contents/Developer/Toolchains/XcodeDefault.xctoolchain/usr/lib/clang/10.0.1/lib /Applications/Xcode.app/Contents/Developer/Toolchains/XcodeDefault.xctoolchain/usr/lib /Applications/Xcode.app/Contents/Developer/Platforms/MacOSX.platform/Developer/SDKs/MacOSX10.14.sdk/usr/lib /usr/lib
libs=-lpthread -ldbm -ldl -lm -lutil -lc
perllibs=-lpthread -ldl -lm -lutil -lc
libc=
so=dylib
useshrplib=false
libperl=libperl.a
gnulibc_version=''
Dynamic Linking:
dlsrc=dl_dlopen.xs
dlext=bundle
d_dlsymun=undef
ccdlflags=' '
cccdlflags=' '
lddlflags=' -mmacosx-version-min=10.14 -bundle -undefined dynamic_lookup -L/usr/local/lib -fstack-protector-strong'
Characteristics of this binary (from libperl):
Compile-time options:
HAS_TIMES
PERLIO_LAYERS
PERL_COPY_ON_WRITE
PERL_DONT_CREATE_GVSV
PERL_MALLOC_WRAP
PERL_OP_PARENT
PERL_PRESERVE_IVUV
PERL_USE_DEVEL
PERL_USE_SAFE_PUTENV
USE_64_BIT_ALL
USE_64_BIT_INT
USE_LARGE_FILES
USE_LOCALE
USE_LOCALE_COLLATE
USE_LOCALE_CTYPE
USE_LOCALE_NUMERIC
USE_LOCALE_TIME
USE_PERLIO
USE_PERL_ATOF
Built under darwin
Compiled at Jul 21 2019 12:42:57
%ENV:
PERL5LIB=""
PERL5OPT=""
PERL5_CPANPLUS_IS_RUNNING="88424"
PERL5_CPAN_IS_RUNNING="88424"
PERL_MM_USE_DEFAULT="1"
PERL_USE_UNSAFE_INC="1"
PERL_VERSION="blead"
@INC:
/Users/cpan/bin/perl-blead/lib/site_perl/5.31.3/darwin-2level
/Users/cpan/bin/perl-blead/lib/site_perl/5.31.3
/Users/cpan/bin/perl-blead/lib/5.31.3/darwin-2level
/Users/cpan/bin/perl-blead/lib/5.31.3
.