Back
From: metabase:user:e7f7dec2-b051-11df-bd1d-025b7965fceb
Subject: PASS Net-Server-2.008 v5.16.0 GNU/Linux
Date: 2014-06-29T17:20:04Z
This distribution has been tested as part of the CPAN Testers
project, supporting the Perl programming language. See
http://wiki.cpantesters.org/ for more information or email
questions to cpan-testers-discuss@perl.org
--
Dear Paul Seamons,
This is a computer-generated report for Net-Server-2.008
on perl 5.16.0, created by CPAN-Reporter-1.2011.
Thank you for uploading your work to CPAN. Congratulations!
All tests were successful.
Sections of this report:
* Tester comments
* Program output
* Prerequisites
* Environment and other context
------------------------------
TESTER COMMENTS
------------------------------
Additional comments from tester:
none provided
------------------------------
PROGRAM OUTPUT
------------------------------
Output from '/usr/bin/make test':
PERL_DL_NONLAZY=1 /home/andy/perl5/perlbrew/perls/perl-5.16.0/bin/perl "-MExtUtils::Command::MM" "-MTest::Harness" "-e" "undef *Test::Harness::Switches; test_harness(0, 'blib/lib', 'blib/arch')" t/*.t
t/Options.t ............... ok
t/Port_Configuration.t .... ok
t/Server_BASE.t ........... ok
t/Server_Fork.t ........... ok
t/Server_http.t ........... ok
t/Server_INET.t ........... ok
t/Server_Multiplex.t ...... ok
t/Server_MultiType.t ...... ok
t/Server_PreFork.t ........ ok
t/Server_PreForkSimple.t .. ok
t/Server_Single.t ......... ok
t/SSL_test.t .............. ok
t/SSLEAY_test.t ........... ok
t/UDP_test.t .............. ok
t/UNIX_test.t ............. ok
All tests successful.
Files=15, Tests=185, 1 wallclock secs ( 0.08 usr 0.02 sys + 0.71 cusr 0.19 csys = 1.00 CPU)
Result: PASS
------------------------------
PREREQUISITES
------------------------------
Prerequisite modules loaded:
requires:
Module Need Have
------------------- ---- ------
IO::Socket 0 1.34
POSIX 0 1.30
Socket 0 2.013
Time::HiRes 0 1.9726
build_requires:
Module Need Have
------------------- ---- ------
ExtUtils::MakeMaker 0 6.98
configure_requires:
Module Need Have
------------------- ---- ------
ExtUtils::MakeMaker 0 6.98
------------------------------
ENVIRONMENT AND OTHER CONTEXT
------------------------------
Environment variables:
LANG = en_GB.UTF-8
LANGUAGE = en_GB:en
LC_CTYPE = en_GB.UTF-8
PATH = /home/andy/bin:/home/andy/.rvm/gems/ruby-2.0.0-p247@global/bin:/home/andy/.rvm/rubies/ruby-2.0.0-p247/bin:/home/andy/.rvm/bin:/home/andy/perl5/perlbrew/bin:/home/andy/perl5/perlbrew/perls/perl-5.16.0/bin:/home/andy/Dropbox/bin:/opt/ffmpeg/bin:/home/andy/bin/Linux:/usr/local/sbin:/usr/local/bin:/home/andy/bin:/usr/bin:/bin:/usr/local/games:/usr/games:/usr/sbin:/sbin
PERL5LIB =
PERL5OPT =
PERL5_CPANPLUS_IS_RUNNING = 9020
PERL5_CPAN_IS_RUNNING = 9020
PERLBREW_BASHRC_VERSION = 0.60
PERLBREW_HOME = /home/andy/.perlbrew
PERLBREW_MANPATH = /home/andy/perl5/perlbrew/perls/perl-5.16.0/man
PERLBREW_PATH = /home/andy/perl5/perlbrew/bin:/home/andy/perl5/perlbrew/perls/perl-5.16.0/bin
PERLBREW_PERL = perl-5.16.0
PERLBREW_ROOT = /home/andy/perl5/perlbrew
PERLBREW_VERSION = 0.60
SHELL = /bin/bash
TERM = xterm-256color
Perl special variables (and OS-specific diagnostics, for MSWin32):
$^X = /home/andy/perl5/perlbrew/perls/perl-5.16.0/bin/perl
$UID/$EUID = 1000 / 1000
$GID = 50 4 20 29 44 46 50 1001
$EGID = 50 4 20 29 44 46 50 1001
Perl module toolchain versions installed:
Module Have
------------------- --------
CPAN 2.05
CPAN::Meta 2.141520
Cwd 3.40
ExtUtils::CBuilder 0.280216
ExtUtils::Command 1.18
ExtUtils::Install 1.68
ExtUtils::MakeMaker 6.98
ExtUtils::Manifest 1.63
ExtUtils::ParseXS 3.24
File::Spec 3.40
JSON 2.90
JSON::PP 2.27203
Module::Build 0.4205
Module::Signature 0.73
Parse::CPAN::Meta 1.4414
Test::Harness 3.30
Test::More 1.001002
YAML 0.90
YAML::Syck 1.27
version 0.9908
--
Summary of my perl5 (revision 5 version 16 subversion 0) configuration:
Platform:
osname=linux, osvers=3.2.0-3-amd64, archname=x86_64-linux
uname='linux igloo 3.2.0-3-amd64 #1 smp thu jun 28 09:07:26 utc 2012 x86_64 gnulinux '
config_args='-de -Dprefix=/home/andy/perl5/perlbrew/perls/perl-5.16.0 -Aeval:scriptdir=/home/andy/perl5/perlbrew/perls/perl-5.16.0/bin'
hint=recommended, useposix=true, d_sigaction=define
useithreads=undef, usemultiplicity=undef
useperlio=define, d_sfio=undef, uselargefiles=define, usesocks=undef
use64bitint=define, use64bitall=define, uselongdouble=undef
usemymalloc=n, bincompat5005=undef
Compiler:
cc='cc', ccflags ='-fno-strict-aliasing -pipe -fstack-protector -I/usr/local/include -D_LARGEFILE_SOURCE -D_FILE_OFFSET_BITS=64',
optimize='-O2',
cppflags='-fno-strict-aliasing -pipe -fstack-protector -I/usr/local/include'
ccversion='', gccversion='4.7.1', gccosandvers=''
intsize=4, longsize=8, ptrsize=8, doublesize=8, byteorder=12345678
d_longlong=define, longlongsize=8, d_longdbl=define, longdblsize=16
ivtype='long', ivsize=8, nvtype='double', nvsize=8, Off_t='off_t', lseeksize=8
alignbytes=8, prototype=define
Linker and Libraries:
ld='cc', ldflags =' -fstack-protector -L/usr/local/lib'
libpth=/usr/local/lib /lib/x86_64-linux-gnu /lib/../lib /usr/lib/x86_64-linux-gnu /usr/lib/../lib /lib /usr/lib
libs=-lnsl -ldl -lm -lcrypt -lutil -lc
perllibs=-lnsl -ldl -lm -lcrypt -lutil -lc
libc=, so=so, useshrplib=false, libperl=libperl.a
gnulibc_version='2.13'
Dynamic Linking:
dlsrc=dl_dlopen.xs, dlext=so, d_dlsymun=undef, ccdlflags='-Wl,-E'
cccdlflags='-fPIC', lddlflags='-shared -O2 -L/usr/local/lib -fstack-protector'
Characteristics of this binary (from libperl):
Compile-time options: HAS_TIMES PERLIO_LAYERS PERL_DONT_CREATE_GVSV
PERL_MALLOC_WRAP PERL_PRESERVE_IVUV USE_64_BIT_ALL
USE_64_BIT_INT USE_LARGE_FILES USE_LOCALE
USE_LOCALE_COLLATE USE_LOCALE_CTYPE
USE_LOCALE_NUMERIC USE_PERLIO USE_PERL_ATOF
Built under linux
Compiled at Aug 10 2012 17:00:50
%ENV:
PERL5LIB=""
PERL5OPT=""
PERL5_CPANPLUS_IS_RUNNING="9020"
PERL5_CPAN_IS_RUNNING="9020"
PERLBREW_BASHRC_VERSION="0.60"
PERLBREW_HOME="/home/andy/.perlbrew"
PERLBREW_MANPATH="/home/andy/perl5/perlbrew/perls/perl-5.16.0/man"
PERLBREW_PATH="/home/andy/perl5/perlbrew/bin:/home/andy/perl5/perlbrew/perls/perl-5.16.0/bin"
PERLBREW_PERL="perl-5.16.0"
PERLBREW_ROOT="/home/andy/perl5/perlbrew"
PERLBREW_VERSION="0.60"
@INC:
/home/andy/perl5/perlbrew/perls/perl-5.16.0/lib/site_perl/5.16.0/x86_64-linux
/home/andy/perl5/perlbrew/perls/perl-5.16.0/lib/site_perl/5.16.0
/home/andy/perl5/perlbrew/perls/perl-5.16.0/lib/5.16.0/x86_64-linux
/home/andy/perl5/perlbrew/perls/perl-5.16.0/lib/5.16.0
.