Report for Math-Complex-1.59

Back
From: metabase:user:30f4dfbe-2aae-11df-837a-5e0a49663a4f
Subject: PASS Math-Complex-1.59 v5.8.1 Mac OS X
Date: 2015-07-17T01:53:24Z

This distribution has been tested as part of the CPAN Testers
project, supporting the Perl programming language.  See
http://wiki.cpantesters.org/ for more information or email
questions to cpan-testers-discuss@perl.org


--
Dear Andrew Main (Zefram),

This is a computer-generated report for Math-Complex-1.59
on perl 5.8.1, created by CPAN-Reporter-1.2014.

Thank you for uploading your work to CPAN.  Congratulations!
All tests were successful.

Sections of this report:

    * Tester comments
    * Program output
    * Prerequisites
    * Environment and other context

------------------------------
TESTER COMMENTS
------------------------------

Additional comments from tester:

none provided

------------------------------
PROGRAM OUTPUT
------------------------------

Output from '/usr/bin/make test':

PERL_DL_NONLAZY=1 "/Users/njh/perl5/perlbrew/perls/perl-5.8.1/bin/perl5.8.1" "-MExtUtils::Command::MM" "-MTest::Harness" "-e" "undef *Test::Harness::Switches; test_harness(0, 'blib/lib', 'blib/arch')" t/*.t
t/Trig.t .......... ok
t/pod-coverage.t .. ok
t/underbar.t ...... ok
t/pod.t ........... ok
t/Complex.t ....... ok
All tests successful.
Files=5, Tests=1235,  1 wallclock secs ( 0.21 usr  0.02 sys +  0.63 cusr  0.04 csys =  0.90 CPU)
Result: PASS

------------------------------
PREREQUISITES
------------------------------

Prerequisite modules loaded:

requires:

    Module              Need Have    
    ------------------- ---- --------
    Config              0    0       
    Exporter            0    5.72    
    ExtUtils::MakeMaker 0    7.04    
    overload            0    1.01    
    Scalar::Util        1.11 1.41    
    strict              0    1.03    
    Test::More          0    1.001006
    warnings            0    1.03    

build_requires:

    Module              Need Have    
    ------------------- ---- --------
    ExtUtils::MakeMaker 0    7.04    

configure_requires:

    Module              Need Have    
    ------------------- ---- --------
    ExtUtils::MakeMaker 0    7.04    


------------------------------
ENVIRONMENT AND OTHER CONTEXT
------------------------------

Environment variables:

    HARNESS_OPTIONS = c:j4
    LANG = en_US.UTF-8
    PATH = /Users/njh/perl5/perlbrew/bin:/Users/njh/perl5/perlbrew/perls/perl-5.8.1/bin:/Users/njh/perl5/perlbrew/bin:/Users/njh/perl5/perlbrew/perls/perl-5.14.2/bin:/usr/local/bin:/usr/bin:/bin:/usr/sbin:/sbin:/Users/njh/bin
    PERL5LIB = 
    PERL5OPT = 
    PERL5_CPANPLUS_IS_RUNNING = 3236
    PERL5_CPAN_IS_RUNNING = 3236
    PERLBREW_BASHRC_VERSION = 0.71
    PERLBREW_HOME = /Users/njh/.perlbrew
    PERLBREW_LIB = 
    PERLBREW_MANPATH = /Users/njh/perl5/perlbrew/perls/perl-5.8.1/man
    PERLBREW_PATH = /Users/njh/perl5/perlbrew/bin:/Users/njh/perl5/perlbrew/perls/perl-5.8.1/bin
    PERLBREW_PERL = perl-5.8.1
    PERLBREW_ROOT = /Users/njh/perl5/perlbrew
    PERLBREW_VERSION = 0.71
    PERL_LOCAL_LIB_ROOT = 
    SHELL = /bin/bash
    TERM = xterm-256color
    TMPDIR = /var/folders/8v/329gghld15g2ls572lrpg_yw0000gn/T/
    VERSIONER_PERL_PREFER_32_BIT = no
    VERSIONER_PERL_VERSION = 5.18

Perl special variables (and OS-specific diagnostics, for MSWin32):

    $^X = /Users/njh/perl5/perlbrew/perls/perl-5.8.1/bin/perl5.8.1
    $UID/$EUID = 501 / 501
    $GID = 501 100 402 401 61 20 12 501
    $EGID = 501 100 402 401 61 20 12 501

Perl module toolchain versions installed:

    Module              Have    
    ------------------- --------
    CPAN                1.9800  
    CPAN::Meta          2.150005
    Cwd                 3.47    
    ExtUtils::CBuilder  0.280223
    ExtUtils::Command   1.20    
    ExtUtils::Install   2.04    
    ExtUtils::MakeMaker 7.04    
    ExtUtils::Manifest  1.70    
    ExtUtils::ParseXS   3.24    
    File::Spec          3.47    
    JSON                2.90    
    JSON::PP            2.27203 
    Module::Build       0.4210  
    Module::Signature   n/a     
    Parse::CPAN::Meta   1.4414  
    Test::Harness       3.33    
    Test::More          1.001006
    YAML                1.15    
    YAML::Syck          1.29    
    version             0.88    


--

Summary of my perl5 (revision 5.0 version 8 subversion 1) configuration:
  Platform:
    osname=darwin, osvers=13.3.0, archname=darwin-thread-multi-2level
    uname='darwin mac.bandsman.co.uk 13.3.0 darwin kernel version 13.3.0: tue jun 3 21:27:35 pdt 2014; root:xnu-2422.110.17~1release_x86_64 x86_64 '
    config_args='-de -Dprefix=/Users/njh/perl5/perlbrew/perls/perl-5.8.1 -Duseithreads -Dusemultiplicity -Dusedevel -Accflags=-O2 -W -Wformat=2 -Wswitch -Wshadow -Wwrite-strings -Wuninitialized -Wall -pipe -mtune=native -march=native -Aeval:scriptdir=/Users/njh/perl5/perlbrew/perls/perl-5.8.1/bin'
    hint=recommended, useposix=true, d_sigaction=define
    usethreads=define use5005threads=undef useithreads=define usemultiplicity=define
    useperlio=define d_sfio=undef uselargefiles=define usesocks=undef
    use64bitint=define use64bitall=define uselongdouble=undef
    usemymalloc=n, bincompat5005=undef
  Compiler:
    cc='cc', ccflags ='-fno-common -DPERL_DARWIN -O2 -W -Wformat=2 -Wswitch -Wshadow -Wwrite-strings -Wuninitialized -Wall -pipe -mtune=native -march=native -fno-strict-aliasing',
    optimize='-O3',
    cppflags='-fno-common -DPERL_DARWIN -O2 -W -Wformat=2 -Wswitch -Wshadow -Wwrite-strings -Wuninitialized -Wall -pipe -mtune=native -march=native -fno-strict-aliasing'
    ccversion='', gccversion='4.2.1 Compatible Apple LLVM 5.1 (clang-503.0.40)', gccosandvers=''
    intsize=4, longsize=8, ptrsize=8, doublesize=8, byteorder=12345678
    d_longlong=define, longlongsize=8, d_longdbl=define, longdblsize=16
    ivtype='long', ivsize=8, nvtype='double', nvsize=8, Off_t='off_t', lseeksize=8
    alignbytes=8, prototype=define
  Linker and Libraries:
    ld='env MACOSX_DEPLOYMENT_TARGET=10.3 cc', ldflags =''
    libpth=/usr/lib
    libs=-ldbm -ldl -lm -lutil -lc
    perllibs=-ldl -lm -lutil -lc
    libc=, so=dylib, useshrplib=false, libperl=libperl.a
    gnulibc_version=''
  Dynamic Linking:
    dlsrc=dl_dlopen.xs, dlext=bundle, d_dlsymun=undef, ccdlflags=' '
    cccdlflags=' ', lddlflags=' -bundle -undefined dynamic_lookup'


Characteristics of this binary (from libperl): 
  Compile-time options: MULTIPLICITY USE_ITHREADS USE_64_BIT_INT USE_64_BIT_ALL USE_LARGE_FILES PERL_IMPLICIT_CONTEXT
  Built under darwin
  Compiled at Sep 16 2014 21:04:54
  %ENV:
    PERL5LIB=""
    PERL5OPT=""
    PERL5_CPANPLUS_IS_RUNNING="3236"
    PERL5_CPAN_IS_RUNNING="3236"
    PERLBREW_BASHRC_VERSION="0.71"
    PERLBREW_HOME="/Users/njh/.perlbrew"
    PERLBREW_LIB=""
    PERLBREW_MANPATH="/Users/njh/perl5/perlbrew/perls/perl-5.8.1/man"
    PERLBREW_PATH="/Users/njh/perl5/perlbrew/bin:/Users/njh/perl5/perlbrew/perls/perl-5.8.1/bin"
    PERLBREW_PERL="perl-5.8.1"
    PERLBREW_ROOT="/Users/njh/perl5/perlbrew"
    PERLBREW_VERSION="0.71"
    PERL_LOCAL_LIB_ROOT=""
  @INC:
    /Users/njh/perl5/perlbrew/perls/perl-5.8.1/lib/5.8.1/darwin-thread-multi-2level
    /Users/njh/perl5/perlbrew/perls/perl-5.8.1/lib/5.8.1
    /Users/njh/perl5/perlbrew/perls/perl-5.8.1/lib/site_perl/5.8.1/darwin-thread-multi-2level
    /Users/njh/perl5/perlbrew/perls/perl-5.8.1/lib/site_perl/5.8.1
    /Users/njh/perl5/perlbrew/perls/perl-5.8.1/lib/site_perl
    .