Git-Hooks v3.1.1 Perl 5 v5.32.1 amd64-freebsd-ld
- Status
- Pass
- From
- Slaven Rezić
- Dist
-
Git-Hooks v3.1.1
- Platform
- Perl 5 v5.32.1 amd64-freebsd-ld
- Date
- 2021-08-27 22:39:16
- ID
- 9c4cea50-0787-11ec-93d4-e9301f24ea8f
This distribution has been tested as part of the CPAN Testers
project, supporting the Perl programming language. See
http://wiki.cpantesters.org/ for more information or email
questions to cpan-testers-discuss@perl.org
--
Dear Gustavo Leite de Mendonca Chaves,
This is a computer-generated report for Git-Hooks-3.1.1
on perl 5.32.1, created by CPAN-Reporter-1.2018.
Thank you for uploading your work to CPAN. Congratulations!
All tests were successful.
Sections of this report:
* Tester comments
* Program output
* Prerequisites
* Environment and other context
------------------------------
TESTER COMMENTS
------------------------------
Additional comments from tester:
none provided
------------------------------
PROGRAM OUTPUT
------------------------------
Output from '/usr/bin/make test':
PERL_DL_NONLAZY=1 "/usr/perl5.32.1Dp/bin/perl" "-MExtUtils::Command::MM" "-MTest::Harness" "-e" "undef *Test::Harness::Switches; test_harness(0, 'blib/lib', 'blib/arch')" t/*.t
t/00-load.t ................. ok
t/01-setup.t ................ ok
# git version 2.32.0
t/02-check-commit.t ......... ok
# git version 2.32.0
t/02-check-diff.t ........... ok
# git version 2.32.0
t/02-check-file.t ........... ok
t/02-check-jira.t ........... ok
t/02-check-log.t ............ ok
t/02-check-reference.t ...... ok
t/02-check-rewrite.t ........ ok
t/02-check-whitespace.t ..... ok
t/02-externals.t ............ ok
t/02-gerrit-change-id.t ..... ok
t/02-noplugin.t ............. ok
t/02-notify.t ............... ok
# git version 2.32.0
t/02-prepare-log.t .......... ok
t/author-critic.t ........... skipped: these tests are for testing by the author
t/author-minimum-version.t .. skipped: these tests are for testing by the author
t/author-no-tabs.t .......... skipped: these tests are for testing by the author
t/author-pod-coverage.t ..... skipped: these tests are for testing by the author
t/author-pod-syntax.t ....... skipped: these tests are for testing by the author
t/author-portability.t ...... skipped: these tests are for testing by the author
t/release-kwalitee.t ........ skipped: these tests are for release candidate testing
t/release-unused-vars.t ..... skipped: these tests are for release candidate testing
All tests successful.
Files=23, Tests=239, 48 wallclock secs ( 0.09 usr 0.04 sys + 30.19 cusr 19.52 csys = 49.84 CPU)
Result: PASS
------------------------------
PREREQUISITES
------------------------------
Prerequisite modules loaded:
requires:
Module Need Have
------------------------------ ----- --------
Carp 0 1.50
Email::Sender::Simple 0 2.500
Email::Simple 0 2.216
Encode 0 3.10
Exporter 0 5.74
Git::Repository 0 1.325
Git::Repository::Log 0 1.314
Git::Repository::Plugin 0 1.325
IO::Interactive 0 1.023
List::MoreUtils 0 0.430
Log::Any 0 1.709
parent 0 0.238
Path::Tiny 0.060 0.118
strict 0 1.11
Test::More 0 1.302186
Text::Glob 0 0.11
URI::Escape 0 5.09
utf8 0 1.22
warnings 0 1.47
build_requires:
Module Need Have
------------------------------ ----- --------
Config 0 5.032001
Email::Sender::Transport::Mbox 0 2.500
ExtUtils::MakeMaker 0 7.62
lib 0 0.65
Path::Tiny 0.060 0.118
Test::Requires::Git 0 1.008
configure_requires:
Module Need Have
------------------------------ ----- --------
ExtUtils::MakeMaker 0 7.62
------------------------------
ENVIRONMENT AND OTHER CONTEXT
------------------------------
Environment variables:
PATH = /usr/local/bin:/usr/bin:/bin:/usr/local/sbin:/usr/sbin:/sbin:/home/cpansand/bin/sh:/home/cpansand/bin:/usr/games:/home/cpansand/devel:/usr/home/eserte/src/srezic-misc/scripts
PERL5LIB =
PERL5OPT =
PERL5_CPANPLUS_IS_RUNNING = 76610
PERL5_CPAN_IS_RUNNING = 76610
PERL5_CPAN_IS_RUNNING_IN_RECURSION = 1309,76610
PERL_BATCH = yes
PERL_CANARY_STABILITY_NOPROMPT = 1
PERL_CPAN_REPORTER_CONFIG = /var/tmp/cpansmoker-1023/2021082718/cpanreporter_000_config.ini
PERL_EXTUTILS_AUTOINSTALL = --defaultdeps
PERL_USE_UNSAFE_INC = 1
SHELL = /bin/sh
TMPDIR = /var/tmp/cpansmoker-1023/2021082718
Perl special variables (and OS-specific diagnostics, for MSWin32):
$^X = /usr/perl5.32.1Dp/bin/perl
$UID/$EUID = 1023 / 1023
$GID = 1023 1023
$EGID = 1023 1023
Perl module toolchain versions installed:
Module Have
------------------- --------
CPAN 2.27
CPAN::Meta 2.150010
Cwd 3.78
ExtUtils::CBuilder 0.280234
ExtUtils::Command 7.62
ExtUtils::Install 2.20
ExtUtils::MakeMaker 7.62
ExtUtils::Manifest 1.72
ExtUtils::ParseXS 3.40
File::Spec 3.78
JSON 4.03
JSON::PP 4.04
Module::Build 0.4231
Module::Signature n/a
Parse::CPAN::Meta 2.150010
Test::Harness 3.42
Test::More 1.302186
YAML 1.30
YAML::Syck 1.34
version 0.9924
--
Summary of my perl5 (revision 5 version 32 subversion 1) configuration:
Platform:
osname=freebsd
osvers=14.0-current
archname=amd64-freebsd-ld
uname='freebsd cloud2.bbbike.org 14.0-current freebsd 14.0-current #12 main-n246644-9674c2e68c6: thu may 13 22:18:45 utc 2021 root@cloud2.bbbike.org:usrobjusrhomeprojectsfreebsdamd64.amd64sysgeneric amd64 '
config_args='-ds -e -Dprefix=/usr/perl5.32.1Dp -Duselongdouble -Dcf_email=srezic@cpan.org -Doptimize=-O2 -pipe'
hint=recommended
useposix=true
d_sigaction=define
useithreads=undef
usemultiplicity=undef
use64bitint=define
use64bitall=define
uselongdouble=define
usemymalloc=n
default_inc_excludes_dot=define
bincompat5005=undef
Compiler:
cc='cc'
ccflags ='-DHAS_FPSETMASK -DHAS_FLOATINGPOINT_H -fno-strict-aliasing -pipe -fstack-protector-strong -I/usr/local/include'
optimize='-O2 -pipe'
cppflags='-DHAS_FPSETMASK -DHAS_FLOATINGPOINT_H -fno-strict-aliasing -pipe -fstack-protector-strong -I/usr/local/include'
ccversion=''
gccversion='FreeBSD Clang 11.0.1 (git@github.com:llvm/llvm-project.git llvmorg-11.0.1-0-g43ff75f2c3fe)'
gccosandvers=''
intsize=4
longsize=8
ptrsize=8
doublesize=8
byteorder=12345678
doublekind=3
d_longlong=define
longlongsize=8
d_longdbl=define
longdblsize=16
longdblkind=3
ivtype='long'
ivsize=8
nvtype='long double'
nvsize=16
Off_t='off_t'
lseeksize=8
alignbytes=16
prototype=define
Linker and Libraries:
ld='cc'
ldflags ='-pthread -Wl,-E -fstack-protector-strong -L/usr/local/lib'
libpth=/usr/lib /usr/local/lib /usr/lib/clang/11.0.1/lib /usr/lib
libs=-lpthread -lgdbm -ldl -lm -lcrypt -lutil -lc
perllibs=-lpthread -ldl -lm -lcrypt -lutil -lc
libc=
so=so
useshrplib=false
libperl=libperl.a
gnulibc_version=''
Dynamic Linking:
dlsrc=dl_dlopen.xs
dlext=so
d_dlsymun=undef
ccdlflags=' '
cccdlflags='-DPIC -fPIC'
lddlflags='-shared -L/usr/local/lib -fstack-protector-strong'
Characteristics of this binary (from libperl):
Compile-time options:
HAS_TIMES
PERLIO_LAYERS
PERL_COPY_ON_WRITE
PERL_DONT_CREATE_GVSV
PERL_MALLOC_WRAP
PERL_OP_PARENT
PERL_PRESERVE_IVUV
USE_64_BIT_ALL
USE_64_BIT_INT
USE_LARGE_FILES
USE_LOCALE
USE_LOCALE_COLLATE
USE_LOCALE_CTYPE
USE_LOCALE_NUMERIC
USE_LOCALE_TIME
USE_LONG_DOUBLE
USE_PERLIO
USE_PERL_ATOF
Built under freebsd
Compiled at May 16 2021 16:28:42
%ENV:
PERL5LIB=""
PERL5OPT=""
PERL5_CPANPLUS_IS_RUNNING="76610"
PERL5_CPAN_IS_RUNNING="76610"
PERL5_CPAN_IS_RUNNING_IN_RECURSION="1309,76610"
PERL_BATCH="yes"
PERL_CANARY_STABILITY_NOPROMPT="1"
PERL_CPAN_REPORTER_CONFIG="/var/tmp/cpansmoker-1023/2021082718/cpanreporter_000_config.ini"
PERL_EXTUTILS_AUTOINSTALL="--defaultdeps"
PERL_USE_UNSAFE_INC="1"
@INC:
/usr/perl5.32.1Dp/lib/site_perl/5.32.1/amd64-freebsd-ld
/usr/perl5.32.1Dp/lib/site_perl/5.32.1
/usr/perl5.32.1Dp/lib/5.32.1/amd64-freebsd-ld
/usr/perl5.32.1Dp/lib/5.32.1
.