Back
From: metabase:user:7298ebcc-b357-11e4-8d18-8eca7e4756b9
Subject: PASS Net-Server-2.008 v5.18.2 GNU/Linux
Date: 2016-02-16T01:21:31Z
This distribution has been tested as part of the CPAN Testers
project, supporting the Perl programming language. See
http://wiki.cpantesters.org/ for more information or email
questions to cpan-testers-discuss@perl.org
--
Dear RHANDOM,
This is a computer-generated report for Net-Server-2.008
on perl 5.18.2, created by App::cpanminus::reporter 0.12 (1.7027).
Thank you for uploading your work to CPAN. Congratulations!
All tests were successful.
Sections of this report:
* Tester comments
* Program output
* Prerequisites
* Environment and other context
------------------------------
TESTER COMMENTS
------------------------------
Additional comments from tester:
none provided
------------------------------
PROGRAM OUTPUT
------------------------------
Output from '':
Building and testing Net-Server-2.008
cp lib/Net/Server/SIG.pm blib/lib/Net/Server/SIG.pm
cp lib/Net/Server/Proto/TCP.pm blib/lib/Net/Server/Proto/TCP.pm
cp lib/Net/Server/Fork.pm blib/lib/Net/Server/Fork.pm
cp lib/Net/Server/Log/Sys/Syslog.pm blib/lib/Net/Server/Log/Sys/Syslog.pm
cp lib/Net/Server/Proto/SSL.pm blib/lib/Net/Server/Proto/SSL.pm
cp lib/Net/Server/MultiType.pm blib/lib/Net/Server/MultiType.pm
cp lib/Net/Server/PreFork.pm blib/lib/Net/Server/PreFork.pm
cp lib/Net/Server/Daemonize.pm blib/lib/Net/Server/Daemonize.pm
cp lib/Net/Server.pod blib/lib/Net/Server.pod
cp lib/Net/Server/Single.pm blib/lib/Net/Server/Single.pm
cp lib/Net/Server/Proto/UDP.pm blib/lib/Net/Server/Proto/UDP.pm
cp lib/Net/Server/INET.pm blib/lib/Net/Server/INET.pm
cp lib/Net/Server/Proto/SSLEAY.pm blib/lib/Net/Server/Proto/SSLEAY.pm
cp lib/Net/Server/Multiplex.pm blib/lib/Net/Server/Multiplex.pm
cp lib/Net/Server/PSGI.pm blib/lib/Net/Server/PSGI.pm
cp lib/Net/Server/PreForkSimple.pm blib/lib/Net/Server/PreForkSimple.pm
cp lib/Net/Server/HTTP.pm blib/lib/Net/Server/HTTP.pm
cp lib/Net/Server/Proto.pm blib/lib/Net/Server/Proto.pm
cp lib/Net/Server/Proto/UNIX.pm blib/lib/Net/Server/Proto/UNIX.pm
cp lib/Net/Server/Log/Log/Log4perl.pm blib/lib/Net/Server/Log/Log/Log4perl.pm
cp lib/Net/Server/Proto/UNIXDGRAM.pm blib/lib/Net/Server/Proto/UNIXDGRAM.pm
cp lib/Net/Server.pm blib/lib/Net/Server.pm
cp bin/net-server blib/script/net-server
/home/mojolicious/perl5/perlbrew/perls/perl-5.18.2/bin/perl -MExtUtils::MY -e 'MY->fixin(shift)' -- blib/script/net-server
Manifying blib/man1/net-server.1
Manifying blib/man3/Net::Server::Proto::UDP.3
Manifying blib/man3/Net::Server::SIG.3
Manifying blib/man3/Net::Server::HTTP.3
Manifying blib/man3/Net::Server::Proto::SSL.3
Manifying blib/man3/Net::Server::Proto::UNIXDGRAM.3
Manifying blib/man3/Net::Server::Proto::UNIX.3
Manifying blib/man3/Net::Server::PreForkSimple.3
Manifying blib/man3/Net::Server.3
Manifying blib/man3/Net::Server::Fork.3
Manifying blib/man3/Net::Server::Daemonize.3
Manifying blib/man3/Net::Server::Log::Log::Log4perl.3
Manifying blib/man3/Net::Server::Multiplex.3
Manifying blib/man3/Net::Server::Proto.3
Manifying blib/man3/Net::Server::PSGI.3
Manifying blib/man3/Net::Server::PreFork.3
Manifying blib/man3/Net::Server::INET.3
Manifying blib/man3/Net::Server::Proto::TCP.3
Manifying blib/man3/Net::Server::Proto::SSLEAY.3
Manifying blib/man3/Net::Server::MultiType.3
Manifying blib/man3/Net::Server::Log::Sys::Syslog.3
Manifying blib/man3/Net::Server::Single.3
PERL_DL_NONLAZY=1 /home/mojolicious/perl5/perlbrew/perls/perl-5.18.2/bin/perl "-MExtUtils::Command::MM" "-e" "test_harness(0, 'blib/lib', 'blib/arch')" t/*.t
t/Options.t ............... ok
t/Port_Configuration.t .... ok
t/Server_BASE.t ........... ok
t/Server_Fork.t ........... ok
t/Server_http.t ........... ok
t/Server_INET.t ........... ok
t/Server_Multiplex.t ...... ok
t/Server_MultiType.t ...... ok
t/Server_PreFork.t ........ ok
t/Server_PreForkSimple.t .. ok
t/Server_Single.t ......... ok
t/SSL_test.t .............. ok
t/SSLEAY_test.t ........... ok
t/UDP_test.t .............. ok
t/UNIX_test.t ............. ok
All tests successful.
Files=15, Tests=185, 3 wallclock secs ( 0.09 usr 0.02 sys + 1.05 cusr 0.19 csys = 1.35 CPU)
Result: PASS
------------------------------
PREREQUISITES
------------------------------
Prerequisite modules loaded:
runtime:
Module Need Have
------------------- ---- ------
IO::Socket 0 1.36
POSIX 0 1.32
Socket 0 2.009
Time::HiRes 0 1.9725
build:
Module Need Have
------------------- ---- ------
ExtUtils::MakeMaker 0 6.66
configure:
Module Need Have
------------------- ---- ------
ExtUtils::MakeMaker 0 6.66
------------------------------
ENVIRONMENT AND OTHER CONTEXT
------------------------------
Environment variables:
PATH = /home/mojolicious/perl5/perlbrew/bin:/home/mojolicious/perl5/perlbrew/perls/perl-5.20.1/bin:/usr/local/bin:/usr/bin:/bin:/usr/local/games:/usr/games:/home/mojolicious/catalystlib/5.18.2/5.90070/bin
PERLBREW_BASHRC_VERSION = 0.73
PERLBREW_HOME = /home/mojolicious/.perlbrew
PERLBREW_MANPATH = /home/mojolicious/perl5/perlbrew/perls/perl-5.20.1/man
PERLBREW_PATH = /home/mojolicious/perl5/perlbrew/bin:/home/mojolicious/perl5/perlbrew/perls/perl-5.20.1/bin
PERLBREW_PERL = perl-5.20.1
PERLBREW_ROOT = /home/mojolicious/perl5/perlbrew
PERLBREW_VERSION = 0.73
SHELL = /bin/bash
TERM = xterm
Perl special variables (and OS-specific diagnostics, for MSWin32):
EGID = 1003 1003
EUID = 1003
EXECUTABLE_NAME = /home/mojolicious/perl5/perlbrew/perls/perl-5.18.2/bin/perl
GID = 1003 1003
UID = 1003
Perl module toolchain versions installed:
Module Have
------------------- --------
CPAN 2.00
CPAN::Meta 2.120921
Cwd 3.40
ExtUtils::CBuilder 0.280210
ExtUtils::Command 1.17
ExtUtils::Install 1.59
ExtUtils::MakeMaker 6.66
ExtUtils::Manifest 1.63
ExtUtils::ParseXS 3.18
File::Spec 3.40
JSON 2.90
JSON::PP 2.27202
Module::Build 0.4003
Module::Signature n/a
Parse::CPAN::Meta 1.4404
Test::Harness 3.26
Test::More 1.001014
YAML n/a
YAML::Syck n/a
version 0.9902
--
Summary of my perl5 (revision 5 version 18 subversion 2) configuration:
Platform:
osname=linux, osvers=3.13.0-042stab094.8, archname=x86_64-linux
uname='linux lvps92-51-161-142.dedicated.hosteurope.de 3.13.0-042stab094.8 #1 smp tue dec 16 20:36:56 msk 2014 x86_64 x86_64 x86_64 gnulinux '
config_args='-de -Dprefix=/home/mojolicious/perl5/perlbrew/perls/perl-5.18.2 -Aeval:scriptdir=/home/mojolicious/perl5/perlbrew/perls/perl-5.18.2/bin'
hint=recommended, useposix=true, d_sigaction=define
useithreads=undef, usemultiplicity=undef
useperlio=define, d_sfio=undef, uselargefiles=define, usesocks=undef
use64bitint=define, use64bitall=define, uselongdouble=undef
usemymalloc=n, bincompat5005=undef
Compiler:
cc='cc', ccflags ='-fno-strict-aliasing -pipe -fstack-protector -I/usr/local/include -D_LARGEFILE_SOURCE -D_FILE_OFFSET_BITS=64',
optimize='-O2',
cppflags='-fno-strict-aliasing -pipe -fstack-protector -I/usr/local/include'
ccversion='', gccversion='4.8.2', gccosandvers=''
intsize=4, longsize=8, ptrsize=8, doublesize=8, byteorder=12345678
d_longlong=define, longlongsize=8, d_longdbl=define, longdblsize=16
ivtype='long', ivsize=8, nvtype='double', nvsize=8, Off_t='off_t', lseeksize=8
alignbytes=8, prototype=define
Linker and Libraries:
ld='cc', ldflags =' -fstack-protector -L/usr/local/lib'
libpth=/usr/local/lib /lib/x86_64-linux-gnu /lib/../lib /usr/lib/x86_64-linux-gnu /usr/lib/../lib /lib /usr/lib
libs=-lnsl -ldl -lm -lcrypt -lutil -lc
perllibs=-lnsl -ldl -lm -lcrypt -lutil -lc
libc=libc-2.19.so, so=so, useshrplib=false, libperl=libperl.a
gnulibc_version='2.19'
Dynamic Linking:
dlsrc=dl_dlopen.xs, dlext=so, d_dlsymun=undef, ccdlflags='-Wl,-E'
cccdlflags='-fPIC', lddlflags='-shared -O2 -L/usr/local/lib -fstack-protector'
Characteristics of this binary (from libperl):
Compile-time options: HAS_TIMES PERLIO_LAYERS PERL_DONT_CREATE_GVSV
PERL_HASH_FUNC_ONE_AT_A_TIME_HARD PERL_MALLOC_WRAP
PERL_PRESERVE_IVUV PERL_SAWAMPERSAND USE_64_BIT_ALL
USE_64_BIT_INT USE_LARGE_FILES USE_LOCALE
USE_LOCALE_COLLATE USE_LOCALE_CTYPE
USE_LOCALE_NUMERIC USE_PERLIO USE_PERL_ATOF
Locally applied patches:
Devel::PatchPerl 1.30
Built under linux
Compiled at Feb 14 2015 12:27:20
%ENV:
PERLBREW_BASHRC_VERSION="0.73"
PERLBREW_HOME="/home/mojolicious/.perlbrew"
PERLBREW_MANPATH="/home/mojolicious/perl5/perlbrew/perls/perl-5.20.1/man"
PERLBREW_PATH="/home/mojolicious/perl5/perlbrew/bin:/home/mojolicious/perl5/perlbrew/perls/perl-5.20.1/bin"
PERLBREW_PERL="perl-5.20.1"
PERLBREW_ROOT="/home/mojolicious/perl5/perlbrew"
PERLBREW_VERSION="0.73"
@INC:
/home/mojolicious/perl5/perlbrew/perls/perl-5.18.2/lib/site_perl/5.18.2/x86_64-linux
/home/mojolicious/perl5/perlbrew/perls/perl-5.18.2/lib/site_perl/5.18.2
/home/mojolicious/perl5/perlbrew/perls/perl-5.18.2/lib/5.18.2/x86_64-linux
/home/mojolicious/perl5/perlbrew/perls/perl-5.18.2/lib/5.18.2
.