App-perlimports v0.000055 Perl 5 v5.34.1 x86_64-linux-ld

Status
Pass
From
Andreas J. König (ANDK)
Dist
App-perlimports v0.000055
Platform
Perl 5 v5.34.1 x86_64-linux-ld
Date
2024-07-21 19:01:18
ID
9cb05fd2-4793-11ef-bcf8-96e6d994966f
This distribution has been tested as part of the CPAN Testers
project, supporting the Perl programming language.  See
http://wiki.cpantesters.org/ for more information or email
questions to cpan-testers-discuss@perl.org


--
Dear Olaf Alders,

This is a computer-generated report for App-perlimports-0.000055
on perl 5.34.1, created by CPAN-Reporter-1.2019.

Thank you for uploading your work to CPAN.  Congratulations!
All tests were successful.

Sections of this report:

    * Tester comments
    * Program output
    * Prerequisites
    * Environment and other context

------------------------------
TESTER COMMENTS
------------------------------

Additional comments from tester:

this report is from an automated smoke testing program
and was not reviewed by a human for accuracy

------------------------------
PROGRAM OUTPUT
------------------------------

Output from '/usr/bin/make test':

PERL_DL_NONLAZY=1 "/home/sand/src/perl/repoperls/installed-perls/host/k93msid/v5.34.1/af11/bin/perl" "-MExtUtils::Command::MM" "-MTest::Harness" "-e" "undef *Test::Harness::Switches; test_harness(0, 'blib/lib', 'blib/arch')" t/*.t t/ExportInspector/*.t t/cpan-modules/*.t
# 
# Versions for all modules listed in MYMETA.json (including optional ones):
# 
# === Configure Requires ===
# 
#     Module                 Want     Have
#     ------------------- ------- --------
#     ExtUtils::MakeMaker     any     7.70
#     perl                v5.10.0 5.034001
# 
# === Build Requires ===
# 
#     Module              Want Have
#     ------------------- ---- ----
#     ExtUtils::MakeMaker  any 7.70
# 
# === Test Requires ===
# 
#     Module                    Want     Have
#     ---------------------- ------- --------
#     ExtUtils::MakeMaker        any     7.70
#     File::Spec                 any     3.80
#     File::pushd                any    1.016
#     Log::Dispatch::Array       any    1.003
#     PPI::Dumper                any    1.277
#     Sub::Exporter              any    0.988
#     Test::Differences          any     0.69
#     Test::Fatal                any    0.017
#     Test::More                 any 1.302195
#     Test::Needs                any 0.002010
#     Test::RequiresInternet     any     0.05
#     Test::Script              1.29     1.29
#     Test::Warnings             any    0.031
#     lib                        any     0.65
#     perl                   v5.18.0 5.034001
# 
# === Test Recommends ===
# 
#     Module         Want     Have
#     ---------- -------- --------
#     CPAN::Meta 2.120900 2.150010
# 
# === Runtime Requires ===
# 
#     Module                           Want      Have
#     ---------------------------- -------- ---------
#     Capture::Tiny                     any      0.48
#     Class::Inspector                 1.36      1.36
#     Cpanel::JSON::XS                  any      4.37
#     Data::Dumper                      any     2.183
#     Data::UUID                        any     1.226
#     File::Basename                    any      2.85
#     File::XDG                        1.01      1.02
#     Getopt::Long::Descriptive         any     0.110
#     List::Util                        any      1.63
#     Log::Dispatch                    2.70      2.70
#     Memoize                           any      1.13
#     Module::Runtime                   any     0.016
#     Moo                               any  2.005005
#     Moo::Role                         any  2.005005
#     MooX::StrictConstructor           any     0.011
#     PPI                             1.276     1.277
#     PPI::Document                     any     1.277
#     PPIx::Utils::Classification       any     0.003
#     Path::Iterator::Rule              any     1.015
#     Path::Tiny                        any     0.146
#     Perl::Tidy                   20220613  20230309
#     Pod::Usage                        any      2.03
#     Ref::Util                         any     0.204
#     Scalar::Util                      any      1.63
#     Sereal::Decoder                   any     5.002
#     Sereal::Encoder                   any     5.002
#     Sub::HandlesVia                   any  0.050000
#     Symbol::Get                      0.10      0.10
#     TOML::Tiny                       0.16      0.17
#     Text::Diff                        any      1.45
#     Text::SimpleTable::AutoWidth      any      0.09
#     Try::Tiny                         any      0.31
#     Types::Standard                   any 2.001_002
#     feature                           any      1.64
#     perl                         5.018000  5.034001
#     strict                            any      1.12
#     utf8                              any      1.24
#     warnings                          any      1.51
# 
t/00-report-prereqs.t ............ ok
t/after.t ........................ ok
t/annotations.t .................. ok
t/args-in-import.t ............... ok
t/builtin.t ...................... ok
t/carp.t ......................... ok
t/cast-in-regex.t ................ ok
t/cast.t ......................... ok
t/cli-args.t ..................... ok
t/cli.t .......................... ok
t/config-in-import.t ............. ok
t/Config.t ....................... ok
t/cpan-modules/pithub.t .......... ok
t/cpan-modules/test2-v0.t ........ ok
t/datetime.t ..................... ok
t/do-block.t ..................... ok
t/Document.t ..................... ok
t/dump-perl-exports.t ............ ok
t/dupes.t ........................ ok
t/english.t ...................... ok
t/explodes.t ..................... ok
t/export-tags.t .................. ok
t/exported-variables.t ........... ok
t/ExportInspector/load.t ......... ok
t/ExportInspector/SubExporter.t .. skipped: Need MetaCPAN::Moose
t/find-bin.t ..................... ok
t/fully-qualified.t .............. ok
t/func-in-use.t .................. ok
t/func-in-var.t .................. ok
t/geo-ip.t ....................... ok
t/hash-in-regex.t ................ ok
t/hash-key-expression.t .......... ok
t/hash-key.t ..................... ok
t/hash-unquoted-key.t ............ ok
t/heredoc.t ...................... ok
t/ignored-modules.t .............. ok
t/import-error.t ................. ok
t/interpolation.t ................ ok
t/is-ignored.t ................... ok
t/locally-defined-sub.t .......... ok
t/lookalike-words.t .............. ok
t/memoize.t ...................... skipped: Need MooseX::Types::UUID
t/meta.t ......................... ok
t/method.t ....................... ok
t/missing-semicolon-in-import.t .. ok
t/module-with-inner-packages.t ... ok
t/moo.t .......................... ok
t/moose-types.t .................. ok
t/moose.t ........................ ok
t/moosex-types-moose.t ........... ok
t/nested-quotes.t ................ ok
t/never-exports.t ................ ok
t/original-imports.t ............. ok
t/padding.t ...................... ok
t/perl-imports.t ................. ok
t/perl.t ......................... ok
t/perlimports.t .................. ok
t/pragma.t ....................... ok
t/preserve-some-padding.t ........ ok
t/preserve-spaces.t .............. ok
t/qualified-bareword.t ........... ok
t/quoted-var.t ................... ok
t/re-export-via-sub-exporter.t ... ok
t/regex-replacement.t ............ skipped: Need IP::Random 1.200230
t/require.t ...................... ok
t/respace-include.t .............. ok
t/Sandbox.t ...................... ok
t/script-with-inner-packages.t ... ok
t/signatures.t ................... ok
t/skip-all.t ..................... skipped: Test is broken
t/socket.t ....................... ok
t/sort-imports.t ................. ok
t/switches-in-import.t ........... ok
t/symbol-as-method-call.t ........ skipped: Need Object::Tap
t/symbol-in-export.t ............. ok
t/test-builder.t ................. skipped: Need Test::HTML::Lint
t/test-most.t .................... ok
t/typeglob.t ..................... ok
t/unnest-quotes.t ................ ok
t/use-and-require.t .............. ok
t/var-in-hash-key.t .............. ok
t/var-in-regex.t ................. ok
t/variable.t ..................... ok
t/warning.t ...................... ok
t/with-version.t ................. ok
All tests successful.
Files=85, Tests=205, 193 wallclock secs ( 0.23 usr  0.17 sys + 54.06 cusr 11.54 csys = 66.00 CPU)
Result: PASS

------------------------------
PREREQUISITES
------------------------------

Prerequisite modules loaded:

requires:

    Module                       Need     Have     
    ---------------------------- -------- ---------
    Capture::Tiny                0        0.48     
    Class::Inspector             1.36     1.36     
    Cpanel::JSON::XS             0        4.37     
    Data::Dumper                 0        2.183    
    Data::UUID                   0        1.226    
    feature                      0        1.64     
    File::Basename               0        2.85     
    File::XDG                    1.01     1.02     
    Getopt::Long::Descriptive    0        0.110    
    List::Util                   0        1.63     
    Log::Dispatch                2.70     2.70     
    Memoize                      0        1.13     
    Module::Runtime              0        0.016    
    Moo                          0        2.005005 
    Moo::Role                    0        2.005005 
    MooX::StrictConstructor      0        0.011    
    Path::Iterator::Rule         0        1.015    
    Path::Tiny                   0        0.146    
    perl                         5.018000 5.034001 
    Perl::Tidy                   20220613 20230309 
    Pod::Usage                   0        2.03     
    PPI                          1.276    1.277    
    PPI::Document                0        1.277    
    PPIx::Utils::Classification  0        0.003    
    Ref::Util                    0        0.204    
    Scalar::Util                 0        1.63     
    Sereal::Decoder              0        5.002    
    Sereal::Encoder              0        5.002    
    strict                       0        1.12     
    Sub::HandlesVia              0        0.050000 
    Symbol::Get                  0.10     0.10     
    Text::Diff                   0        1.45     
    Text::SimpleTable::AutoWidth 0        0.09     
    TOML::Tiny                   0.16     0.17     
    Try::Tiny                    0        0.31     
    Types::Standard              0        2.001_002
    utf8                         0        1.24     
    warnings                     0        1.51     

build_requires:

    Module                       Need     Have     
    ---------------------------- -------- ---------
    ExtUtils::MakeMaker          0        7.70     
    File::pushd                  0        1.016    
    File::Spec                   0        3.80     
    lib                          0        0.65     
    Log::Dispatch::Array         0        1.003    
    PPI::Dumper                  0        1.277    
    Sub::Exporter                0        0.988    
    Test::Differences            0        0.69     
    Test::Fatal                  0        0.017    
    Test::More                   0        1.302195 
    Test::Needs                  0        0.002010 
    Test::RequiresInternet       0        0.05     
    Test::Script                 1.29     1.29     
    Test::Warnings               0        0.031    

configure_requires:

    Module                       Need     Have     
    ---------------------------- -------- ---------
    ExtUtils::MakeMaker          0        7.70     
    perl                         v5.10.0  5.034001 


------------------------------
ENVIRONMENT AND OTHER CONTEXT
------------------------------

Environment variables:

    AUTOMATED_TESTING = 1
    LANG = en_US.UTF-8
    LANGUAGE = en_US:en
    PATH = /home/sand/bin:/usr/local/bin:/usr/bin:/bin:/usr/games:/usr/local/perl/bin:/usr/X11/bin:/sbin:/usr/sbin
    PERL5LIB = 
    PERL5OPT = 
    PERL5_CPANPLUS_IS_RUNNING = 2308775
    PERL5_CPAN_IS_RUNNING = 2308775
    PERL_CANARY_STABILITY_NOPROMPT = 1
    PERL_MM_USE_DEFAULT = 1
    PERL_USE_UNSAFE_INC = 1
    SHELL = /usr/bin/zsh
    TERM = screen

Perl special variables (and OS-specific diagnostics, for MSWin32):

    $^X = /home/sand/src/perl/repoperls/installed-perls/host/k93msid/v5.34.1/af11/bin/perl
    $UID/$EUID = 1005 / 1005
    $GID = 1005 1005
    $EGID = 1005 1005

Perl module toolchain versions installed:

    Module              Have    
    ------------------- --------
    CPAN                2.33    
    CPAN::Meta          2.150010
    Cwd                 3.80    
    ExtUtils::CBuilder  0.280236
    ExtUtils::Command   7.70    
    ExtUtils::Install   2.20    
    ExtUtils::MakeMaker 7.70    
    ExtUtils::Manifest  1.73    
    ExtUtils::ParseXS   3.51    
    File::Spec          3.80    
    JSON                4.10    
    JSON::PP            4.11    
    Module::Build       0.4234  
    Module::Signature   0.88    
    Parse::CPAN::Meta   2.150010
    Test2               1.302195
    Test::Harness       3.47    
    Test::More          1.302195
    YAML                1.30    
    YAML::Syck          1.34    
    version             0.9929  


--

Summary of my perl5 (revision 5 version 34 subversion 1) configuration:
  Commit id: 1181cf72936404b890ef41362f533fe2c2626f9b
  Platform:
    osname=linux
    osvers=5.15.0-2-amd64
    archname=x86_64-linux-ld
    uname='linux k93msid 5.15.0-2-amd64 #1 smp debian 5.15.5-2 (2021-12-18) x86_64 gnulinux '
    config_args='-Dprefix=/home/sand/src/perl/repoperls/installed-perls/host/k93msid/v5.34.1/af11 -Dmyhostname=k93msid -Dinstallusrbinperl=n -Uversiononly -Dusedevel -des -Ui_db -Dlibswanted=cl pthread socket inet nsl gdbm dbm malloc dl ld sun m crypt sec util c cposix posix ucb BSD gdbm_compat -Uuseithreads -Duselongdouble -DEBUGGING=-g'
    hint=recommended
    useposix=true
    d_sigaction=define
    useithreads=undef
    usemultiplicity=undef
    use64bitint=define
    use64bitall=define
    uselongdouble=define
    usemymalloc=n
    default_inc_excludes_dot=define
  Compiler:
    cc='cc'
    ccflags ='-fwrapv -fno-strict-aliasing -pipe -fstack-protector-strong -I/usr/local/include -D_LARGEFILE_SOURCE -D_FILE_OFFSET_BITS=64 -D_FORTIFY_SOURCE=2'
    optimize='-O2 -g'
    cppflags='-fwrapv -fno-strict-aliasing -pipe -fstack-protector-strong -I/usr/local/include'
    ccversion=''
    gccversion='11.2.0'
    gccosandvers=''
    intsize=4
    longsize=8
    ptrsize=8
    doublesize=8
    byteorder=12345678
    doublekind=3
    d_longlong=define
    longlongsize=8
    d_longdbl=define
    longdblsize=16
    longdblkind=3
    ivtype='long'
    ivsize=8
    nvtype='long double'
    nvsize=16
    Off_t='off_t'
    lseeksize=8
    alignbytes=16
    prototype=define
  Linker and Libraries:
    ld='cc'
    ldflags =' -fstack-protector-strong -L/usr/local/lib'
    libpth=/usr/local/lib /usr/lib/x86_64-linux-gnu /usr/lib /lib/x86_64-linux-gnu /lib
    libs=-lpthread -lnsl -ldl -lm -lcrypt -lutil -lc
    perllibs=-lpthread -lnsl -ldl -lm -lcrypt -lutil -lc
    libc=libc-2.33.so
    so=so
    useshrplib=false
    libperl=libperl.a
    gnulibc_version='2.33'
  Dynamic Linking:
    dlsrc=dl_dlopen.xs
    dlext=so
    d_dlsymun=undef
    ccdlflags='-Wl,-E'
    cccdlflags='-fPIC'
    lddlflags='-shared -O2 -g -L/usr/local/lib -fstack-protector-strong'


Characteristics of this binary (from libperl): 
  Compile-time options:
    HAS_TIMES
    PERLIO_LAYERS
    PERL_COPY_ON_WRITE
    PERL_DONT_CREATE_GVSV
    PERL_MALLOC_WRAP
    PERL_OP_PARENT
    PERL_PRESERVE_IVUV
    PERL_USE_DEVEL
    USE_64_BIT_ALL
    USE_64_BIT_INT
    USE_LARGE_FILES
    USE_LOCALE
    USE_LOCALE_COLLATE
    USE_LOCALE_CTYPE
    USE_LOCALE_NUMERIC
    USE_LOCALE_TIME
    USE_LONG_DOUBLE
    USE_PERLIO
    USE_PERL_ATOF
  Built under linux
  Compiled at Mar 13 2022 11:05:32
  %ENV:
    PERL5LIB=""
    PERL5OPT=""
    PERL5_CPANPLUS_IS_RUNNING="2308775"
    PERL5_CPAN_IS_RUNNING="2308775"
    PERL_CANARY_STABILITY_NOPROMPT="1"
    PERL_MM_USE_DEFAULT="1"
    PERL_USE_UNSAFE_INC="1"
  @INC:
    /home/sand/src/perl/repoperls/installed-perls/host/k93msid/v5.34.1/af11/lib/site_perl/5.34.1/x86_64-linux-ld
    /home/sand/src/perl/repoperls/installed-perls/host/k93msid/v5.34.1/af11/lib/site_perl/5.34.1
    /home/sand/src/perl/repoperls/installed-perls/host/k93msid/v5.34.1/af11/lib/5.34.1/x86_64-linux-ld
    /home/sand/src/perl/repoperls/installed-perls/host/k93msid/v5.34.1/af11/lib/5.34.1
    .