Test-WWW-Mechanize v1.60 Perl 5 v5.22.4 x86_64-linux

Status
Pass
From
Chris Williams (BINGOS)
Dist
Test-WWW-Mechanize v1.60
Platform
Perl 5 v5.22.4 x86_64-linux
Date
2023-01-18 02:12:52
ID
9cbfc5a0-96d5-11ed-aba6-9a79f339625c
This distribution has been tested as part of the CPAN Testers
project, supporting the Perl programming language.  See
http://wiki.cpantesters.org/ for more information or email
questions to cpan-testers-discuss@perl.org


--

Dear Andy Lester,

This is a computer-generated error report created automatically by
CPANPLUS, version 0.9914. Testers personal comments may appear
at the end of this report.


Thank you for uploading your work to CPAN.  Congratulations!
All tests were successful.

TEST RESULTS:

Below is the error stack from stage 'make test':

PERL_DL_NONLAZY=1 "/home/cpan/pit/bare/perl-5.22.4/bin/perl" "-MExtUtils::Command::MM" "-MTest::Harness" "-e" "undef *Test::Harness::Switches; test_harness(0, 'blib/lib', 'blib/arch')" t/*.t
# Testing Test::WWW::Mechanize 1.60 on Perl 5.022004, /home/cpan/pit/bare/perl-5.22.4/bin/perl
# LWP 6.67
# WWW::Mechanize 2.15
# Test::More 1.302191
# Test::Builder::Tester 1.302191
# Optional HTML::Lint not found. Install it to use additional features.
# Optional HTML::Tidy5 not found. Install it to use additional features.
t/00-load.t ................ ok
t/autolint.t ............... skipped: HTML::Lint 2.20 is not installed, cannot test autolint
t/autotidy.t ............... skipped: Optional HTML::Tidy5 1.00 is not installed, cannot test autotidy.
t/button_exists.t .......... ok
# Test server http://127.0.0.1:27085 as PID 1388274
t/click_ok.t ............... ok
t/content_contains.t ....... ok
t/content_lacks.t .......... ok
# Test server http://127.0.0.1:28084 as PID 1388280
t/delete_ok.t .............. ok
t/follow_link_ok.t ......... ok
t/followable_links.t ....... ok
t/get_ok-parms.t ........... ok
t/get_ok.t ................. ok
t/has_tag.t ................ ok
t/head_ok-parms.t .......... ok
t/head_ok.t ................ ok
# Test server http://127.0.0.1:35045 as PID 1388301
t/headers.t ................ ok
t/html_lint_ok.t ........... skipped: HTML::Lint 2.20 is not installed, cannot test html_lint_ok
t/html_tidy_ok.t ........... skipped: Optional HTML::Tidy5 1.00 is not installed, cannot test html_tidy_ok
t/id_exists.t .............. ok
t/lacks_uncapped_inputs.t .. ok
t/link_content.t ........... ok
t/link_status.t ............ ok
t/links_ok.t ............... ok
t/new.t .................... ok
t/page_links_content.t ..... ok
t/page_links_ok.t .......... ok
t/pod-coverage.t ........... skipped: Test::Pod::Coverage 0.08 required for testing POD coverage
t/pod.t .................... skipped: Test::Pod 1.00 required for testing POD
t/post_ok.t ................ ok
# Test server http://127.0.0.1:25421 as PID 1388327
t/put_ok.t ................. ok
t/scrape_text_by_id.t ...... ok
t/stuff_inputs.t ........... ok
# Test server http://127.0.0.1:32770 as PID 1388334
t/submit_form_ok.t ......... ok
t/text_contains.t .......... ok
t/title_is.t ............... ok
All tests successful.
Files=35, Tests=293, 11 wallclock secs ( 0.10 usr  0.04 sys +  4.31 cusr  0.69 csys =  5.14 CPU)
Result: PASS


PREREQUISITES:

Here is a list of prerequisites you specified and versions we
managed to load:

	  Module Name                        Have     Want
	  Carp                               1.36        0
	  Carp::Assert::More                2.1.0     1.16
	  ExtUtils::MakeMaker                7.64        0
	  HTML::Form                         6.10        0
	  HTML::TokeParser                   3.80        0
	  HTTP::Message                      6.44     6.29
	  HTTP::Server::Simple               0.52     0.42
	  HTTP::Server::Simple::CGI             0        0
	  LWP                                6.67     6.02
	  Test::Builder                  1.302191        0
	  Test::Builder::Tester          1.302191     1.09
	  Test::LongString                   0.17     0.15
	  Test::More                     1.302191     0.96
	  URI::file                          5.17        0
	  WWW::Mechanize                     2.15     1.68
	  parent                            0.232        0

Perl module toolchain versions installed:
	Module Name                        Have
	CPANPLUS                         0.9914
	CPANPLUS::Dist::Build              0.90
	Cwd                                3.75
	ExtUtils::CBuilder             0.280236
	ExtUtils::Command                  7.64
	ExtUtils::Install                  2.20
	ExtUtils::MakeMaker                7.64
	ExtUtils::Manifest                 1.73
	ExtUtils::ParseXS                  3.44
	File::Spec                         3.75
	Module::Build                    0.4231
	Pod::Parser                        1.63
	Pod::Simple                        3.29
	Test2                          1.302191
	Test::Harness                      3.44
	Test::More                     1.302191
	version                          0.9929

******************************** NOTE ********************************
The comments above are created mechanically, possibly without manual
checking by the sender.  As there are many people performing automatic
tests on each upload to CPAN, it is likely that you will receive
identical messages about the same problem.

If you believe that the message is mistaken, please reply to the first
one with correction and/or additional informations, and do not take
it personally.  We appreciate your patience. :)
**********************************************************************

Additional comments:


This report was machine-generated by CPANPLUS::Dist::YACSmoke 1.08.
Powered by minismokebox version 0.68

CPANPLUS is prefering Build.PL

------------------------------
ENVIRONMENT AND OTHER CONTEXT
------------------------------

Environment variables:

    AUTOMATED_TESTING = 1
    LANG = en_GB.UTF-8
    LANGUAGE = en_GB:en
    NONINTERACTIVE_TESTING = 1
    PATH = /usr/local/sbin:/usr/local/bin:/usr/sbin:/usr/bin:/sbin:/bin:/usr/games:/usr/local/games:/snap/bin
    PERL5LIB = /home/cpan/pit/jail/dZp_scI4Jx/lib/perl5:/home/cpan/pit/bare/conf/perl-5.22.4/.cpanplus/5.22.4/build/bYpuLdpn2Q/Test-WWW-Mechanize-1.60/blib/lib:/home/cpan/pit/bare/conf/perl-5.22.4/.cpanplus/5.22.4/build/bYpuLdpn2Q/Test-WWW-Mechanize-1.60/blib/arch
    PERL5_CPANPLUS_IS_RUNNING = 1365659
    PERL5_CPANPLUS_IS_VERSION = 0.9914
    PERL5_MINISMOKEBOX = 0.68
    PERL5_YACSMOKE_BASE = /home/cpan/pit/bare/conf/perl-5.22.4
    PERL_EXTUTILS_AUTOINSTALL = --defaultdeps
    PERL_LOCAL_LIB_ROOT = /home/cpan/pit/jail/dZp_scI4Jx
    PERL_MB_OPT = --install_base "/home/cpan/pit/jail/dZp_scI4Jx"
    PERL_MM_OPT = INSTALL_BASE=/home/cpan/pit/jail/dZp_scI4Jx
    PERL_MM_USE_DEFAULT = 1
    PERL_USE_UNSAFE_INC = 1
    SHELL = /bin/bash
    TERM = screen.xterm-256color

Perl special variables (and OS-specific diagnostics, for MSWin32):

    Perl: $^X = /home/cpan/pit/bare/perl-5.22.4/bin/perl
    UID:  $<  = 1001
    EUID: $>  = 1001
    GID:  $(  = 1001 1001
    EGID: $)  = 1001 1001


-------------------------------


--

Summary of my perl5 (revision 5 version 22 subversion 4) configuration:
   
  Platform:
    osname=linux, osvers=5.4.0-26-generic, archname=x86_64-linux
    uname='linux uchder 5.4.0-26-generic #30-ubuntu smp mon apr 20 16:58:30 utc 2020 x86_64 x86_64 x86_64 gnulinux '
    config_args='-des -Dprefix=/home/cpan/pit/bare/perl-5.22.4'
    hint=recommended, useposix=true, d_sigaction=define
    useithreads=undef, usemultiplicity=undef
    use64bitint=define, use64bitall=define, uselongdouble=undef
    usemymalloc=n, bincompat5005=undef
  Compiler:
    cc='cc', ccflags ='-fwrapv -fno-strict-aliasing -pipe -fstack-protector-strong -I/usr/local/include -D_LARGEFILE_SOURCE -D_FILE_OFFSET_BITS=64',
    optimize='-O2',
    cppflags='-fwrapv -fno-strict-aliasing -pipe -fstack-protector-strong -I/usr/local/include'
    ccversion='', gccversion='9.3.0', gccosandvers=''
    intsize=4, longsize=8, ptrsize=8, doublesize=8, byteorder=12345678, doublekind=3
    d_longlong=define, longlongsize=8, d_longdbl=define, longdblsize=16, longdblkind=3
    ivtype='long', ivsize=8, nvtype='double', nvsize=8, Off_t='off_t', lseeksize=8
    alignbytes=8, prototype=define
  Linker and Libraries:
    ld='cc', ldflags =' -fstack-protector-strong -L/usr/local/lib'
    libpth=/usr/local/lib /usr/include/x86_64-linux-gnu /usr/lib /lib/x86_64-linux-gnu /lib/../lib /usr/lib/x86_64-linux-gnu /usr/lib/../lib /lib
    libs=-lpthread -lnsl -lgdbm -ldl -lm -lcrypt -lutil -lc
    perllibs=-lpthread -lnsl -ldl -lm -lcrypt -lutil -lc
    libc=libc-2.31.so, so=so, useshrplib=false, libperl=libperl.a
    gnulibc_version='2.31'
  Dynamic Linking:
    dlsrc=dl_dlopen.xs, dlext=so, d_dlsymun=undef, ccdlflags='-Wl,-E'
    cccdlflags='-fPIC', lddlflags='-shared -O2 -L/usr/local/lib -fstack-protector-strong'


Characteristics of this binary (from libperl): 
  Compile-time options: HAS_TIMES PERLIO_LAYERS PERL_DONT_CREATE_GVSV
                        PERL_HASH_FUNC_ONE_AT_A_TIME_HARD PERL_MALLOC_WRAP
                        PERL_NEW_COPY_ON_WRITE PERL_PRESERVE_IVUV
                        USE_64_BIT_ALL USE_64_BIT_INT USE_LARGE_FILES
                        USE_LOCALE USE_LOCALE_COLLATE USE_LOCALE_CTYPE
                        USE_LOCALE_NUMERIC USE_LOCALE_TIME USE_PERLIO
                        USE_PERL_ATOF
  Locally applied patches:
	Devel::PatchPerl 1.90
  Built under linux
  Compiled at Apr 26 2020 17:15:22
  %ENV:
    PERL5LIB="/home/cpan/pit/jail/dZp_scI4Jx/lib/perl5:/home/cpan/pit/bare/conf/perl-5.22.4/.cpanplus/5.22.4/build/bYpuLdpn2Q/Test-WWW-Mechanize-1.60/blib/lib:/home/cpan/pit/bare/conf/perl-5.22.4/.cpanplus/5.22.4/build/bYpuLdpn2Q/Test-WWW-Mechanize-1.60/blib/arch"
    PERL5_CPANPLUS_IS_RUNNING="1365659"
    PERL5_CPANPLUS_IS_VERSION="0.9914"
    PERL5_MINISMOKEBOX="0.68"
    PERL5_YACSMOKE_BASE="/home/cpan/pit/bare/conf/perl-5.22.4"
    PERL_EXTUTILS_AUTOINSTALL="--defaultdeps"
    PERL_LOCAL_LIB_ROOT="/home/cpan/pit/jail/dZp_scI4Jx"
    PERL_MB_OPT="--install_base "/home/cpan/pit/jail/dZp_scI4Jx""
    PERL_MM_OPT="INSTALL_BASE=/home/cpan/pit/jail/dZp_scI4Jx"
    PERL_MM_USE_DEFAULT="1"
    PERL_USE_UNSAFE_INC="1"
  @INC:
    /home/cpan/pit/jail/dZp_scI4Jx/lib/perl5/5.22.4/x86_64-linux
    /home/cpan/pit/jail/dZp_scI4Jx/lib/perl5/5.22.4
    /home/cpan/pit/jail/dZp_scI4Jx/lib/perl5/x86_64-linux
    /home/cpan/pit/jail/dZp_scI4Jx/lib/perl5
    /home/cpan/pit/bare/conf/perl-5.22.4/.cpanplus/5.22.4/build/bYpuLdpn2Q/Test-WWW-Mechanize-1.60/blib/lib
    /home/cpan/pit/bare/conf/perl-5.22.4/.cpanplus/5.22.4/build/bYpuLdpn2Q/Test-WWW-Mechanize-1.60/blib/arch
    /home/cpan/pit/bare/perl-5.22.4/lib/site_perl/5.22.4/x86_64-linux
    /home/cpan/pit/bare/perl-5.22.4/lib/site_perl/5.22.4
    /home/cpan/pit/bare/perl-5.22.4/lib/5.22.4/x86_64-linux
    /home/cpan/pit/bare/perl-5.22.4/lib/5.22.4
    .