Report for SQL-Format-0.19

Back
From: metabase:user:30f4dfbe-2aae-11df-837a-5e0a49663a4f
Subject: PASS SQL-Format-0.19 v5.14.0 GNU/Linux
Date: 2017-08-01T16:36:47Z

This distribution has been tested as part of the CPAN Testers
project, supporting the Perl programming language.  See
http://wiki.cpantesters.org/ for more information or email
questions to cpan-testers-discuss@perl.org


--
Dear Yuji Shimada,

This is a computer-generated report for SQL-Format-0.19
on perl 5.14.0, created by CPAN-Reporter-1.2018.

Thank you for uploading your work to CPAN.  Congratulations!
All tests were successful.

Sections of this report:

    * Tester comments
    * Program output
    * Prerequisites
    * Environment and other context

------------------------------
TESTER COMMENTS
------------------------------

Additional comments from tester:

this report is from an automated smoke testing program
and was not reviewed by a human for accuracy

------------------------------
PROGRAM OUTPUT
------------------------------

Output from './Build test':

t/00_compile.t ................. ok
t/20_new.t ..................... ok
t/21_format.t .................. ok
t/39_select_exception.t ........ ok
t/30_select.t .................. ok
t/49_insert_exception.t ........ ok
t/40_insert.t .................. ok
t/50_update.t .................. ok
t/10_spec.t .................... ok
t/59_update_exception.t ........ ok
t/69_exception.t ............... ok
t/60_delete.t .................. ok
t/70_insert_multi.t ............ ok
t/71_insert_multi_from_hash.t .. ok
t/79_insert_multi_exception.t .. ok
t/80_insert_on_duplicate.t ..... ok
t/90_quote.t ................... ok
t/99_exception.t ............... ok
All tests successful.
Files=18, Tests=211,  1 wallclock secs ( 0.12 usr  0.03 sys +  0.93 cusr  0.05 csys =  1.13 CPU)
Result: PASS

------------------------------
PREREQUISITES
------------------------------

Prerequisite modules loaded:

requires:

    Module              Need     Have    
    ------------------- -------- --------
    perl                5.010000 5.014000

build_requires:

    Module              Need     Have    
    ------------------- -------- --------
    Test::More          0        1.302062
    Tie::IxHash         0        1.23    

configure_requires:

    Module              Need     Have    
    ------------------- -------- --------
    CPAN::Meta          0        2.150005
    CPAN::Meta::Prereqs 0        2.150005
    Module::Build       0        0.4206  
    Module::Build::Tiny 0.035    0.039   


------------------------------
ENVIRONMENT AND OTHER CONTEXT
------------------------------

Environment variables:

    AUTOMATED_TESTING = 1
    HARNESS_OPTIONS = j4
    LANG = en_GB.UTF-8
    LANGUAGE = en_GB:en
    PATH = /home/njh/perl5/perlbrew/bin:/home/njh/perl5/perlbrew/perls/perl-5.14.0/bin:/home/njh/perl5/perlbrew/bin:/usr/bin:/bin
    PERL5LIB = /home/njh/.cpan/build/Text-vCard-Precisely-0.04-11/blib/arch:/home/njh/.cpan/build/Text-vCard-Precisely-0.04-11/blib/lib:/home/njh/.cpan/build/Unicode-LineBreak-2017.004-33/blib/arch:/home/njh/.cpan/build/Unicode-LineBreak-2017.004-33/blib/lib:/home/njh/.cpan/build/MooseX-Types-Email-0.007-0/blib/arch:/home/njh/.cpan/build/MooseX-Types-Email-0.007-0/blib/lib:/home/njh/.cpan/build/MooseX-Types-DateTime-0.13-0/blib/arch:/home/njh/.cpan/build/MooseX-Types-DateTime-0.13-0/blib/lib:/home/njh/.cpan/build/MooseX-Deprecated-0.005-1/blib/arch:/home/njh/.cpan/build/MooseX-Deprecated-0.005-1/blib/lib:/home/njh/.cpan/build/Devel-Callsite-0.10-1/blib/arch:/home/njh/.cpan/build/Devel-Callsite-0.10-1/blib/lib
    PERL5OPT = 
    PERL5_CPANPLUS_IS_RUNNING = 20250
    PERL5_CPAN_IS_RUNNING = 20250
    PERLBREW_BASHRC_VERSION = 0.73
    PERLBREW_HOME = /home/njh/.perlbrew
    PERLBREW_LIB = 
    PERLBREW_MANPATH = /home/njh/perl5/perlbrew/perls/perl-5.14.0/man
    PERLBREW_PATH = /home/njh/perl5/perlbrew/bin:/home/njh/perl5/perlbrew/perls/perl-5.14.0/bin
    PERLBREW_PERL = perl-5.14.0
    PERLBREW_ROOT = /home/njh/perl5/perlbrew
    PERLBREW_VERSION = 0.73
    PERL_LOCAL_LIB_ROOT = 
    SHELL = /bin/sh

Perl special variables (and OS-specific diagnostics, for MSWin32):

    $^X = /home/njh/perl5/perlbrew/perls/perl-5.14.0/bin/perl
    $UID/$EUID = 1000 / 1000
    $GID = 1000 4 24 25 29 30 44 46 108 112 1000
    $EGID = 1000 4 24 25 29 30 44 46 108 112 1000

Perl module toolchain versions installed:

    Module              Have    
    ------------------- --------
    CPAN                2.16    
    CPAN::Meta          2.150005
    Cwd                 3.40    
    ExtUtils::CBuilder  0.280216
    ExtUtils::Command   7.24    
    ExtUtils::Install   1.56    
    ExtUtils::MakeMaker 7.24    
    ExtUtils::Manifest  1.70    
    ExtUtils::ParseXS   3.30    
    File::Spec          3.40    
    JSON                2.93    
    JSON::PP            2.27400 
    Module::Build       0.4206  
    Module::Signature   0.73    
    Parse::CPAN::Meta   1.4422  
    Test::Harness       3.36    
    Test::More          1.302062
    YAML                1.23    
    YAML::Syck          1.30    
    version             0.9904  


--

Summary of my perl5 (revision 5 version 14 subversion 0) configuration:
   
  Platform:
    osname=linux, osvers=3.2.0-4-amd64, archname=x86_64-linux-thread-multi
    uname='linux nigelhorne.force9.co.uk 3.2.0-4-amd64 #1 smp debian 3.2.32-1 x86_64 gnulinux '
    config_args='-de -Dprefix=/home/njh/perl5/perlbrew/perls/perl-5.14.0 -Duseithreads -Dusemultiplicity -Accflags=-O2 -W -Wformat=2 -Wswitch -Wshadow -Wwrite-strings -Wuninitialized -Wall -pipe -mtune=native -march=native -fomit-frame-pointer -msse2 -msse -mmmx -mfpmath=sse -pedantic -D_FORTIFY_SOURCE=2 -Wpointer-arith -Wstrict-prototypes -fstack-protector -Wstack-protector -Wextra -Wbad-function-cast -Wcast-align -Wcast-qual -Wdisabled-optimization -Wendif-labels -Wfloat-equal -Wformat-nonliteral -Winline -Wmissing-declarations -Wmissing-prototypes -Wnested-externs -Wpointer-arith -Wundef -Wformat-security -ftree-vectorize -fassociative-math -ftree-vectorizer-verbose=2 -Aeval:scriptdir=/home/njh/perl5/perlbrew/perls/perl-5.14.0/bin'
    hint=recommended, useposix=true, d_sigaction=define
    useithreads=define, usemultiplicity=define
    useperlio=define, d_sfio=undef, uselargefiles=define, usesocks=undef
    use64bitint=define, use64bitall=define, uselongdouble=undef
    usemymalloc=n, bincompat5005=undef
  Compiler:
    cc='cc', ccflags ='-D_REENTRANT -D_GNU_SOURCE -O2 -W -Wformat=2 -Wswitch -Wshadow -Wwrite-strings -Wuninitialized -Wall -pipe -mtune=native -march=native -fomit-frame-pointer -msse2 -msse -mmmx -mfpmath=sse -pedantic -D_FORTIFY_SOURCE=2 -Wpointer-arith -Wstrict-prototypes -fstack-protector -Wstack-protector -Wextra -Wbad-function-cast -Wcast-align -Wcast-qual -Wdisabled-optimization -Wendif-labels -Wfloat-equal -Wformat-nonliteral -Winline -Wmissing-declarations -Wmissing-prototypes -Wnested-externs -Wpointer-arith -Wundef -Wformat-security -ftree-vectorize -fassociative-math -ftree-vectorizer-verbose=2 -fno-strict-aliasing -I/usr/local/include -D_LARGEFILE_SOURCE -D_FILE_OFFSET_BITS=64',
    optimize='-O2',
    cppflags='-D_REENTRANT -D_GNU_SOURCE -O2 -W -Wformat=2 -Wswitch -Wshadow -Wwrite-strings -Wuninitialized -Wall -pipe -mtune=native -march=native -fomit-frame-pointer -msse2 -msse -mmmx -mfpmath=sse -pedantic -D_FORTIFY_SOURCE=2 -Wpointer-arith -Wstrict-prototypes -fstack-protector -Wstack-protector -Wextra -Wbad-function-cast -Wcast-align -Wcast-qual -Wdisabled-optimization -Wendif-labels -Wfloat-equal -Wformat-nonliteral -Winline -Wmissing-declarations -Wmissing-prototypes -Wnested-externs -Wpointer-arith -Wundef -Wformat-security -ftree-vectorize -fassociative-math -ftree-vectorizer-verbose=2 -fno-strict-aliasing -I/usr/local/include'
    ccversion='', gccversion='4.7.2', gccosandvers=''
    intsize=4, longsize=8, ptrsize=8, doublesize=8, byteorder=12345678
    d_longlong=define, longlongsize=8, d_longdbl=define, longdblsize=16
    ivtype='long', ivsize=8, nvtype='double', nvsize=8, Off_t='off_t', lseeksize=8
    alignbytes=8, prototype=define
  Linker and Libraries:
    ld='cc', ldflags =' -fstack-protector -L/usr/local/lib'
    libpth=/usr/local/lib /lib/x86_64-linux-gnu /lib/../lib /usr/lib/x86_64-linux-gnu /usr/lib/../lib /lib /usr/lib
    libs=-lnsl -lgdbm -ldb -ldl -lm -lcrypt -lutil -lpthread -lc -lgdbm_compat
    perllibs=-lnsl -ldl -lm -lcrypt -lutil -lpthread -lc
    libc=, so=so, useshrplib=false, libperl=libperl.a
    gnulibc_version='2.13'
  Dynamic Linking:
    dlsrc=dl_dlopen.xs, dlext=so, d_dlsymun=undef, ccdlflags='-Wl,-E'
    cccdlflags='-fPIC', lddlflags='-shared -O2 -L/usr/local/lib -fstack-protector'


Characteristics of this binary (from libperl): 
  Compile-time options: MULTIPLICITY PERL_DONT_CREATE_GVSV
                        PERL_IMPLICIT_CONTEXT PERL_MALLOC_WRAP
                        PERL_PRESERVE_IVUV USE_64_BIT_ALL USE_64_BIT_INT
                        USE_ITHREADS USE_LARGE_FILES USE_PERLIO USE_PERL_ATOF
                        USE_REENTRANT_API
  Built under linux
  Compiled at Mar 18 2013 16:05:13
  %ENV:
    PERL5LIB="/home/njh/.cpan/build/Text-vCard-Precisely-0.04-11/blib/arch:/home/njh/.cpan/build/Text-vCard-Precisely-0.04-11/blib/lib:/home/njh/.cpan/build/Unicode-LineBreak-2017.004-33/blib/arch:/home/njh/.cpan/build/Unicode-LineBreak-2017.004-33/blib/lib:/home/njh/.cpan/build/MooseX-Types-Email-0.007-0/blib/arch:/home/njh/.cpan/build/MooseX-Types-Email-0.007-0/blib/lib:/home/njh/.cpan/build/MooseX-Types-DateTime-0.13-0/blib/arch:/home/njh/.cpan/build/MooseX-Types-DateTime-0.13-0/blib/lib:/home/njh/.cpan/build/MooseX-Deprecated-0.005-1/blib/arch:/home/njh/.cpan/build/MooseX-Deprecated-0.005-1/blib/lib:/home/njh/.cpan/build/Devel-Callsite-0.10-1/blib/arch:/home/njh/.cpan/build/Devel-Callsite-0.10-1/blib/lib"
    PERL5OPT=""
    PERL5_CPANPLUS_IS_RUNNING="20250"
    PERL5_CPAN_IS_RUNNING="20250"
    PERLBREW_BASHRC_VERSION="0.73"
    PERLBREW_HOME="/home/njh/.perlbrew"
    PERLBREW_LIB=""
    PERLBREW_MANPATH="/home/njh/perl5/perlbrew/perls/perl-5.14.0/man"
    PERLBREW_PATH="/home/njh/perl5/perlbrew/bin:/home/njh/perl5/perlbrew/perls/perl-5.14.0/bin"
    PERLBREW_PERL="perl-5.14.0"
    PERLBREW_ROOT="/home/njh/perl5/perlbrew"
    PERLBREW_VERSION="0.73"
    PERL_LOCAL_LIB_ROOT=""
  @INC:
    /home/njh/.cpan/build/Text-vCard-Precisely-0.04-11/blib/arch
    /home/njh/.cpan/build/Text-vCard-Precisely-0.04-11/blib/lib
    /home/njh/.cpan/build/Unicode-LineBreak-2017.004-33/blib/arch
    /home/njh/.cpan/build/Unicode-LineBreak-2017.004-33/blib/lib
    /home/njh/.cpan/build/MooseX-Types-Email-0.007-0/blib/arch
    /home/njh/.cpan/build/MooseX-Types-Email-0.007-0/blib/lib
    /home/njh/.cpan/build/MooseX-Types-DateTime-0.13-0/blib/arch
    /home/njh/.cpan/build/MooseX-Types-DateTime-0.13-0/blib/lib
    /home/njh/.cpan/build/MooseX-Deprecated-0.005-1/blib/arch
    /home/njh/.cpan/build/MooseX-Deprecated-0.005-1/blib/lib
    /home/njh/.cpan/build/Devel-Callsite-0.10-1/blib/arch
    /home/njh/.cpan/build/Devel-Callsite-0.10-1/blib/lib
    /home/njh/perl5/perlbrew/perls/perl-5.14.0/lib/site_perl/5.14.0/x86_64-linux-thread-multi
    /home/njh/perl5/perlbrew/perls/perl-5.14.0/lib/site_perl/5.14.0
    /home/njh/perl5/perlbrew/perls/perl-5.14.0/lib/5.14.0/x86_64-linux-thread-multi
    /home/njh/perl5/perlbrew/perls/perl-5.14.0/lib/5.14.0
    .