YAML-Syck v1.31 Perl 5 v5.8.8 x86_64-linux
- Status
- Pass
- From
- Nigel Horne
- Dist
-
YAML-Syck v1.31
- Platform
- Perl 5 v5.8.8 x86_64-linux
- Date
- 2018-12-16 20:17:29
- ID
- 9d019642-016f-11e9-afbf-aec3b07506ca
This distribution has been tested as part of the CPAN Testers
project, supporting the Perl programming language. See
http://wiki.cpantesters.org/ for more information or email
questions to cpan-testers-discuss@perl.org
--
Dear Todd Rinaldo,
This is a computer-generated report for YAML-Syck-1.31
on perl 5.8.8, created by CPAN-Reporter-1.2018.
Thank you for uploading your work to CPAN. Congratulations!
All tests were successful.
Sections of this report:
* Tester comments
* Program output
* Prerequisites
* Environment and other context
------------------------------
TESTER COMMENTS
------------------------------
Additional comments from tester:
none provided
------------------------------
PROGRAM OUTPUT
------------------------------
Output from '/usr/bin/make test':
"/home/njh/perl5/perlbrew/perls/perl-5.8.8-clang/bin/perl5.8.8" -MExtUtils::Command::MM -e 'cp_nonempty' -- Syck.bs blib/arch/auto/YAML/Syck/Syck.bs 644
PERL_DL_NONLAZY=1 "/home/njh/perl5/perlbrew/perls/perl-5.8.8-clang/bin/perl5.8.8" "-MExtUtils::Command::MM" "-MTest::Harness" "-e" "undef *Test::Harness::Switches; test_harness(0, 'blib/lib', 'blib/arch')" t/*.t
t/1-basic.t ................. ok
t/11-loadfile.t ............. ok
t/12-dumpfile.t ............. ok
t/json-circular-ref.t ....... ok
t/json-crlf.t ............... ok
t/4-perl_tag_scheme.t ....... ok
t/json-dumpinto.t ........... ok
t/3-objects.t ............... ok
t/json-empty.t .............. ok
t/json-indent.t ............. ok
t/json-newline.t ............ ok
t/json-minus.t .............. ok
t/json-null.t ............... ok
t/json-loadfile.t ........... ok
t/json-refs.t ............... ok
t/2-scalars.t ............... ok
t/json-singlequote.t ........ ok
t/json-basic.t .............. ok
t/leak.t .................... ok
t/manifest.t ................ skipped: Author tests not required for installation
t/json-numbers.t ............ ok
t/load-blessed.t ............ ok
t/meta.t .................... ok
t/yaml-alias.t .............. ok
t/yaml-dumpinto.t ........... ok
t/yaml-blessed-ref.t ........ ok
t/yaml-implicit-warnings.t .. ok
t/yaml-tie.t ................ ok
t/yaml-utf.t ................ ok
t/yaml-str-colon-first.t .... ok
All tests successful.
Files=30, Tests=620, 0 wallclock secs ( 0.09 usr 0.03 sys + 0.88 cusr 0.16 csys = 1.16 CPU)
Result: PASS
------------------------------
PREREQUISITES
------------------------------
Prerequisite modules loaded:
requires:
Module Need Have
------------------- ----- --------
perl 5.006 5.008008
build_requires:
Module Need Have
------------------- ----- --------
Test::More 0 1.302141
configure_requires:
Module Need Have
------------------- ----- --------
ExtUtils::MakeMaker 0 7.34
------------------------------
ENVIRONMENT AND OTHER CONTEXT
------------------------------
Environment variables:
HARNESS_OPTIONS = j10:c
LANG = en_GB.UTF-8
LD_LIBRARY_PATH = /usr/local/lib::
NONINTERACTIVE_TESTING = 1
PATH = /home/njh/perl5/perlbrew/bin:/home/njh/perl5/perlbrew/perls/perl-5.8.8-clang/bin:/usr/local/bin:/usr/bin:/bin:/usr/local/games:/usr/games:/home/njh/bin
PERL5LIB =
PERL5OPT =
PERL5_CPANPLUS_IS_RUNNING = 8914
PERL5_CPAN_IS_RUNNING = 8914
PERLBREW_HOME = /home/njh/.perlbrew
PERLBREW_MANPATH = /home/njh/perl5/perlbrew/perls/perl-5.8.8-clang/man
PERLBREW_PATH = /home/njh/perl5/perlbrew/bin:/home/njh/perl5/perlbrew/perls/perl-5.8.8-clang/bin
PERLBREW_PERL = perl-5.8.8-clang
PERLBREW_ROOT = /home/njh/perl5/perlbrew
PERLBREW_SHELLRC_VERSION = 0.84
PERLBREW_VERSION = 0.84
PERL_MM_USE_DEFAULT = 1
SHELL = /bin/bash
TEMP = /tmp/user/1000
TERM = xterm
TMPDIR = /tmp/user/1000
Perl special variables (and OS-specific diagnostics, for MSWin32):
$^X = /home/njh/perl5/perlbrew/perls/perl-5.8.8-clang/bin/perl5.8.8
$UID/$EUID = 1000 / 1000
$GID = 1000 1000 996 118 112 107 46 44 30 29 25 24 4
$EGID = 1000 1000 996 118 112 107 46 44 30 29 25 24 4
Perl module toolchain versions installed:
Module Have
------------------- --------
CPAN 2.16
CPAN::Meta 2.143240
Cwd 3.75
ExtUtils::CBuilder n/a
ExtUtils::Command 7.34
ExtUtils::Install 2.06
ExtUtils::MakeMaker 7.34
ExtUtils::Manifest 1.70
ExtUtils::ParseXS n/a
File::Spec 3.75
JSON n/a
JSON::PP 2.27203
Module::Build n/a
Module::Signature n/a
Parse::CPAN::Meta 1.4414
Test::Harness 3.42
Test::More 1.302141
YAML 1.27
YAML::Syck n/a
version 0.9924
--
Summary of my perl5 (revision 5 version 8 subversion 8) configuration:
Platform:
osname=linux, osvers=4.18.0-3-amd64, archname=x86_64-linux
uname='linux microcenter 4.18.0-3-amd64 #1 smp debian 4.18.20-2 (2018-11-23) x86_64 gnulinux '
config_args='-de -Dprefix=/home/njh/perl5/perlbrew/perls/perl-5.8.8-clang -Dusedevel -Dcc=clang -Accflags= -Aeval:scriptdir=/home/njh/perl5/perlbrew/perls/perl-5.8.8-clang/bin'
hint=recommended, useposix=true, d_sigaction=define
usethreads=undef use5005threads=undef useithreads=undef usemultiplicity=undef
useperlio=define d_sfio=undef uselargefiles=define usesocks=undef
use64bitint=define use64bitall=define uselongdouble=undef
usemymalloc=n, bincompat5005=undef
Compiler:
cc='clang', ccflags ='-fno-strict-aliasing -pipe -Wdeclaration-after-statement -I/usr/local/include -D_LARGEFILE_SOURCE -D_FILE_OFFSET_BITS=64',
optimize='-O2',
cppflags='-fno-strict-aliasing -pipe -Wdeclaration-after-statement -I/usr/local/include'
ccversion='', gccversion='4.2.1 Compatible Clang 6.0.1 (tags/RELEASE_601/final)', gccosandvers=''
intsize=4, longsize=8, ptrsize=8, doublesize=8, byteorder=12345678
d_longlong=define, longlongsize=8, d_longdbl=define, longdblsize=16
ivtype='long', ivsize=8, nvtype='double', nvsize=8, Off_t='off_t', lseeksize=8
alignbytes=8, prototype=define
Linker and Libraries:
ld='clang', ldflags =' -L/usr/local/lib'
libpth=/usr/local/lib /lib/x86_64-linux-gnu /lib/../lib /usr/lib/x86_64-linux-gnu /usr/lib/../lib /lib /usr/lib
libs=-lnsl -lgdbm -ldb -ldl -lm -lcrypt -lutil -lc
perllibs=-lnsl -ldl -lm -lcrypt -lutil -lc
libc=libc-2.27.so, so=so, useshrplib=false, libperl=libperl.a
gnulibc_version='2.27'
Dynamic Linking:
dlsrc=dl_dlopen.xs, dlext=so, d_dlsymun=undef, ccdlflags='-Wl,-E'
cccdlflags='-fpic', lddlflags='-shared -L/usr/local/lib'
Characteristics of this binary (from libperl):
Compile-time options: PERL_MALLOC_WRAP USE_64_BIT_ALL USE_64_BIT_INT
USE_LARGE_FILES USE_PERLIO
Built under linux
Compiled at Dec 12 2018 01:23:03
%ENV:
PERL5LIB=""
PERL5OPT=""
PERL5_CPANPLUS_IS_RUNNING="8914"
PERL5_CPAN_IS_RUNNING="8914"
PERLBREW_HOME="/home/njh/.perlbrew"
PERLBREW_MANPATH="/home/njh/perl5/perlbrew/perls/perl-5.8.8-clang/man"
PERLBREW_PATH="/home/njh/perl5/perlbrew/bin:/home/njh/perl5/perlbrew/perls/perl-5.8.8-clang/bin"
PERLBREW_PERL="perl-5.8.8-clang"
PERLBREW_ROOT="/home/njh/perl5/perlbrew"
PERLBREW_SHELLRC_VERSION="0.84"
PERLBREW_VERSION="0.84"
PERL_MM_USE_DEFAULT="1"
@INC:
/home/njh/perl5/perlbrew/perls/perl-5.8.8-clang/lib/5.8.8/x86_64-linux
/home/njh/perl5/perlbrew/perls/perl-5.8.8-clang/lib/5.8.8
/home/njh/perl5/perlbrew/perls/perl-5.8.8-clang/lib/site_perl/5.8.8/x86_64-linux
/home/njh/perl5/perlbrew/perls/perl-5.8.8-clang/lib/site_perl/5.8.8
/home/njh/perl5/perlbrew/perls/perl-5.8.8-clang/lib/site_perl
.