Back
From: metabase:user:0d96120c-29e2-11e5-b049-ede3035d37de
Subject: PASS Soar-Production-0.03 v5.18.4 GNU/Linux
Date: 2015-07-23T10:00:14Z
This distribution has been tested as part of the CPAN Testers
project, supporting the Perl programming language. See
http://wiki.cpantesters.org/ for more information or email
questions to cpan-testers-discuss@perl.org
--
Dear Nathan Gary Glenn,
This is a computer-generated report for Soar-Production-0.03
on perl 5.18.4, created by CPAN-Reporter-1.2014.
Thank you for uploading your work to CPAN. Congratulations!
All tests were successful.
Sections of this report:
* Tester comments
* Program output
* Prerequisites
* Environment and other context
------------------------------
TESTER COMMENTS
------------------------------
Additional comments from tester:
this report is from an automated smoke testing program
and was not reviewed by a human for accuracy
------------------------------
PROGRAM OUTPUT
------------------------------
Output from './Build test':
t/0-use.t ........................ ok
t/00-compile.t ................... ok
#
#
# Generated by Dist::Zilla::Plugin::ReportVersions::Tiny v1.08
# perl: 5.018004 (wanted 5.010) on linux from /data/perl5/perlbrew/perls/perl-5.18.4-ld/bin/perl
#
# Carp => 1.29 (want any version)
# Data::Diver => 1.0101 (want any version)
# Data::Dumper => 2.145 (want any version)
# Exporter::Easy => 0.17 (want any version)
# File::Find => 1.23 (want any version)
# File::Spec => 3.40 (want any version)
# File::Spec::Functions => 3.40 (want any version)
# File::Temp => 0.23 (want any version)
# FindBin => 1.51 (want any version)
# Module::Build => 0.4214 (want 0.3601)
# Parse::RecDescent => 1.967009 (want any version)
# Path::Tiny => 0.070 (want any version)
# Pod::Coverage::TrustPod => 0.100003 (want any version)
# Test::Base => 0.88 (want any version)
# Test::Base::Filter => <undef> (want any version)
# Test::CPAN::Meta => 0.25 (want any version)
# Test::Deep => 0.117 (want any version)
# Test::Exception => 0.40 (want any version)
# Test::LongString => 0.17 (want any version)
# Test::More => 1.001014 (want 0.88)
# Test::Pod => 1.51 (want 1.41)
# Test::Pod::Coverage => module not found. (want 1.08)
# Test::Warn => 0.30 (want any version)
# strict => 1.07 (want any version)
# utf8 => 1.10 (want any version)
# version => 0.9912 (want 0.9901)
# warnings => 1.18 (want any version)
#
# Thanks for using my code. I hope it works for you.
# If not, please try and include this output in the bug report.
# That will help me reproduce the issue and solve your problem.
#
t/000-report-versions-tiny.t ..... ok
t/1-basic.t ...................... ok
t/parser/00-use.t ................ ok
t/parser/01-bad_input.t .......... ok
t/parser/01_5-comments.t ......... ok
t/parser/02-split-productions.t .. ok
t/parser/03-production-names.t ... ok
t/parser/04-documentation.t ...... ok
t/parser/05-Flags.t .............. ok
t/parser/06-State.t .............. ok
t/parser/07-variables.t .......... ok
t/parser/08-attributes.t ......... ok
t/parser/09-int.t ................ ok
t/parser/10-float.t .............. ok
t/parser/11-string.t ............. ok
t/parser/12-quoted.t ............. ok
t/parser/13-disjunct.t ........... ok
t/parser/14-conjunct.t ........... ok
t/parser/15-predicate.t .......... ok
t/parser/16-preference.t ......... ok
t/parser/17-function.t ........... ok
t/parser/18-negative.t ........... ok
t/parser/19-conjunctiveCond.t .... ok
t/parser/20-test_data.t .......... ok
t/printer/0-use.t ................ ok
t/printer/1-test_data.t .......... ok
All tests successful.
Files=28, Tests=1816, 45 wallclock secs ( 0.39 usr 0.04 sys + 44.34 cusr 0.40 csys = 45.17 CPU)
Result: PASS
------------------------------
PREREQUISITES
------------------------------
Prerequisite modules loaded:
requires:
Module Need Have
--------------------- ------ --------
Carp 0 1.29
Data::Dumper 0 2.145
Exporter::Easy 0 0.17
Parse::RecDescent 0 1.967009
perl 5.010 5.018004
strict 0 1.07
warnings 0 1.18
build_requires:
Module Need Have
--------------------- ------ --------
Data::Diver 0 1.0101
File::Find 0 1.23
File::Spec 0 3.40
File::Spec::Functions 0 3.40
File::Temp 0 0.23
FindBin 0 1.51
Module::Build 0.3601 0.4214
Path::Tiny 0 0.070
Test::Base 0 0.88
Test::Base::Filter 0 0
Test::Deep 0 0.117
Test::Exception 0 0.40
Test::LongString 0 0.17
Test::More 0.88 1.001014
Test::Warn 0 0.30
utf8 0 1.10
configure_requires:
Module Need Have
--------------------- ------ --------
Module::Build 0.3601 0.4214
------------------------------
ENVIRONMENT AND OTHER CONTEXT
------------------------------
Environment variables:
AUTOMATED_TESTING = 1
LANG = en_US.UTF-8
NONINTERACTIVE_TESTING = 1
PATH = /home/perltest/sysperl/bin:/home/perltest/perl5/perlbrew/bin:/home/perltest/perl5/perlbrew/perls/perl-5.18.4-ld/bin:/home/perltest/perltest/bin:/home/perltest/perl5/perlbrew/bin:/home/perltest/perl5/perlbrew/perls/perl-5.18.4-ld/bin:/usr/local/sbin:/usr/local/bin:/usr/sbin:/usr/bin:/sbin:/bin:/usr/games:/usr/local/games:/home/perltest/perltest/bin
PERL5LIB = /home/perltest/.cpan/build/Exporter-Easy-0.17-mY4KIE/blib/arch:/home/perltest/.cpan/build/Exporter-Easy-0.17-mY4KIE/blib/lib:/home/perltest/.cpan/build/Data-Diver-1.0101-wm03Of/blib/arch:/home/perltest/.cpan/build/Data-Diver-1.0101-wm03Of/blib/lib:/home/perltest/sysperl/lib/perl5
PERL5OPT =
PERL5_CPANPLUS_IS_RUNNING = 18009
PERL5_CPAN_IS_RUNNING = 18009
PERL5_CPAN_IS_RUNNING_IN_RECURSION = 2484,18009
PERLBREW_BASHRC_VERSION = 0.73
PERLBREW_HOME = /home/perltest/.perlbrew
PERLBREW_LIB =
PERLBREW_MANPATH = /home/perltest/perl5/perlbrew/perls/perl-5.18.4-ld/man
PERLBREW_PATH = /home/perltest/perl5/perlbrew/bin:/home/perltest/perl5/perlbrew/perls/perl-5.18.4-ld/bin
PERLBREW_PERL = perl-5.18.4-ld
PERLBREW_ROOT = /home/perltest/perl5/perlbrew
PERLBREW_VERSION = 0.73
PERL_CR_SMOKER_CURRENT = Soar-Production-0.03
PERL_EXTUTILS_AUTOINSTALL = --defaultdeps
PERL_LOCAL_LIB_ROOT = /home/perltest/sysperl:
PERL_MB_OPT = --install_base "//home/perltest/sysperl"
PERL_MM_OPT = INSTALL_BASE=/home/perltest/sysperl
PERL_MM_USE_DEFAULT = 1
SHELL = /bin/bash
TERM = screen
Perl special variables (and OS-specific diagnostics, for MSWin32):
$^X = /data/perl5/perlbrew/perls/perl-5.18.4-ld/bin/perl
$UID/$EUID = 2000 / 2000
$GID = 2000 2000
$EGID = 2000 2000
Perl module toolchain versions installed:
Module Have
------------------- --------
CPAN 2.00
CPAN::Meta 2.150005
Cwd 3.40
ExtUtils::CBuilder 0.280210
ExtUtils::Command 1.17
ExtUtils::Install 1.59
ExtUtils::MakeMaker 7.04
ExtUtils::Manifest 1.70
ExtUtils::ParseXS 3.18
File::Spec 3.40
JSON 2.90
JSON::PP 2.27203
Module::Build 0.4214
Module::Signature n/a
Parse::CPAN::Meta 1.4417
Test::Harness 3.35
Test::More 1.001014
YAML 1.15
YAML::Syck n/a
version 0.9912
--
Summary of my perl5 (revision 5 version 18 subversion 4) configuration:
Platform:
osname=linux, osvers=3.19.0-18-generic, archname=x86_64-linux-ld
uname='linux perltest.antelope.net 3.19.0-18-generic #18-ubuntu smp tue may 19 18:31:35 utc 2015 x86_64 x86_64 x86_64 gnulinux '
config_args='-de -Dprefix=/home/perltest/perl5/perlbrew/perls/perl-5.18.4-ld -Duselongdouble -Aeval:scriptdir=/home/perltest/perl5/perlbrew/perls/perl-5.18.4-ld/bin'
hint=recommended, useposix=true, d_sigaction=define
useithreads=undef, usemultiplicity=undef
useperlio=define, d_sfio=undef, uselargefiles=define, usesocks=undef
use64bitint=define, use64bitall=define, uselongdouble=define
usemymalloc=n, bincompat5005=undef
Compiler:
cc='cc', ccflags ='-fno-strict-aliasing -pipe -fstack-protector -I/usr/local/include -D_LARGEFILE_SOURCE -D_FILE_OFFSET_BITS=64',
optimize='-O2',
cppflags='-fno-strict-aliasing -pipe -fstack-protector -I/usr/local/include'
ccversion='', gccversion='4.9.2', gccosandvers=''
intsize=4, longsize=8, ptrsize=8, doublesize=8, byteorder=12345678
d_longlong=define, longlongsize=8, d_longdbl=define, longdblsize=16
ivtype='long', ivsize=8, nvtype='long double', nvsize=16, Off_t='off_t', lseeksize=8
alignbytes=16, prototype=define
Linker and Libraries:
ld='cc', ldflags =' -fstack-protector -L/usr/local/lib'
libpth=/usr/local/lib /lib/x86_64-linux-gnu /lib/../lib /usr/lib/x86_64-linux-gnu /usr/lib/../lib /lib /usr/lib
libs=-lnsl -ldb -ldl -lm -lcrypt -lutil -lc
perllibs=-lnsl -ldl -lm -lcrypt -lutil -lc
libc=libc-2.21.so, so=so, useshrplib=false, libperl=libperl.a
gnulibc_version='2.21'
Dynamic Linking:
dlsrc=dl_dlopen.xs, dlext=so, d_dlsymun=undef, ccdlflags='-Wl,-E'
cccdlflags='-fPIC', lddlflags='-shared -O2 -L/usr/local/lib -fstack-protector'
Characteristics of this binary (from libperl):
Compile-time options: HAS_TIMES PERLIO_LAYERS PERL_DONT_CREATE_GVSV
PERL_HASH_FUNC_ONE_AT_A_TIME_HARD PERL_MALLOC_WRAP
PERL_PRESERVE_IVUV PERL_SAWAMPERSAND USE_64_BIT_ALL
USE_64_BIT_INT USE_LARGE_FILES USE_LOCALE
USE_LOCALE_COLLATE USE_LOCALE_CTYPE
USE_LOCALE_NUMERIC USE_LONG_DOUBLE USE_PERLIO
USE_PERL_ATOF
Locally applied patches:
Devel::PatchPerl 1.38
Built under linux
Compiled at Jul 19 2015 22:40:37
%ENV:
PERL5LIB="/home/perltest/.cpan/build/Exporter-Easy-0.17-mY4KIE/blib/arch:/home/perltest/.cpan/build/Exporter-Easy-0.17-mY4KIE/blib/lib:/home/perltest/.cpan/build/Data-Diver-1.0101-wm03Of/blib/arch:/home/perltest/.cpan/build/Data-Diver-1.0101-wm03Of/blib/lib:/home/perltest/sysperl/lib/perl5"
PERL5OPT=""
PERL5_CPANPLUS_IS_RUNNING="18009"
PERL5_CPAN_IS_RUNNING="18009"
PERL5_CPAN_IS_RUNNING_IN_RECURSION="2484,18009"
PERLBREW_BASHRC_VERSION="0.73"
PERLBREW_HOME="/home/perltest/.perlbrew"
PERLBREW_LIB=""
PERLBREW_MANPATH="/home/perltest/perl5/perlbrew/perls/perl-5.18.4-ld/man"
PERLBREW_PATH="/home/perltest/perl5/perlbrew/bin:/home/perltest/perl5/perlbrew/perls/perl-5.18.4-ld/bin"
PERLBREW_PERL="perl-5.18.4-ld"
PERLBREW_ROOT="/home/perltest/perl5/perlbrew"
PERLBREW_VERSION="0.73"
PERL_CR_SMOKER_CURRENT="Soar-Production-0.03"
PERL_EXTUTILS_AUTOINSTALL="--defaultdeps"
PERL_LOCAL_LIB_ROOT="/home/perltest/sysperl:"
PERL_MB_OPT="--install_base "//home/perltest/sysperl""
PERL_MM_OPT="INSTALL_BASE=/home/perltest/sysperl"
PERL_MM_USE_DEFAULT="1"
@INC:
/home/perltest/.cpan/build/Exporter-Easy-0.17-mY4KIE/blib/arch
/home/perltest/.cpan/build/Exporter-Easy-0.17-mY4KIE/blib/lib
/home/perltest/.cpan/build/Data-Diver-1.0101-wm03Of/blib/arch
/home/perltest/.cpan/build/Data-Diver-1.0101-wm03Of/blib/lib
/home/perltest/sysperl/lib/perl5/x86_64-linux-ld
/home/perltest/sysperl/lib/perl5
/home/perltest/perl5/perlbrew/perls/perl-5.18.4-ld/lib/site_perl/5.18.4/x86_64-linux-ld
/home/perltest/perl5/perlbrew/perls/perl-5.18.4-ld/lib/site_perl/5.18.4
/home/perltest/perl5/perlbrew/perls/perl-5.18.4-ld/lib/5.18.4/x86_64-linux-ld
/home/perltest/perl5/perlbrew/perls/perl-5.18.4-ld/lib/5.18.4
.