MooseX-MethodAttributes v0.32 Perl 5 v5.35.6 OpenBSD.amd64-openbsd-thread-multi
- Status
- Pass
- From
- Carlos Guevara
- Dist
-
MooseX-MethodAttributes v0.32
- Platform
- Perl 5 v5.35.6 OpenBSD.amd64-openbsd-thread-multi
- Date
- 2021-11-03 09:44:18
- ID
- 9d3d3b1c-3c8a-11ec-a2b0-41f1346e175f
This distribution has been tested as part of the CPAN Testers
project, supporting the Perl programming language. See
http://wiki.cpantesters.org/ for more information or email
questions to cpan-testers-discuss@perl.org
--
Dear Karen Etheridge,
This is a computer-generated report for MooseX-MethodAttributes-0.32
on perl 5.35.6, created by CPAN-Reporter-1.2018.
Thank you for uploading your work to CPAN. Congratulations!
All tests were successful.
Sections of this report:
* Tester comments
* Program output
* Prerequisites
* Environment and other context
------------------------------
TESTER COMMENTS
------------------------------
Additional comments from tester:
this report is from an automated smoke testing program
and was not reviewed by a human for accuracy
------------------------------
PROGRAM OUTPUT
------------------------------
Output from '/usr/bin/make test':
PERL_DL_NONLAZY=1 "/home/cpan/bin/perl-blead/bin/perl5.35.6" "-MExtUtils::Command::MM" "-MTest::Harness" "-e" "undef *Test::Harness::Switches; test_harness(0, 'blib/lib', 'blib/arch')" t/*.t
#
# Versions for all modules listed in MYMETA.json (including optional ones):
#
# === Configure Requires ===
#
# Module Want Have
# ------------------- ---- ----
# ExtUtils::MakeMaker any 7.62
#
# === Build Requires ===
#
# Module Want Have
# ------------------- ---- ----
# ExtUtils::MakeMaker any 7.62
#
# === Test Requires ===
#
# Module Want Have
# --------------------------- ---- --------
# ExtUtils::MakeMaker any 7.62
# File::Spec any 3.81
# Moose::Meta::Class any 2.2200
# MooseX::Role::Parameterized any 1.11
# Test::Fatal any 0.016
# Test::More 0.88 1.302188
# Test::Needs any 0.002009
# base any 2.27
# lib any 0.65
# strict any 1.12
# warnings any 1.55
#
# === Test Recommends ===
#
# Module Want Have
# ---------- -------- --------
# CPAN::Meta 2.120900 2.150010
#
# === Runtime Requires ===
#
# Module Want Have
# --------------------- ---- ------
# Carp any 1.52
# Moose any 2.2200
# Moose::Exporter any 2.2200
# Moose::Role any 2.2200
# Moose::Util any 2.2200
# Moose::Util::MetaRole any 2.2200
# namespace::autoclean 0.08 0.29
#
# === Other Modules ===
#
# Module Have
# ----------------- -------
# Catalyst::Runtime missing
# Encode 3.16
# File::Temp 0.2311
# JSON::PP 4.06
# Module::Runtime 0.016
# Pod::Coverage 0.23
# Sub::Name 0.26
# YAML 1.30
# autodie 2.34
#
t/00-report-prereqs.t .................. ok
t/basic.t .............................. ok
t/calling.t ............................ ok
t/catalyst.t ........................... ok
t/catalyst_role.t ...................... ok
t/catalyst_role_method_exclusion.t ..... ok
t/catalyst_role_preexist_methods.t ..... ok
t/inherited.t .......................... ok
t/inherited_non_moose_multilevel.t ..... ok
t/late_reinitialize.t .................. ok
t/multiple_roles.t ..................... ok
t/multiple_roles_astrait.t ............. ok
t/override_method_with_no_attribute.t .. ok
t/param_role.t ......................... ok
t/role.t ............................... ok
t/role_applied.t ....................... ok
t/role_comp.t .......................... ok
t/role_in_role.t ....................... ok
t/role_in_role_more.t .................. ok
t/role_method_conflict_detection.t ..... ok
t/role_with_anon_class.t ............... ok
t/zzz-check-breaks.t ................... ok
All tests successful.
Test Summary Report
-------------------
t/late_reinitialize.t (Wstat: 0 Tests: 10 Failed: 0)
TODO passed: 1-10
Files=22, Tests=144, 16 wallclock secs ( 0.10 usr 0.13 sys + 12.89 cusr 2.57 csys = 15.69 CPU)
Result: PASS
------------------------------
PREREQUISITES
------------------------------
Prerequisite modules loaded:
requires:
Module Need Have
--------------------------- ----- --------
Carp 0 1.52
Moose 0 2.2200
Moose::Exporter 0 2.2200
Moose::Role 0 2.2200
Moose::Util 0 2.2200
Moose::Util::MetaRole 0 2.2200
namespace::autoclean 0.08 0.29
perl 5.006 5.035006
build_requires:
Module Need Have
--------------------------- ----- --------
base 0 2.27
ExtUtils::MakeMaker 0 7.62
File::Spec 0 3.81
lib 0 0.65
Moose::Meta::Class 0 2.2200
MooseX::Role::Parameterized 0 1.11
strict 0 1.12
Test::Fatal 0 0.016
Test::More 0.88 1.302188
Test::Needs 0 0.002009
warnings 0 1.55
configure_requires:
Module Need Have
--------------------------- ----- --------
ExtUtils::MakeMaker 0 7.62
perl 5.006 5.035006
------------------------------
ENVIRONMENT AND OTHER CONTEXT
------------------------------
Environment variables:
AUTOMATED_TESTING = 1
DATE_MANIP_TEST_DM5 = 1
LC_ALL = C
NONINTERACTIVE_TESTING = 1
PATH = /home/cpan/bin/perl-blead/bin:/home/cpan/bin:/home/cpan/bin:/bin:/sbin:/usr/bin:/usr/sbin:/usr/X11R6/bin:/usr/local/bin:/usr/local/sbin:/usr/games
PERL5LIB =
PERL5OPT =
PERL5_CPANPLUS_IS_RUNNING = 9539
PERL5_CPAN_IS_RUNNING = 9539
PERL_MM_USE_DEFAULT = 1
PERL_USE_UNSAFE_INC = 1
PERL_VERSION = blead
SHELL = /usr/local/bin/bash
TERM = screen
TMPDIR = /home/cpan/tmp
Perl special variables (and OS-specific diagnostics, for MSWin32):
$^X = /home/cpan/bin/perl-blead/bin/perl5.35.6
$UID/$EUID = 1001 / 1001
$GID = 1001 1001
$EGID = 1001 1001
Perl module toolchain versions installed:
Module Have
------------------- --------
CPAN 2.28
CPAN::Meta 2.150010
Cwd 3.82
ExtUtils::CBuilder 0.280236
ExtUtils::Command 7.62
ExtUtils::Install 2.20
ExtUtils::MakeMaker 7.62
ExtUtils::Manifest 1.73
ExtUtils::ParseXS 3.44
File::Spec 3.81
JSON 4.03
JSON::PP 4.06
Module::Build 0.4231
Module::Signature n/a
Parse::CPAN::Meta 2.150010
Test::Harness 3.43
Test::More 1.302188
YAML 1.30
YAML::Syck n/a
version 0.9929
--
Summary of my perl5 (revision 5 version 35 subversion 6) configuration:
Commit id: 4a1b9dd524007193213d3919d6a331109608b90c
Platform:
osname=openbsd
osvers=7.0
archname=OpenBSD.amd64-openbsd-thread-multi
uname='openbsd cjg-openbsd7 7.0 generic#1 amd64 '
config_args='-des -Dprefix=~/bin/perl-blead -Dscriptdir=~/bin/perl-blead/bin -Dusedevel -Duse64bitall -Duseithreads'
hint=recommended
useposix=true
d_sigaction=define
useithreads=define
usemultiplicity=define
use64bitint=define
use64bitall=define
uselongdouble=undef
usemymalloc=n
default_inc_excludes_dot=define
Compiler:
cc='cc'
ccflags ='-pthread -fno-strict-aliasing -pipe -fstack-protector-strong -I/usr/local/include'
optimize='-O2'
cppflags='-pthread -fno-strict-aliasing -pipe -fstack-protector-strong -I/usr/local/include'
ccversion=''
gccversion='OpenBSD Clang 11.1.0'
gccosandvers=''
intsize=4
longsize=8
ptrsize=8
doublesize=8
byteorder=12345678
doublekind=3
d_longlong=define
longlongsize=8
d_longdbl=define
longdblsize=16
longdblkind=3
ivtype='long'
ivsize=8
nvtype='double'
nvsize=8
Off_t='off_t'
lseeksize=8
alignbytes=8
prototype=define
Linker and Libraries:
ld='cc'
ldflags ='-pthread -Wl,-E -fstack-protector-strong -L/usr/local/lib'
libpth=/usr/lib /usr/local/lib
libs=-lpthread -lm -lutil -lc
perllibs=-lpthread -lm -lutil -lc
libc=/usr/lib/libc.so.96.1
so=so
useshrplib=false
libperl=libperl.a
gnulibc_version=''
Dynamic Linking:
dlsrc=dl_dlopen.xs
dlext=so
d_dlsymun=undef
ccdlflags=' '
cccdlflags='-DPIC -fPIC '
lddlflags='-shared -fPIC -L/usr/local/lib -fstack-protector-strong'
Characteristics of this binary (from libperl):
Compile-time options:
HAS_TIMES
MULTIPLICITY
PERLIO_LAYERS
PERL_COPY_ON_WRITE
PERL_DONT_CREATE_GVSV
PERL_MALLOC_WRAP
PERL_OP_PARENT
PERL_PRESERVE_IVUV
PERL_USE_DEVEL
USE_64_BIT_ALL
USE_64_BIT_INT
USE_ITHREADS
USE_LARGE_FILES
USE_LOCALE
USE_LOCALE_COLLATE
USE_LOCALE_CTYPE
USE_LOCALE_NUMERIC
USE_LOCALE_TIME
USE_PERLIO
USE_PERL_ATOF
USE_REENTRANT_API
Built under openbsd
Compiled at Nov 2 2021 21:35:25
%ENV:
PERL5LIB=""
PERL5OPT=""
PERL5_CPANPLUS_IS_RUNNING="9539"
PERL5_CPAN_IS_RUNNING="9539"
PERL_MM_USE_DEFAULT="1"
PERL_USE_UNSAFE_INC="1"
PERL_VERSION="blead"
@INC:
/home/cpan/bin/perl-blead/lib/site_perl/5.35.6/OpenBSD.amd64-openbsd-thread-multi
/home/cpan/bin/perl-blead/lib/site_perl/5.35.6
/home/cpan/bin/perl-blead/lib/5.35.6/OpenBSD.amd64-openbsd-thread-multi
/home/cpan/bin/perl-blead/lib/5.35.6
.