Devel-Cover-Report-Codecov v0.21 Perl 5 v5.18.4 x86_64-linux

Status
Pass
From
Slaven Rezić (SREZIC)
Dist
Devel-Cover-Report-Codecov v0.21
Platform
Perl 5 v5.18.4 x86_64-linux
Date
2017-10-01 05:51:48
ID
9d79bb68-a66c-11e7-afd7-c96b548bf269
This distribution has been tested as part of the CPAN Testers
project, supporting the Perl programming language.  See
http://wiki.cpantesters.org/ for more information or email
questions to cpan-testers-discuss@perl.org


--
Dear Pine Mizune,

This is a computer-generated report for Devel-Cover-Report-Codecov-0.21
on perl 5.18.4, created by CPAN-Reporter-1.2018.

Thank you for uploading your work to CPAN.  Congratulations!
All tests were successful.

Sections of this report:

    * Tester comments
    * Program output
    * Prerequisites
    * Environment and other context

------------------------------
TESTER COMMENTS
------------------------------

Additional comments from tester:

none provided

------------------------------
PROGRAM OUTPUT
------------------------------

Output from './Build test':

t/codecov/000_compile.t ...................... ok
t/codecov/get_codecov_json.t ................. ok
t/codecov/get_file_coverage.t ................ ok
t/codecov/get_file_lines.t ................... ok
t/codecov/get_file_realpath.t ................ ok
t/codecov/get_line_coverage.t ................ ok
t/codecov/get_query.t ........................ ok
t/codecov/get_request_url.t .................. ok
t/codecov/get_services.t ..................... ok
t/codecov/report.t ........................... ok
t/codecov/send_report.t ...................... ok
t/codecov/send_report_once.t ................. ok
t/codecov/service/appveyor/configuration.t ... ok
t/codecov/service/appveyor/detect.t .......... ok
t/codecov/service/drone/configuration.t ...... ok
t/codecov/service/drone/detect.t ............. ok
# git version 1.7.1
t/codecov/service/git/configuration.t ........ ok
t/codecov/service/git/detect.t ............... ok
t/codecov/service/git/fallback.t ............. ok
t/codecov/service/gitlab/configuration.t ..... ok
t/codecov/service/gitlab/detect.t ............ ok
t/codecov/service/magnum/detect.t ............ ok
t/codecov/service/mercurial/configuration.t .. ok
t/codecov/service/mercurial/detect.t ......... ok
t/codecov/service/mercurial/fallback.t ....... ok
t/codecov/service/semaphore/configuration.t .. ok
t/codecov/service/semaphore/detect.t ......... ok
t/codecov/service/shippable/configuration.t .. ok
t/codecov/service/shippable/detect.t ......... ok
t/codecov/service/travis/configuration.t ..... ok
t/codecov/service/travis/detect.t ............ ok
t/codecov/service/wercker/configuration.t .... ok
t/codecov/service/wercker/detect.t ........... ok
t/data/proj/t/00_compile.t ................... ok
t/data/proj/t/10_add.t ....................... ok
t/data/proj/t/10_div.t ....................... ok
t/data/proj_blib/t/00_compile.t .............. ok
t/data/proj_blib/t/10_add.t .................. ok
t/data/proj_blib/t/10_div.t .................. ok
All tests successful.
Files=39, Tests=69,  4 wallclock secs ( 0.07 usr  0.18 sys +  2.90 cusr  0.74 csys =  3.89 CPU)
Result: PASS

------------------------------
PREREQUISITES
------------------------------

Prerequisite modules loaded:

requires:

    Module              Need       Have      
    ------------------- ---------- ----------
    Capture::Tiny       0.30       0.46      
    Devel::Cover        0          1.27      
    Furl                3.07       3.11      
    IO::Socket::SSL     2.016      2.051     
    JSON::XS            3.01       3.04      
    Module::Find        0.13       0.13      
    perl                5.010000   5.018004  
    Sub::Retry          0.06       0.06      
    URI                 1.60       1.71      

build_requires:

    Module              Need       Have      
    ------------------- ---------- ----------
    Archive::Tar        2.04       2.26      
    Capture::Tiny       0.30       0.46      
    Cwd                 3.47       3.62      
    Cwd::Guard          0.04       0.05      
    Devel::Cover        1.20       1.27      
    File::Temp          0.2304     0.2304    
    File::Which         1.19       1.22      
    Perl::Critic        1.125      1.128     
    Test::Deep          0.117      1.127     
    Test::Exception     0.40       0.43      
    Test::Mock::Guard   0.10       0.10      
    Test::Mock::Time    v0.1.6     v0.1.6    
    Test::MockObject    1.20150527 1.20161202
    Test::More          1.001014   1.302096  
    Test::Perl::Critic  1.03       1.03      
    Test::Requires::Git 1.003      1.008     

configure_requires:

    Module              Need       Have      
    ------------------- ---------- ----------
    Module::Build::Tiny 0.035      0.039     


------------------------------
ENVIRONMENT AND OTHER CONTEXT
------------------------------

Environment variables:

    LANG = en_US.UTF-8
    PATH = /usr/local/bin:/usr/bin:/bin:/usr/local/sbin:/usr/sbin:/sbin:/home/cpansand/bin/linux-gnu:/home/cpansand/bin/sh:/home/cpansand/bin:/usr/games:/home/cpansand/devel:/home/eserte/src/srezic-misc/scripts
    PERL5LIB = 
    PERL5OPT = 
    PERL5_CPANPLUS_IS_RUNNING = 14902
    PERL5_CPAN_IS_RUNNING = 14902
    PERL5_CPAN_IS_RUNNING_IN_RECURSION = 14861,14902
    PERLDOC = -MPod::Perldoc::ToTextOverstrike
    PERL_BATCH = yes
    PERL_CANARY_STABILITY_NOPROMPT = 1
    PERL_CPAN_REPORTER_CONFIG = /var/tmp/cpansmoker-1023/2017100103/cpanreporter_000_config.ini
    PERL_EXTUTILS_AUTOINSTALL = --defaultdeps
    SHELL = /bin/zsh
    TERM = screen
    TMPDIR = /var/tmp/cpansmoker-1023/2017100103

Perl special variables (and OS-specific diagnostics, for MSWin32):

    $^X = /opt/perl-5.18.4/bin/perl5.18.4
    $UID/$EUID = 1023 / 1023
    $GID = 1023 1023
    $EGID = 1023 1023

Perl module toolchain versions installed:

    Module              Have    
    ------------------- --------
    CPAN                2.00    
    CPAN::Meta          2.150010
    Cwd                 3.62    
    ExtUtils::CBuilder  0.280226
    ExtUtils::Command   7.30    
    ExtUtils::Install   2.06    
    ExtUtils::MakeMaker 7.30    
    ExtUtils::Manifest  1.70    
    ExtUtils::ParseXS   3.30    
    File::Spec          3.62    
    JSON                2.94    
    JSON::PP            2.94    
    Module::Build       0.4224  
    Module::Signature   0.81    
    Parse::CPAN::Meta   2.150010
    Test::Harness       3.39    
    Test::More          1.302096
    YAML                1.23    
    YAML::Syck          1.30    
    version             0.9918  


--

Summary of my perl5 (revision 5 version 18 subversion 4) configuration:
   
  Platform:
    osname=linux, osvers=2.6.32-696.3.1.el6.x86_64, archname=x86_64-linux
    uname='linux centos6 2.6.32-696.3.1.el6.x86_64 #1 smp tue may 30 19:52:55 utc 2017 x86_64 x86_64 x86_64 gnulinux '
    config_args='-ds -e -Dprefix=/opt/perl-5.18.4 -Dcf_email=srezic@cpan.org'
    hint=recommended, useposix=true, d_sigaction=define
    useithreads=undef, usemultiplicity=undef
    useperlio=define, d_sfio=undef, uselargefiles=define, usesocks=undef
    use64bitint=define, use64bitall=define, uselongdouble=undef
    usemymalloc=n, bincompat5005=undef
  Compiler:
    cc='cc', ccflags ='-fno-strict-aliasing -pipe -fstack-protector -I/usr/local/include -D_LARGEFILE_SOURCE -D_FILE_OFFSET_BITS=64',
    optimize='-O2',
    cppflags='-fno-strict-aliasing -pipe -fstack-protector -I/usr/local/include'
    ccversion='', gccversion='4.4.7 20120313 (Red Hat 4.4.7-18)', gccosandvers=''
    intsize=4, longsize=8, ptrsize=8, doublesize=8, byteorder=12345678
    d_longlong=define, longlongsize=8, d_longdbl=define, longdblsize=16
    ivtype='long', ivsize=8, nvtype='double', nvsize=8, Off_t='off_t', lseeksize=8
    alignbytes=8, prototype=define
  Linker and Libraries:
    ld='cc', ldflags =' -fstack-protector -L/usr/local/lib'
    libpth=/usr/local/lib /lib/../lib64 /usr/lib/../lib64 /lib /usr/lib /lib64 /usr/lib64 /usr/local/lib64
    libs=-lnsl -lgdbm -ldb -ldl -lm -lcrypt -lutil -lc
    perllibs=-lnsl -ldl -lm -lcrypt -lutil -lc
    libc=, so=so, useshrplib=false, libperl=libperl.a
    gnulibc_version='2.12'
  Dynamic Linking:
    dlsrc=dl_dlopen.xs, dlext=so, d_dlsymun=undef, ccdlflags='-Wl,-E'
    cccdlflags='-fPIC', lddlflags='-shared -O2 -L/usr/local/lib -fstack-protector'


Characteristics of this binary (from libperl): 
  Compile-time options: HAS_TIMES PERLIO_LAYERS PERL_DONT_CREATE_GVSV
                        PERL_HASH_FUNC_ONE_AT_A_TIME_HARD PERL_MALLOC_WRAP
                        PERL_PRESERVE_IVUV PERL_SAWAMPERSAND USE_64_BIT_ALL
                        USE_64_BIT_INT USE_LARGE_FILES USE_LOCALE
                        USE_LOCALE_COLLATE USE_LOCALE_CTYPE
                        USE_LOCALE_NUMERIC USE_PERLIO USE_PERL_ATOF
  Built under linux
  Compiled at Jun 24 2017 09:25:31
  %ENV:
    PERL5LIB=""
    PERL5OPT=""
    PERL5_CPANPLUS_IS_RUNNING="14902"
    PERL5_CPAN_IS_RUNNING="14902"
    PERL5_CPAN_IS_RUNNING_IN_RECURSION="14861,14902"
    PERLDOC="-MPod::Perldoc::ToTextOverstrike"
    PERL_BATCH="yes"
    PERL_CANARY_STABILITY_NOPROMPT="1"
    PERL_CPAN_REPORTER_CONFIG="/var/tmp/cpansmoker-1023/2017100103/cpanreporter_000_config.ini"
    PERL_EXTUTILS_AUTOINSTALL="--defaultdeps"
  @INC:
    /opt/perl-5.18.4/lib/site_perl/5.18.4/x86_64-linux
    /opt/perl-5.18.4/lib/site_perl/5.18.4
    /opt/perl-5.18.4/lib/5.18.4/x86_64-linux
    /opt/perl-5.18.4/lib/5.18.4
    .