WebService-Client v0.0601 Perl 5 v5.24.3 armv7l-linux-multi

Status
Pass
From
Nigel Horne
Dist
WebService-Client v0.0601
Platform
Perl 5 v5.24.3 armv7l-linux-multi
Date
2018-01-17 13:45:01
ID
9da2be1c-fb8c-11e7-af2b-acaf1d79aee4
This distribution has been tested as part of the CPAN Testers
project, supporting the Perl programming language.  See
http://wiki.cpantesters.org/ for more information or email
questions to cpan-testers-discuss@perl.org


--
Dear Naveed Massjouni,

This is a computer-generated report for WebService-Client-0.0601
on perl 5.24.3, created by CPAN-Reporter-1.2018.

Thank you for uploading your work to CPAN.  Congratulations!
All tests were successful.

Sections of this report:

    * Tester comments
    * Program output
    * Prerequisites
    * Environment and other context

------------------------------
TESTER COMMENTS
------------------------------

Additional comments from tester:

this report is from an automated smoke testing program
and was not reviewed by a human for accuracy

------------------------------
PROGRAM OUTPUT
------------------------------

Output from '/usr/bin/make test':

PERL_DL_NONLAZY=1 "/home/njh/perl5/perlbrew/perls/perl-5.24.3-multi/bin/perl5.24.3" "-MExtUtils::Command::MM" "-MTest::Harness" "-e" "undef *Test::Harness::Switches; test_harness(0, 'blib/lib', 'blib/arch')" t/*.t
t/author-eof.t ................. skipped: these tests are for testing by the author
t/author-eol.t ................. skipped: these tests are for testing by the author
t/author-no-breakpoints.t ...... skipped: these tests are for testing by the author
t/author-no-tabs.t ............. skipped: these tests are for testing by the author
t/author-pod-syntax.t .......... skipped: these tests are for testing by the author
t/author-portability.t ......... skipped: these tests are for testing by the author
t/release-distmeta.t ........... skipped: these tests are for release candidate testing
t/release-kwalitee.t ........... skipped: these tests are for release candidate testing
t/release-pause-permissions.t .. skipped: these tests are for release candidate testing
t/release-unused-vars.t ........ skipped: these tests are for release candidate testing
t/00-compile.t ................. ok
# 
# Versions for all modules listed in MYMETA.json (including optional ones):
# 
# === Configure Requires ===
# 
#     Module              Want Have
#     ------------------- ---- ----
#     ExtUtils::MakeMaker  any 7.30
# 
# === Build Requires ===
# 
#     Module              Want Have
#     ------------------- ---- ----
#     ExtUtils::MakeMaker  any 7.30
# 
# === Test Requires ===
# 
#     Module              Want     Have
#     ------------------- ---- --------
#     ExtUtils::MakeMaker  any     7.30
#     File::Spec           any  3.63_01
#     IO::Handle           any     1.36
#     IPC::Open3           any     1.20
#     Test::More           any 1.302106
#     blib                1.01     1.06
#     strict               any     1.11
#     warnings             any     1.36
# 
# === Test Recommends ===
# 
#     Module         Want     Have
#     ---------- -------- --------
#     CPAN::Meta 2.120900 2.150005
# 
# === Runtime Requires ===
# 
#     Module                         Want     Have
#     -------------------------- -------- --------
#     Carp                            any     1.40
#     HTTP::Message                  6.06     6.13
#     HTTP::Request                   any     6.13
#     HTTP::Request::Common           any     6.13
#     HTTP::Response::Stringable   0.0002   0.0002
#     JSON::MaybeXS                   any 1.003009
#     LWP::UserAgent                  any     6.27
#     Moo                        1.005000 2.003004
#     Moo::Role                       any 2.003004
# 
t/00-report-prereqs.t .......... ok
All tests successful.
Files=12, Tests=2,  2 wallclock secs ( 0.25 usr  0.10 sys +  2.83 cusr  0.32 csys =  3.50 CPU)
Result: PASS

------------------------------
PREREQUISITES
------------------------------

Prerequisite modules loaded:

requires:

    Module                     Need     Have    
    -------------------------- -------- --------
    Carp                       0        1.40    
    HTTP::Message              6.06     6.13    
    HTTP::Request              0        6.13    
    HTTP::Request::Common      0        6.13    
    HTTP::Response::Stringable 0.0002   0.0002  
    JSON::MaybeXS              0        1.003009
    LWP::UserAgent             0        6.27    
    Moo                        1.005000 2.003004
    Moo::Role                  0        2.003004
    perl                       5.006    5.024003

build_requires:

    Module                     Need     Have    
    -------------------------- -------- --------
    blib                       1.01     1.06    
    ExtUtils::MakeMaker        0        7.30    
    File::Spec                 0        3.63_01 
    IO::Handle                 0        1.36    
    IPC::Open3                 0        1.20    
    strict                     0        1.11    
    Test::More                 0        1.302106
    warnings                   0        1.36    

configure_requires:

    Module                     Need     Have    
    -------------------------- -------- --------
    ExtUtils::MakeMaker        0        7.30    


------------------------------
ENVIRONMENT AND OTHER CONTEXT
------------------------------

Environment variables:

    AUTOMATED_TESTING = 1
    HARNESS_OPTIONS = j4
    LANG = en_GB.UTF-8
    PATH = /home/njh/perl5/perlbrew/bin:/home/njh/perl5/perlbrew/perls/perl-5.24.3-multi/bin:/usr/bin:/bin:src/njh/smoker/bin
    PERL5LIB = /home/njh/.cpan/build/HTTP-Response-Stringable-0.0002-2/blib/arch:/home/njh/.cpan/build/HTTP-Response-Stringable-0.0002-2/blib/lib:/home/njh/.cpan/build/Moo-2.003004-5/blib/arch:/home/njh/.cpan/build/Moo-2.003004-5/blib/lib:/home/njh/.cpan/build/Sub-Quote-2.004000-5/blib/arch:/home/njh/.cpan/build/Sub-Quote-2.004000-5/blib/lib:/home/njh/.cpan/build/Role-Tiny-2.000006-3/blib/arch:/home/njh/.cpan/build/Role-Tiny-2.000006-3/blib/lib:/home/njh/.cpan/build/Devel-GlobalDestruction-0.14-3/blib/arch:/home/njh/.cpan/build/Devel-GlobalDestruction-0.14-3/blib/lib:/home/njh/.cpan/build/Class-Method-Modifiers-2.12-5/blib/arch:/home/njh/.cpan/build/Class-Method-Modifiers-2.12-5/blib/lib:/home/njh/.cpan/build/LWP-Online-1.08-2/blib/arch:/home/njh/.cpan/build/LWP-Online-1.08-2/blib/lib:/home/njh/.cpan/build/Function-Parameters-2.001003-2/blib/arch:/home/njh/.cpan/build/Function-Parameters-2.001003-2/blib/lib:/home/njh/.cpan/build/Dir-Self-0.11-2/blib/arch:/home/njh/.cpan/build/Dir-Self-0.11-2/blib/lib
    PERL5OPT = 
    PERL5_CPANPLUS_IS_RUNNING = 30521
    PERL5_CPAN_IS_RUNNING = 30521
    PERLBREW_BASHRC_VERSION = 0.80
    PERLBREW_HOME = /home/njh/.perlbrew
    PERLBREW_MANPATH = /home/njh/perl5/perlbrew/perls/perl-5.24.3-multi/man
    PERLBREW_PATH = /home/njh/perl5/perlbrew/bin:/home/njh/perl5/perlbrew/perls/perl-5.24.3-multi/bin
    PERLBREW_PERL = perl-5.24.3-multi
    PERLBREW_ROOT = /home/njh/perl5/perlbrew
    PERLBREW_VERSION = 0.80
    SHELL = /bin/sh

Perl special variables (and OS-specific diagnostics, for MSWin32):

    $^X = /home/njh/perl5/perlbrew/perls/perl-5.24.3-multi/bin/perl5.24.3
    $UID/$EUID = 1000 / 1000
    $GID = 1000 4 20 24 25 27 29 30 44 46 60 100 101 108 997 998 999 1000
    $EGID = 1000 4 20 24 25 27 29 30 44 46 60 100 101 108 997 998 999 1000

Perl module toolchain versions installed:

    Module              Have      
    ------------------- ----------
    CPAN                2.16      
    CPAN::Meta          2.150005  
    Cwd                 3.63_01   
    ExtUtils::CBuilder  0.280225  
    ExtUtils::Command   7.30      
    ExtUtils::Install   2.06      
    ExtUtils::MakeMaker 7.30      
    ExtUtils::Manifest  1.70      
    ExtUtils::ParseXS   3.31      
    File::Spec          3.63_01   
    JSON                2.94      
    JSON::PP            2.27300_01
    Module::Build       0.4224    
    Module::Signature   n/a       
    Parse::CPAN::Meta   1.4417_001
    Test::Harness       3.36_01   
    Test::More          1.302106  
    YAML                1.24      
    YAML::Syck          1.30      
    version             0.9916    


--

Summary of my perl5 (revision 5 version 24 subversion 3) configuration:
   
  Platform:
    osname=linux, osvers=4.9.41-v7+, archname=armv7l-linux-multi
    uname='linux pi2 4.9.41-v7+ #1023 smp tue aug 8 16:00:15 bst 2017 armv7l gnulinux '
    config_args='-de -Dprefix=/home/njh/perl5/perlbrew/perls/perl-5.24.3-multi -Dusedevel -Dusemultiplicity -Accflags= -Aeval:scriptdir=/home/njh/perl5/perlbrew/perls/perl-5.24.3-multi/bin'
    hint=recommended, useposix=true, d_sigaction=define
    useithreads=undef, usemultiplicity=define
    use64bitint=undef, use64bitall=undef, uselongdouble=undef
    usemymalloc=n, bincompat5005=undef
  Compiler:
    cc='cc', ccflags ='-fwrapv -fno-strict-aliasing -pipe -fstack-protector-strong -I/usr/local/include -D_LARGEFILE_SOURCE -D_FILE_OFFSET_BITS=64 -D_FORTIFY_SOURCE=2',
    optimize='-O2',
    cppflags='-fwrapv -fno-strict-aliasing -pipe -fstack-protector-strong -I/usr/local/include'
    ccversion='', gccversion='6.3.0 20170516', gccosandvers=''
    intsize=4, longsize=4, ptrsize=4, doublesize=8, byteorder=1234, doublekind=3
    d_longlong=define, longlongsize=8, d_longdbl=define, longdblsize=8, longdblkind=0
    ivtype='long', ivsize=4, nvtype='double', nvsize=8, Off_t='off_t', lseeksize=8
    alignbytes=8, prototype=define
  Linker and Libraries:
    ld='cc', ldflags =' -fstack-protector-strong -L/usr/local/lib'
    libpth=/usr/local/lib /usr/lib/gcc/arm-linux-gnueabihf/6/include-fixed /usr/include/arm-linux-gnueabihf /usr/lib /lib/arm-linux-gnueabihf /lib /usr/lib/arm-linux-gnueabihf
    libs=-lpthread -lnsl -lgdbm -ldb -ldl -lm -lcrypt -lutil -lc -lgdbm_compat
    perllibs=-lpthread -lnsl -ldl -lm -lcrypt -lutil -lc
    libc=libc-2.24.so, so=so, useshrplib=false, libperl=libperl.a
    gnulibc_version='2.24'
  Dynamic Linking:
    dlsrc=dl_dlopen.xs, dlext=so, d_dlsymun=undef, ccdlflags='-Wl,-E'
    cccdlflags='-fPIC', lddlflags='-shared -O2 -L/usr/local/lib -fstack-protector-strong'


Characteristics of this binary (from libperl): 
  Compile-time options: HAS_TIMES MULTIPLICITY PERLIO_LAYERS
                        PERL_COPY_ON_WRITE PERL_DONT_CREATE_GVSV
                        PERL_HASH_FUNC_ONE_AT_A_TIME_HARD
                        PERL_IMPLICIT_CONTEXT PERL_MALLOC_WRAP
                        PERL_PRESERVE_IVUV PERL_USE_DEVEL USE_LARGE_FILES
                        USE_LOCALE USE_LOCALE_COLLATE USE_LOCALE_CTYPE
                        USE_LOCALE_NUMERIC USE_LOCALE_TIME USE_PERLIO
                        USE_PERL_ATOF
  Built under linux
  Compiled at Oct  4 2017 02:35:40
  %ENV:
    PERL5LIB="/home/njh/.cpan/build/HTTP-Response-Stringable-0.0002-2/blib/arch:/home/njh/.cpan/build/HTTP-Response-Stringable-0.0002-2/blib/lib:/home/njh/.cpan/build/Moo-2.003004-5/blib/arch:/home/njh/.cpan/build/Moo-2.003004-5/blib/lib:/home/njh/.cpan/build/Sub-Quote-2.004000-5/blib/arch:/home/njh/.cpan/build/Sub-Quote-2.004000-5/blib/lib:/home/njh/.cpan/build/Role-Tiny-2.000006-3/blib/arch:/home/njh/.cpan/build/Role-Tiny-2.000006-3/blib/lib:/home/njh/.cpan/build/Devel-GlobalDestruction-0.14-3/blib/arch:/home/njh/.cpan/build/Devel-GlobalDestruction-0.14-3/blib/lib:/home/njh/.cpan/build/Class-Method-Modifiers-2.12-5/blib/arch:/home/njh/.cpan/build/Class-Method-Modifiers-2.12-5/blib/lib:/home/njh/.cpan/build/LWP-Online-1.08-2/blib/arch:/home/njh/.cpan/build/LWP-Online-1.08-2/blib/lib:/home/njh/.cpan/build/Function-Parameters-2.001003-2/blib/arch:/home/njh/.cpan/build/Function-Parameters-2.001003-2/blib/lib:/home/njh/.cpan/build/Dir-Self-0.11-2/blib/arch:/home/njh/.cpan/build/Dir-Self-0.11-2/blib/lib"
    PERL5OPT=""
    PERL5_CPANPLUS_IS_RUNNING="30521"
    PERL5_CPAN_IS_RUNNING="30521"
    PERLBREW_BASHRC_VERSION="0.80"
    PERLBREW_HOME="/home/njh/.perlbrew"
    PERLBREW_MANPATH="/home/njh/perl5/perlbrew/perls/perl-5.24.3-multi/man"
    PERLBREW_PATH="/home/njh/perl5/perlbrew/bin:/home/njh/perl5/perlbrew/perls/perl-5.24.3-multi/bin"
    PERLBREW_PERL="perl-5.24.3-multi"
    PERLBREW_ROOT="/home/njh/perl5/perlbrew"
    PERLBREW_VERSION="0.80"
  @INC:
    /home/njh/.cpan/build/HTTP-Response-Stringable-0.0002-2/blib/arch
    /home/njh/.cpan/build/HTTP-Response-Stringable-0.0002-2/blib/lib
    /home/njh/.cpan/build/Moo-2.003004-5/blib/arch
    /home/njh/.cpan/build/Moo-2.003004-5/blib/lib
    /home/njh/.cpan/build/Sub-Quote-2.004000-5/blib/arch
    /home/njh/.cpan/build/Sub-Quote-2.004000-5/blib/lib
    /home/njh/.cpan/build/Role-Tiny-2.000006-3/blib/arch
    /home/njh/.cpan/build/Role-Tiny-2.000006-3/blib/lib
    /home/njh/.cpan/build/Devel-GlobalDestruction-0.14-3/blib/arch
    /home/njh/.cpan/build/Devel-GlobalDestruction-0.14-3/blib/lib
    /home/njh/.cpan/build/Class-Method-Modifiers-2.12-5/blib/arch
    /home/njh/.cpan/build/Class-Method-Modifiers-2.12-5/blib/lib
    /home/njh/.cpan/build/LWP-Online-1.08-2/blib/arch
    /home/njh/.cpan/build/LWP-Online-1.08-2/blib/lib
    /home/njh/.cpan/build/Function-Parameters-2.001003-2/blib/arch
    /home/njh/.cpan/build/Function-Parameters-2.001003-2/blib/lib
    /home/njh/.cpan/build/Dir-Self-0.11-2/blib/arch
    /home/njh/.cpan/build/Dir-Self-0.11-2/blib/lib
    /home/njh/perl5/perlbrew/perls/perl-5.24.3-multi/lib/site_perl/5.24.3/armv7l-linux-multi
    /home/njh/perl5/perlbrew/perls/perl-5.24.3-multi/lib/site_perl/5.24.3
    /home/njh/perl5/perlbrew/perls/perl-5.24.3-multi/lib/5.24.3/armv7l-linux-multi
    /home/njh/perl5/perlbrew/perls/perl-5.24.3-multi/lib/5.24.3
    .