Pinto v0.14 Perl 5 v5.26.2 x86_64-linux

Status
Pass
From
Ioan Rogers
Dist
Pinto v0.14
Platform
Perl 5 v5.26.2 x86_64-linux
Date
2018-04-16 22:36:33
ID
9da64534-41c6-11e8-be49-86232ba023fc
This distribution has been tested as part of the CPAN Testers
project, supporting the Perl programming language.  See
http://wiki.cpantesters.org/ for more information or email
questions to cpan-testers-discuss@perl.org


--
Dear THALJEF,

This is a computer-generated report for Pinto-0.14
on perl 5.26.2, created by App::cpanminus::reporter 0.17 (1.7043).

Thank you for uploading your work to CPAN.  Congratulations!
All tests were successful.

Sections of this report:

    * Tester comments
    * Program output
    * Prerequisites
    * Environment and other context

------------------------------
TESTER COMMENTS
------------------------------

Additional comments from tester:

none provided

------------------------------
PROGRAM OUTPUT
------------------------------

Output from '':

Running Makefile.PL
Warning: prerequisite Apache::Htpasswd 0 not found.
Warning: prerequisite Archive::Extract 0.68 not found.
Warning: prerequisite Authen::Simple::Passwd 0 not found.
Warning: prerequisite CPAN::Checksums 0 not found.
Warning: prerequisite Cwd::Guard 0 not found.
Warning: prerequisite DBD::SQLite 1.33 not found.
Warning: prerequisite DBIx::Class 0.08200 not found.
Warning: prerequisite DBIx::Class::Core 0 not found.
Warning: prerequisite DBIx::Class::ResultSet 0 not found.
Warning: prerequisite DBIx::Class::Schema 0 not found.
Warning: prerequisite Dist::Metadata 0.926 not found.
Warning: prerequisite File::NFSLock 0 not found.
Warning: prerequisite HTTP::Body 0 not found.
Warning: prerequisite HTTP::Server::PSGI 0 not found.
Warning: prerequisite IO::Prompt 0 not found.
Warning: prerequisite Module::Faker::Dist 0.014 not found.
Warning: prerequisite MooseX::Aliases 0 not found.
Warning: prerequisite MooseX::ClassAttribute 0.27 not found.
Warning: prerequisite MooseX::Configuration 0 not found.
Warning: prerequisite MooseX::MarkAsMethods 0 not found.
Warning: prerequisite MooseX::NonMoose 0 not found.
Warning: prerequisite MooseX::StrictConstructor 0 not found.
Warning: prerequisite Path::Class 0 not found.
Warning: prerequisite Path::Class::Dir 0 not found.
Warning: prerequisite Path::Class::File 0 not found.
Warning: prerequisite Plack 1.0028 not found.
Warning: prerequisite Plack::MIME 0 not found.
Warning: prerequisite Plack::Middleware::Auth::Basic 0 not found.
Warning: prerequisite Plack::Request 0 not found.
Warning: prerequisite Plack::Response 0 not found.
Warning: prerequisite Plack::Runner 0 not found.
Warning: prerequisite Plack::Test 0 not found.
Warning: prerequisite Proc::Fork 0 not found.
Warning: prerequisite Proc::Terminator 0 not found.
Warning: prerequisite Router::Simple 0 not found.
Warning: prerequisite Starman 0.3014 not found.
Warning: prerequisite Test::LWP::UserAgent 0.018 not found.
Warning: prerequisite Test::TCP 0 not found.
Warning: prerequisite UUID::Tiny 0 not found.
Checking if your kit is complete...
Looks good
Generating a Unix-style Makefile
Writing Makefile for Pinto
Writing MYMETA.yml and MYMETA.json
-> OK
Checking dependencies from MYMETA.json ...
Checking if you have CPAN::DistnameInfo 0 ... Yes (0.12)
Checking if you have Path::Class::File 0 ... No
Checking if you have Router::Simple 0 ... No
Checking if you have MooseX::Aliases 0 ... No
Checking if you have Module::CoreList 5.20170720 ... Yes (5.20180414_26)
Checking if you have HTTP::Server::PSGI 0 ... No
Checking if you have URI::Escape 3.31 ... Yes (3.31)
Checking if you have MooseX::ClassAttribute 0.27 ... No
Checking if you have Plack::Test 0 ... No
Checking if you have MooseX::MarkAsMethods 0 ... No
Checking if you have MooseX::SetOnce 0 ... Yes (0.200002)
Checking if you have Throwable::Error 0.200005 ... Yes (0.200013)
Checking if you have blib 1.01 ... Yes (1.06)
Checking if you have MooseX::StrictConstructor 0 ... No
Checking if you have URI::file 0 ... Yes (4.21)
Checking if you have File::Find 0 ... Yes (1.34)
Checking if you have HTTP::Date 0 ... Yes (6.02)
Checking if you have HTTP::Status 0 ... Yes (6.16)
Checking if you have Cwd 0 ... Yes (3.67)
Checking if you have IO::Zlib 0 ... Yes (1.10)
Checking if you have LWP::UserAgent 0 ... Yes (6.33)
Checking if you have ExtUtils::MakeMaker 0 ... Yes (7.24)
Checking if you have DateTime::TimeZone::Local::Unix 0 ... Yes (2.17)
Checking if you have Test::File 0 ... Yes (1.443)
Checking if you have Plack::Runner 0 ... No
Checking if you have Digest::SHA 0 ... Yes (6.01)
Checking if you have Cwd::Guard 0 ... No
Checking if you have Getopt::Long 0 ... Yes (2.49)
Checking if you have Digest::MD5 0 ... Yes (2.55)
Checking if you have Scalar::Util 0 ... Yes (1.46_02)
Checking if you have CPAN::Checksums 0 ... No
Checking if you have version 0 ... Yes (0.9917)
Checking if you have Plack::MIME 0 ... No
Checking if you have Proc::Fork 0 ... No
Checking if you have JSON 0 ... Yes (2.97001)
Checking if you have DateTime::TimeZone::OffsetOnly 0 ... Yes (2.17)
Checking if you have HTTP::Response 0 ... Yes (6.16)
Checking if you have File::Which 0 ... Yes (1.22)
Checking if you have lib 0 ... Yes (0.64)
Checking if you have Readonly 0 ... Yes (2.05)
Checking if you have Exporter 0 ... Yes (5.72)
Checking if you have List::Util 0 ... Yes (1.46_02)
Checking if you have IO::Select 0 ... Yes (1.22)
Checking if you have Capture::Tiny 0 ... Yes (0.46)
Checking if you have Test::Exception 0 ... Yes (0.43)
Checking if you have Encode 0 ... Yes (2.88)
Checking if you have String::Format 0 ... Yes (1.17)
Checking if you have Dist::Metadata 0.926 ... No
Checking if you have Proc::Terminator 0 ... No
Checking if you have Apache::Htpasswd 0 ... No
Checking if you have IO::String 0 ... Yes (1.08)
Checking if you have IO::Prompt 0 ... No
Checking if you have UUID::Tiny 0 ... No
Checking if you have Term::ANSIColor 2.02 ... Yes (4.06)
Checking if you have Starman 0.3014 ... No
Checking if you have HTTP::Request::Common 0 ... Yes (6.16)
Checking if you have MooseX::NonMoose 0 ... No
Checking if you have Test::Builder::Module 0 ... Yes (1.302122)
Checking if you have Class::Load 0 ... Yes (0.24)
Checking if you have DBIx::Class::ResultSet 0 ... No
Checking if you have Module::Metadata 1.000031 ... Yes (1.000033)
Checking if you have utf8 0 ... Yes (1.19)
Checking if you have DateTime::TimeZone 0 ... Yes (2.17)
Checking if you have FindBin 0 ... Yes (1.51)
Checking if you have URI 0 ... Yes (1.73)
Checking if you have CPAN::Meta::Requirements 0 ... Yes (2.140)
Checking if you have MooseX::Types 0 ... Yes (0.50)
Checking if you have App::Cmd 0.323 ... Yes (0.331)
Checking if you have Test::TCP 0 ... No
Checking if you have File::Temp 0 ... Yes (0.2304)
Checking if you have strict 0 ... Yes (1.11)
Checking if you have warnings 0 ... Yes (1.37)
Checking if you have base 0 ... Yes (2.26)
Checking if you have DBIx::Class::Schema 0 ... No
Checking if you have IO::Interactive 0 ... Yes (1.022)
Checking if you have List::MoreUtils 0 ... Yes (0.428)
Checking if you have Plack::Response 0 ... No
Checking if you have Archive::Tar 0 ... Yes (2.24)
Checking if you have IPC::Open3 0 ... Yes (1.20)
Checking if you have JSON::PP 2.27103 ... Yes (2.27400_02)
Checking if you have Variable::Magic 0.57 ... Yes (0.62)
Checking if you have File::NFSLock 0 ... No
Checking if you have App::Cmd::Command::help 0 ... Yes (0.331)
Checking if you have File::HomeDir 0 ... Yes (1.002)
Checking if you have Plack 1.0028 ... No
Checking if you have App::Cmd::Setup 0 ... Yes (0.331)
Checking if you have Module::Faker::Dist 0.014 ... No
Checking if you have File::Spec 0 ... Yes (3.67)
Checking if you have overload 0 ... Yes (1.28)
Checking if you have Moose 0 ... Yes (2.2009)
Checking if you have CPAN::Meta 0 ... Yes (2.150010)
Checking if you have IO::Handle 0 ... Yes (1.36)
Checking if you have Carp 0 ... Yes (1.42)
Checking if you have Archive::Extract 0.68 ... No
Checking if you have Test::LWP::UserAgent 0.018 ... No
Checking if you have Path::Class 0 ... No
Checking if you have Authen::Simple::Passwd 0 ... No
Checking if you have Plack::Middleware::Auth::Basic 0 ... No
Checking if you have Moose::Role 0 ... Yes (2.2009)
Checking if you have Path::Class::Dir 0 ... No
Checking if you have MooseX::Configuration 0 ... No
Checking if you have DBIx::Class::Core 0 ... No
Checking if you have IO::File 0 ... Yes (1.16)
Checking if you have Try::Tiny 0 ... Yes (0.30)
Checking if you have Devel::StackTrace 0 ... Yes (2.03)
Checking if you have Test::More 0.96 ... Yes (1.302122)
Checking if you have DateTime 0 ... Yes (1.45)
Checking if you have DBIx::Class 0.08200 ... No
Checking if you have Plack::Request 0 ... No
Checking if you have IO::Pipe 0 ... Yes (1.15)
Checking if you have HTTP::Body 0 ... No
Checking if you have MooseX::Types::Moose 0 ... Yes (0.50)
Checking if you have DBD::SQLite 1.33 ... No
Checking if you have Pod::Usage 0 ... Yes (1.69)
Checking if you have File::Copy 0 ... Yes (2.32)
==> Found dependencies: Path::Class::File, Router::Simple, MooseX::Aliases, HTTP::Server::PSGI, MooseX::ClassAttribute, Plack::Test, MooseX::MarkAsMethods, MooseX::StrictConstructor, Plack::Runner, Cwd::Guard, CPAN::Checksums, Plack::MIME, Proc::Fork, Dist::Metadata, Proc::Terminator, Apache::Htpasswd, IO::Prompt, UUID::Tiny, Starman, MooseX::NonMoose, DBIx::Class::ResultSet, Test::TCP, DBIx::Class::Schema, Plack::Response, File::NFSLock, Plack, Module::Faker::Dist, Archive::Extract, Test::LWP::UserAgent, Path::Class, Authen::Simple::Passwd, Plack::Middleware::Auth::Basic, Path::Class::Dir, MooseX::Configuration, DBIx::Class::Core, DBIx::Class, Plack::Request, HTTP::Body, DBD::SQLite
Searching Path::Class::File (0) on cpanmetadb ...
--> Working on Path::Class::File
Fetching https://cpan.metacpan.org/authors/id/K/KW/KWILLIAMS/Path-Class-0.37.tar.gz
-> OK
-> OK
Verifying the signature of CHECKSUMS
Verified OK!
Verifying the SHA1 for Path-Class-0.37.tar.gz
Checksum for Path-Class-0.37.tar.gz: Verified!
Unpacking Path-Class-0.37.tar.gz
Building Path-Class
Installing /home/ioanrogers/.plenv/versions/5.26.2/lib/perl5/site_perl/5.26.2/Path/Class.pm
Installing /home/ioanrogers/.plenv/versions/5.26.2/lib/perl5/site_perl/5.26.2/Path/Class/Dir.pm
Installing /home/ioanrogers/.plenv/versions/5.26.2/lib/perl5/site_perl/5.26.2/Path/Class/Entity.pm
Installing /home/ioanrogers/.plenv/versions/5.26.2/lib/perl5/site_perl/5.26.2/Path/Class/File.pm
-> OK
Successfully installed Path-Class-0.37
Installing /home/ioanrogers/.plenv/versions/5.26.2/lib/perl5/site_perl/5.26.2/x86_64-linux/.meta/Path-Class-0.37/install.json
Installing /home/ioanrogers/.plenv/versions/5.26.2/lib/perl5/site_perl/5.26.2/x86_64-linux/.meta/Path-Class-0.37/MYMETA.json
Searching Router::Simple (0) on cpanmetadb ...
--> Working on Router::Simple
Fetching https://cpan.metacpan.org/authors/id/T/TO/TOKUHIROM/Router-Simple-0.17.tar.gz
-> OK
-> OK
Verifying the signature of CHECKSUMS
Verified OK!
Verifying the SHA1 for Router-Simple-0.17.tar.gz
Checksum for Router-Simple-0.17.tar.gz: Verified!
Unpacking Router-Simple-0.17.tar.gz
Building Router-Simple
Installing /home/ioanrogers/.plenv/versions/5.26.2/lib/perl5/site_perl/5.26.2/Router/Simple.pm
Installing /home/ioanrogers/.plenv/versions/5.26.2/lib/perl5/site_perl/5.26.2/Router/Simple/Declare.pm
Installing /home/ioanrogers/.plenv/versions/5.26.2/lib/perl5/site_perl/5.26.2/Router/Simple/Route.pm
Installing /home/ioanrogers/.plenv/versions/5.26.2/lib/perl5/site_perl/5.26.2/Router/Simple/SubMapper.pm
Installing /home/ioanrogers/.plenv/versions/5.26.2/lib/perl5/site_perl/5.26.2/Router/Simple/Cookbook.pod
-> OK
Successfully installed Router-Simple-0.17
Installing /home/ioanrogers/.plenv/versions/5.26.2/lib/perl5/site_perl/5.26.2/x86_64-linux/.meta/Router-Simple-0.17/install.json
Installing /home/ioanrogers/.plenv/versions/5.26.2/lib/perl5/site_perl/5.26.2/x86_64-linux/.meta/Router-Simple-0.17/MYMETA.json
Searching MooseX::Aliases (0) on cpanmetadb ...
--> Working on MooseX::Aliases
Fetching https://cpan.metacpan.org/authors/id/D/DO/DOY/MooseX-Aliases-0.11.tar.gz
-> OK
-> OK
Verifying the signature of CHECKSUMS
Verified OK!
Verifying the SHA1 for MooseX-Aliases-0.11.tar.gz
Checksum for MooseX-Aliases-0.11.tar.gz: Verified!
Unpacking MooseX-Aliases-0.11.tar.gz
Appending installation info to /home/ioanrogers/.plenv/versions/5.26.2/lib/perl5/5.26.2/x86_64-linux/perllocal.pod
Installing /home/ioanrogers/.plenv/versions/5.26.2/lib/perl5/site_perl/5.26.2/MooseX/Aliases.pm
Installing /home/ioanrogers/.plenv/versions/5.26.2/lib/perl5/site_perl/5.26.2/MooseX/Aliases/Meta/Trait/Class.pm
Installing /home/ioanrogers/.plenv/versions/5.26.2/lib/perl5/site_perl/5.26.2/MooseX/Aliases/Meta/Trait/Role.pm
Installing /home/ioanrogers/.plenv/versions/5.26.2/lib/perl5/site_perl/5.26.2/MooseX/Aliases/Meta/Trait/Method.pm
Installing /home/ioanrogers/.plenv/versions/5.26.2/lib/perl5/site_perl/5.26.2/MooseX/Aliases/Meta/Trait/Attribute.pm
Installing /home/ioanrogers/.plenv/versions/5.26.2/lib/perl5/site_perl/5.26.2/MooseX/Aliases/Meta/Trait/Role/Composite.pm
Installing /home/ioanrogers/.plenv/versions/5.26.2/lib/perl5/site_perl/5.26.2/MooseX/Aliases/Meta/Trait/Role/ApplicationToRole.pm
Installing /home/ioanrogers/.plenv/versions/5.26.2/lib/perl5/site_perl/5.26.2/MooseX/Aliases/Meta/Trait/Role/ApplicationToClass.pm
-> OK
Successfully installed MooseX-Aliases-0.11
Installing /home/ioanrogers/.plenv/versions/5.26.2/lib/perl5/site_perl/5.26.2/x86_64-linux/.meta/MooseX-Aliases-0.11/install.json
Installing /home/ioanrogers/.plenv/versions/5.26.2/lib/perl5/site_perl/5.26.2/x86_64-linux/.meta/MooseX-Aliases-0.11/MYMETA.json
Searching HTTP::Server::PSGI (0) on cpanmetadb ...
--> Working on HTTP::Server::PSGI
Fetching https://cpan.metacpan.org/authors/id/M/MI/MIYAGAWA/Plack-1.0047.tar.gz
-> OK
-> OK
Verifying the signature of CHECKSUMS
Verified OK!
Verifying the SHA1 for Plack-1.0047.tar.gz
Checksum for Plack-1.0047.tar.gz: Verified!
Unpacking Plack-1.0047.tar.gz
Skip blib/lib/auto/share/dist/Plack/baybridge.jpg (unchanged)
Skip blib/lib/auto/share/dist/Plack/face.jpg (unchanged)
Appending installation info to /home/ioanrogers/.plenv/versions/5.26.2/lib/perl5/5.26.2/x86_64-linux/perllocal.pod
Installing /home/ioanrogers/.plenv/versions/5.26.2/lib/perl5/site_perl/5.26.2/Plack.pm
Installing /home/ioanrogers/.plenv/versions/5.26.2/lib/perl5/site_perl/5.26.2/auto/share/dist/Plack/face.jpg
Installing /home/ioanrogers/.plenv/versions/5.26.2/lib/perl5/site_perl/5.26.2/auto/share/dist/Plack/baybridge.jpg
Installing /home/ioanrogers/.plenv/versions/5.26.2/lib/perl5/site_perl/5.26.2/Plack/Handler.pm
Installing /home/ioanrogers/.plenv/versions/5.26.2/lib/perl5/site_perl/5.26.2/Plack/Component.pm
Installing /home/ioanrogers/.plenv/versions/5.26.2/lib/perl5/site_perl/5.26.2/Plack/Builder.pm
Installing /home/ioanrogers/.plenv/versions/5.26.2/lib/perl5/site_perl/5.26.2/Plack/MIME.pm
Installing /home/ioanrogers/.plenv/versions/5.26.2/lib/perl5/site_perl/5.26.2/Plack/HTTPParser.pm
Installing /home/ioanrogers/.plenv/versions/5.26.2/lib/perl5/site_perl/5.26.2/Plack/Loader.pm
Installing /home/ioanrogers/.plenv/versions/5.26.2/lib/perl5/site_perl/5.26.2/Plack/LWPish.pm
Installing /home/ioanrogers/.plenv/versions/5.26.2/lib/perl5/site_perl/5.26.2/Plack/Middleware.pm
Installing /home/ioanrogers/.plenv/versions/5.26.2/lib/perl5/site_perl/5.26.2/Plack/Test.pm
Installing /home/ioanrogers/.plenv/versions/5.26.2/lib/perl5/site_perl/5.26.2/Plack/Runner.pm
Installing /home/ioanrogers/.plenv/versions/5.26.2/lib/perl5/site_perl/5.26.2/Plack/TempBuffer.pm
Installing /home/ioanrogers/.plenv/versions/5.26.2/lib/perl5/site_perl/5.26.2/Plack/Request.pm
Installing /home/ioanrogers/.plenv/versions/5.26.2/lib/perl5/site_perl/5.26.2/Plack/Response.pm
Installing /home/ioanrogers/.plenv/versions/5.26.2/lib/perl5/site_perl/5.26.2/Plack/Util.pm
Installing /home/ioanrogers/.plenv/versions/5.26.2/lib/perl5/site_perl/5.26.2/Plack/Middleware/ErrorDocument.pm
Installing /home/ioanrogers/.plenv/versions/5.26.2/lib/perl5/site_perl/5.26.2/Plack/Middleware/AccessLog.pm
Installing /home/ioanrogers/.plenv/versions/5.26.2/lib/perl5/site_perl/5.26.2/Plack/Middleware/Conditional.pm
Installing /home/ioanrogers/.plenv/versions/5.26.2/lib/perl5/site_perl/5.26.2/Plack/Middleware/ContentLength.pm
Installing /home/ioanrogers/.plenv/versions/5.26.2/lib/perl5/site_perl/5.26.2/Plack/Middleware/ContentMD5.pm
Installing /home/ioanrogers/.plenv/versions/5.26.2/lib/perl5/site_perl/5.26.2/Plack/Middleware/Chunked.pm
Installing /home/ioanrogers/.plenv/versions/5.26.2/lib/perl5/site_perl/5.26.2/Plack/Middleware/BufferedStreaming.pm
Installing /home/ioanrogers/.plenv/versions/5.26.2/lib/perl5/site_perl/5.26.2/Plack/Middleware/ConditionalGET.pm
Installing /home/ioanrogers/.plenv/versions/5.26.2/lib/perl5/site_perl/5.26.2/Plack/Middleware/SimpleContentFilter.pm
Installing /home/ioanrogers/.plenv/versions/5.26.2/lib/perl5/site_perl/5.26.2/Plack/Middleware/Head.pm
Installing /home/ioanrogers/.plenv/versions/5.26.2/lib/perl5/site_perl/5.26.2/Plack/Middleware/JSONP.pm
Installing /home/ioanrogers/.plenv/versions/5.26.2/lib/perl5/site_perl/5.26.2/Plack/Middleware/Recursive.pm
Installing /home/ioanrogers/.plenv/versions/5.26.2/lib/perl5/site_perl/5.26.2/Plack/Middleware/Static.pm
Installing /home/ioanrogers/.plenv/versions/5.26.2/lib/perl5/site_perl/5.26.2/Plack/Middleware/XFramework.pm
Installing /home/ioanrogers/.plenv/versions/5.26.2/lib/perl5/site_perl/5.26.2/Plack/Middleware/RearrangeHeaders.pm
Installing /home/ioanrogers/.plenv/versions/5.26.2/lib/perl5/site_perl/5.26.2/Plack/Middleware/Lint.pm
Installing /home/ioanrogers/.plenv/versions/5.26.2/lib/perl5/site_perl/5.26.2/Plack/Middleware/SimpleLogger.pm
Installing /home/ioanrogers/.plenv/versions/5.26.2/lib/perl5/site_perl/5.26.2/Plack/Middleware/IIS6ScriptNameFix.pm
Installing /home/ioanrogers/.plenv/versions/5.26.2/lib/perl5/site_perl/5.26.2/Plack/Middleware/XSendfile.pm
Installing /home/ioanrogers/.plenv/versions/5.26.2/lib/perl5/site_perl/5.26.2/Plack/Middleware/LighttpdScriptNameFix.pm
Installing /home/ioanrogers/.plenv/versions/5.26.2/lib/perl5/site_perl/5.26.2/Plack/Middleware/StackTrace.pm
Installing /home/ioanrogers/.plenv/versions/5.26.2/lib/perl5/site_perl/5.26.2/Plack/Middleware/IIS7KeepAliveFix.pm
Installing /home/ioanrogers/.plenv/versions/5.26.2/lib/perl5/site_perl/5.26.2/Plack/Middleware/Refresh.pm
Installing /home/ioanrogers/.plenv/versions/5.26.2/lib/perl5/site_perl/5.26.2/Plack/Middleware/Log4perl.pm
Installing /home/ioanrogers/.plenv/versions/5.26.2/lib/perl5/site_perl/5.26.2/Plack/Middleware/LogDispatch.pm
Installing /home/ioanrogers/.plenv/versions/5.26.2/lib/perl5/site_perl/5.26.2/Plack/Middleware/Runtime.pm
Installing /home/ioanrogers/.plenv/versions/5.26.2/lib/perl5/site_perl/5.26.2/Plack/Middleware/HTTPExceptions.pm
Installing /home/ioanrogers/.plenv/versions/5.26.2/lib/perl5/site_perl/5.26.2/Plack/Middleware/NullLogger.pm
Installing /home/ioanrogers/.plenv/versions/5.26.2/lib/perl5/site_perl/5.26.2/Plack/Middleware/Auth/Basic.pm
Installing /home/ioanrogers/.plenv/versions/5.26.2/lib/perl5/site_perl/5.26.2/Plack/Middleware/AccessLog/Timed.pm
Installing /home/ioanrogers/.plenv/versions/5.26.2/lib/perl5/site_perl/5.26.2/Plack/Handler/CGI.pm
Installing /home/ioanrogers/.plenv/versions/5.26.2/lib/perl5/site_perl/5.26.2/Plack/Handler/Apache1.pm
Installing /home/ioanrogers/.plenv/versions/5.26.2/lib/perl5/site_perl/5.26.2/Plack/Handler/Apache2.pm
Installing /home/ioanrogers/.plenv/versions/5.26.2/lib/perl5/site_perl/5.26.2/Plack/Handler/FCGI.pm
Installing /home/ioanrogers/.plenv/versions/5.26.2/lib/perl5/site_perl/5.26.2/Plack/Handler/Standalone.pm
Installing /home/ioanrogers/.plenv/versions/5.26.2/lib/perl5/site_perl/5.26.2/Plack/Handler/Apache2/Registry.pm
Installing /home/ioanrogers/.plenv/versions/5.26.2/lib/perl5/site_perl/5.26.2/Plack/Handler/HTTP/Server/PSGI.pm
Installing /home/ioanrogers/.plenv/versions/5.26.2/lib/perl5/site_perl/5.26.2/Plack/App/Directory.pm
Installing /home/ioanrogers/.plenv/versions/5.26.2/lib/perl5/site_perl/5.26.2/Plack/App/WrapCGI.pm
Installing /home/ioanrogers/.plenv/versions/5.26.2/lib/perl5/site_perl/5.26.2/Plack/App/File.pm
Installing /home/ioanrogers/.plenv/versions/5.26.2/lib/perl5/site_perl/5.26.2/Plack/App/URLMap.pm
Installing /home/ioanrogers/.plenv/versions/5.26.2/lib/perl5/site_perl/5.26.2/Plack/App/CGIBin.pm
Installing /home/ioanrogers/.plenv/versions/5.26.2/lib/perl5/site_perl/5.26.2/Plack/App/PSGIBin.pm
Installing /home/ioanrogers/.plenv/versions/5.26.2/lib/perl5/site_perl/5.26.2/Plack/App/Cascade.pm
Installing /home/ioanrogers/.plenv/versions/5.26.2/lib/perl5/site_perl/5.26.2/Plack/HTTPParser/PP.pm
Installing /home/ioanrogers/.plenv/versions/5.26.2/lib/perl5/site_perl/5.26.2/Plack/Loader/Restarter.pm
Installing /home/ioanrogers/.plenv/versions/5.26.2/lib/perl5/site_perl/5.26.2/Plack/Loader/Delayed.pm
Installing /home/ioanrogers/.plenv/versions/5.26.2/lib/perl5/site_perl/5.26.2/Plack/Loader/Shotgun.pm
Installing /home/ioanrogers/.plenv/versions/5.26.2/lib/perl5/site_perl/5.26.2/Plack/Request/Upload.pm
Installing /home/ioanrogers/.plenv/versions/5.26.2/lib/perl5/site_perl/5.26.2/Plack/Test/Server.pm
Installing /home/ioanrogers/.plenv/versions/5.26.2/lib/perl5/site_perl/5.26.2/Plack/Test/Suite.pm
Installing /home/ioanrogers/.plenv/versions/5.26.2/lib/perl5/site_perl/5.26.2/Plack/Test/MockHTTP.pm
Installing /home/ioanrogers/.plenv/versions/5.26.2/lib/perl5/site_perl/5.26.2/Plack/Util/Accessor.pm
Installing /home/ioanrogers/.plenv/versions/5.26.2/lib/perl5/site_perl/5.26.2/HTTP/Server/PSGI.pm
Installing /home/ioanrogers/.plenv/versions/5.26.2/lib/perl5/site_perl/5.26.2/HTTP/Message/PSGI.pm
Installing /home/ioanrogers/.plenv/versions/5.26.2/bin/plackup
-> OK
Successfully installed Plack-1.0047
Installing /home/ioanrogers/.plenv/versions/5.26.2/lib/perl5/site_perl/5.26.2/x86_64-linux/.meta/Plack-1.0047/install.json
Installing /home/ioanrogers/.plenv/versions/5.26.2/lib/perl5/site_perl/5.26.2/x86_64-linux/.meta/Plack-1.0047/MYMETA.json
Searching MooseX::ClassAttribute (0.27) on cpanmetadb ...
--> Working on MooseX::ClassAttribute
Fetching https://cpan.metacpan.org/authors/id/D/DR/DROLSKY/MooseX-ClassAttribute-0.29.tar.gz
-> OK
-> OK
Verifying the signature of CHECKSUMS
Verified OK!
Verifying the SHA1 for MooseX-ClassAttribute-0.29.tar.gz
Checksum for MooseX-ClassAttribute-0.29.tar.gz: Verified!
Unpacking MooseX-ClassAttribute-0.29.tar.gz
Appending installation info to /home/ioanrogers/.plenv/versions/5.26.2/lib/perl5/5.26.2/x86_64-linux/perllocal.pod
Installing /home/ioanrogers/.plenv/versions/5.26.2/lib/perl5/site_perl/5.26.2/MooseX/ClassAttribute.pm
Installing /home/ioanrogers/.plenv/versions/5.26.2/lib/perl5/site_perl/5.26.2/MooseX/ClassAttribute/Trait/Class.pm
Installing /home/ioanrogers/.plenv/versions/5.26.2/lib/perl5/site_perl/5.26.2/MooseX/ClassAttribute/Trait/Role.pm
Installing /home/ioanrogers/.plenv/versions/5.26.2/lib/perl5/site_perl/5.26.2/MooseX/ClassAttribute/Trait/Attribute.pm
Installing /home/ioanrogers/.plenv/versions/5.26.2/lib/perl5/site_perl/5.26.2/MooseX/ClassAttribute/Trait/Application.pm
Installing /home/ioanrogers/.plenv/versions/5.26.2/lib/perl5/site_perl/5.26.2/MooseX/ClassAttribute/Trait/Role/Composite.pm
Installing /home/ioanrogers/.plenv/versions/5.26.2/lib/perl5/site_perl/5.26.2/MooseX/ClassAttribute/Trait/Application/ToClass.pm
Installing /home/ioanrogers/.plenv/versions/5.26.2/lib/perl5/site_perl/5.26.2/MooseX/ClassAttribute/Trait/Application/ToRole.pm
Installing /home/ioanrogers/.plenv/versions/5.26.2/lib/perl5/site_perl/5.26.2/MooseX/ClassAttribute/Trait/Mixin/HasClassAttributes.pm
Installing /home/ioanrogers/.plenv/versions/5.26.2/lib/perl5/site_perl/5.26.2/MooseX/ClassAttribute/Meta/Role/Attribute.pm
-> OK
Successfully installed MooseX-ClassAttribute-0.29
Installing /home/ioanrogers/.plenv/versions/5.26.2/lib/perl5/site_perl/5.26.2/x86_64-linux/.meta/MooseX-ClassAttribute-0.29/install.json
Installing /home/ioanrogers/.plenv/versions/5.26.2/lib/perl5/site_perl/5.26.2/x86_64-linux/.meta/MooseX-ClassAttribute-0.29/MYMETA.json
Searching Plack::Test (0) on cpanmetadb ...
Already tried Plack-1.0047. Skipping.
Searching MooseX::MarkAsMethods (0) on cpanmetadb ...
--> Working on MooseX::MarkAsMethods
Fetching https://cpan.metacpan.org/authors/id/R/RS/RSRCHBOY/MooseX-MarkAsMethods-0.15.tar.gz
-> OK
-> OK
Verifying the signature of CHECKSUMS
Verified OK!
Verifying the SHA1 for MooseX-MarkAsMethods-0.15.tar.gz
Checksum for MooseX-MarkAsMethods-0.15.tar.gz: Verified!
Unpacking MooseX-MarkAsMethods-0.15.tar.gz
Appending installation info to /home/ioanrogers/.plenv/versions/5.26.2/lib/perl5/5.26.2/x86_64-linux/perllocal.pod
Installing /home/ioanrogers/.plenv/versions/5.26.2/lib/perl5/site_perl/5.26.2/MooseX/MarkAsMethods.pm
-> OK
Successfully installed MooseX-MarkAsMethods-0.15
Installing /home/ioanrogers/.plenv/versions/5.26.2/lib/perl5/site_perl/5.26.2/x86_64-linux/.meta/MooseX-MarkAsMethods-0.15/install.json
Installing /home/ioanrogers/.plenv/versions/5.26.2/lib/perl5/site_perl/5.26.2/x86_64-linux/.meta/MooseX-MarkAsMethods-0.15/MYMETA.json
Searching MooseX::StrictConstructor (0) on cpanmetadb ...
--> Working on MooseX::StrictConstructor
Fetching https://cpan.metacpan.org/authors/id/D/DR/DROLSKY/MooseX-StrictConstructor-0.21.tar.gz
-> OK
-> OK
Verifying the signature of CHECKSUMS
Verified OK!
Verifying the SHA1 for MooseX-StrictConstructor-0.21.tar.gz
Checksum for MooseX-StrictConstructor-0.21.tar.gz: Verified!
Unpacking MooseX-StrictConstructor-0.21.tar.gz
Appending installation info to /home/ioanrogers/.plenv/versions/5.26.2/lib/perl5/5.26.2/x86_64-linux/perllocal.pod
Installing /home/ioanrogers/.plenv/versions/5.26.2/lib/perl5/site_perl/5.26.2/MooseX/StrictConstructor.pm
Installing /home/ioanrogers/.plenv/versions/5.26.2/lib/perl5/site_perl/5.26.2/MooseX/StrictConstructor/Trait/Class.pm
Installing /home/ioanrogers/.plenv/versions/5.26.2/lib/perl5/site_perl/5.26.2/MooseX/StrictConstructor/Trait/Method/Constructor.pm
-> OK
Successfully installed MooseX-StrictConstructor-0.21
Installing /home/ioanrogers/.plenv/versions/5.26.2/lib/perl5/site_perl/5.26.2/x86_64-linux/.meta/MooseX-StrictConstructor-0.21/install.json
Installing /home/ioanrogers/.plenv/versions/5.26.2/lib/perl5/site_perl/5.26.2/x86_64-linux/.meta/MooseX-StrictConstructor-0.21/MYMETA.json
Searching Plack::Runner (0) on cpanmetadb ...
Already tried Plack-1.0047. Skipping.
Searching Cwd::Guard (0) on cpanmetadb ...
--> Working on Cwd::Guard
Fetching https://cpan.metacpan.org/authors/id/K/KA/KAZEBURO/Cwd-Guard-0.05.tar.gz
-> OK
-> OK
Verifying the signature of CHECKSUMS
Verified OK!
Verifying the SHA1 for Cwd-Guard-0.05.tar.gz
Checksum for Cwd-Guard-0.05.tar.gz: Verified!
Unpacking Cwd-Guard-0.05.tar.gz
Building Cwd-Guard
Installing /home/ioanrogers/.plenv/versions/5.26.2/lib/perl5/site_perl/5.26.2/Cwd/Guard.pm
-> OK
Successfully installed Cwd-Guard-0.05
Installing /home/ioanrogers/.plenv/versions/5.26.2/lib/perl5/site_perl/5.26.2/x86_64-linux/.meta/Cwd-Guard-0.05/install.json
Installing /home/ioanrogers/.plenv/versions/5.26.2/lib/perl5/site_perl/5.26.2/x86_64-linux/.meta/Cwd-Guard-0.05/MYMETA.json
Searching CPAN::Checksums (0) on cpanmetadb ...
--> Working on CPAN::Checksums
Fetching https://cpan.metacpan.org/authors/id/A/AN/ANDK/CPAN-Checksums-2.12.tar.gz
-> OK
-> OK
Verifying the signature of CHECKSUMS
Verified OK!
Verifying the SHA1 for CPAN-Checksums-2.12.tar.gz
Checksum for CPAN-Checksums-2.12.tar.gz: Verified!
Unpacking CPAN-Checksums-2.12.tar.gz
Appending installation info to /home/ioanrogers/.plenv/versions/5.26.2/lib/perl5/5.26.2/x86_64-linux/perllocal.pod
Installing /home/ioanrogers/.plenv/versions/5.26.2/lib/perl5/site_perl/5.26.2/CPAN/Checksums.pm
-> OK
Successfully installed CPAN-Checksums-2.12
Installing /home/ioanrogers/.plenv/versions/5.26.2/lib/perl5/site_perl/5.26.2/x86_64-linux/.meta/CPAN-Checksums-2.12/install.json
Installing /home/ioanrogers/.plenv/versions/5.26.2/lib/perl5/site_perl/5.26.2/x86_64-linux/.meta/CPAN-Checksums-2.12/MYMETA.json
Searching Plack::MIME (0) on cpanmetadb ...
Already tried Plack-1.0047. Skipping.
Searching Proc::Fork (0) on cpanmetadb ...
--> Working on Proc::Fork
Fetching https://cpan.metacpan.org/authors/id/A/AR/ARISTOTLE/Proc-Fork-0.804.tar.gz
-> OK
-> OK
Verifying the signature of CHECKSUMS
Verified OK!
Verifying the SHA1 for Proc-Fork-0.804.tar.gz
Checksum for Proc-Fork-0.804.tar.gz: Verified!
Unpacking Proc-Fork-0.804.tar.gz
Appending installation info to /home/ioanrogers/.plenv/versions/5.26.2/lib/perl5/5.26.2/x86_64-linux/perllocal.pod
Installing /home/ioanrogers/.plenv/versions/5.26.2/lib/perl5/site_perl/5.26.2/Proc/Fork.pm
-> OK
Successfully installed Proc-Fork-0.804
Installing /home/ioanrogers/.plenv/versions/5.26.2/lib/perl5/site_perl/5.26.2/x86_64-linux/.meta/Proc-Fork-0.804/install.json
Installing /home/ioanrogers/.plenv/versions/5.26.2/lib/perl5/site_perl/5.26.2/x86_64-linux/.meta/Proc-Fork-0.804/MYMETA.json
Searching Dist::Metadata (0.926) on cpanmetadb ...
--> Working on Dist::Metadata
Fetching https://cpan.metacpan.org/authors/id/R/RW/RWSTAUNER/Dist-Metadata-0.927.tar.gz
-> OK
-> OK
Verifying the signature of CHECKSUMS
Verified OK!
Verifying the SHA1 for Dist-Metadata-0.927.tar.gz
Checksum for Dist-Metadata-0.927.tar.gz: Verified!
Unpacking Dist-Metadata-0.927.tar.gz
Appending installation info to /home/ioanrogers/.plenv/versions/5.26.2/lib/perl5/5.26.2/x86_64-linux/perllocal.pod
Installing /home/ioanrogers/.plenv/versions/5.26.2/lib/perl5/site_perl/5.26.2/Dist/Metadata.pm
Installing /home/ioanrogers/.plenv/versions/5.26.2/lib/perl5/site_perl/5.26.2/Dist/Metadata/Dir.pm
Installing /home/ioanrogers/.plenv/versions/5.26.2/lib/perl5/site_perl/5.26.2/Dist/Metadata/Struct.pm
Installing /home/ioanrogers/.plenv/versions/5.26.2/lib/perl5/site_perl/5.26.2/Dist/Metadata/Archive.pm
Installing /home/ioanrogers/.plenv/versions/5.26.2/lib/perl5/site_perl/5.26.2/Dist/Metadata/Tar.pm
Installing /home/ioanrogers/.plenv/versions/5.26.2/lib/perl5/site_perl/5.26.2/Dist/Metadata/Zip.pm
Installing /home/ioanrogers/.plenv/versions/5.26.2/lib/perl5/site_perl/5.26.2/Dist/Metadata/Dist.pm
-> OK
Successfully installed Dist-Metadata-0.927
Installing /home/ioanrogers/.plenv/versions/5.26.2/lib/perl5/site_perl/5.26.2/x86_64-linux/.meta/Dist-Metadata-0.927/install.json
Installing /home/ioanrogers/.plenv/versions/5.26.2/lib/perl5/site_perl/5.26.2/x86_64-linux/.meta/Dist-Metadata-0.927/MYMETA.json
Searching Proc::Terminator (0) on cpanmetadb ...
--> Working on Proc::Terminator
Fetching https://cpan.metacpan.org/authors/id/M/MN/MNUNBERG/Proc-Terminator-0.05.tar.gz
-> OK
-> OK
Verifying the signature of CHECKSUMS
Verified OK!
Verifying the SHA1 for Proc-Terminator-0.05.tar.gz
Checksum for Proc-Terminator-0.05.tar.gz: Verified!
Unpacking Proc-Terminator-0.05.tar.gz
Appending installation info to /home/ioanrogers/.plenv/versions/5.26.2/lib/perl5/5.26.2/x86_64-linux/perllocal.pod
Installing /home/ioanrogers/.plenv/versions/5.26.2/lib/perl5/site_perl/5.26.2/Proc/Terminator.pm
-> OK
Successfully installed Proc-Terminator-0.05
Installing /home/ioanrogers/.plenv/versions/5.26.2/lib/perl5/site_perl/5.26.2/x86_64-linux/.meta/Proc-Terminator-0.05/install.json
Installing /home/ioanrogers/.plenv/versions/5.26.2/lib/perl5/site_perl/5.26.2/x86_64-linux/.meta/Proc-Terminator-0.05/MYMETA.json
Searching Apache::Htpasswd (0) on cpanmetadb ...
--> Working on Apache::Htpasswd
Fetching https://cpan.metacpan.org/authors/id/K/KM/KMELTZ/Apache-Htpasswd-1.9.tar.gz
-> OK
-> OK
Verifying the signature of CHECKSUMS
Verified OK!
Verifying the SHA1 for Apache-Htpasswd-1.9.tar.gz
Checksum for Apache-Htpasswd-1.9.tar.gz: Verified!
Unpacking Apache-Htpasswd-1.9.tar.gz
Successfully installed Apache-Htpasswd-1.9
Installing /home/ioanrogers/.plenv/versions/5.26.2/lib/perl5/site_perl/5.26.2/x86_64-linux/.meta/Apache-Htpasswd-1.9/install.json
Installing /home/ioanrogers/.plenv/versions/5.26.2/lib/perl5/site_perl/5.26.2/x86_64-linux/.meta/Apache-Htpasswd-1.9/MYMETA.json
Searching IO::Prompt (0) on cpanmetadb ...
--> Working on IO::Prompt
Fetching https://cpan.metacpan.org/authors/id/D/DC/DCONWAY/IO-Prompt-0.997004.tar.gz
-> OK
-> OK
Verifying the signature of CHECKSUMS
Verified OK!
Verifying the SHA1 for IO-Prompt-0.997004.tar.gz
Checksum for IO-Prompt-0.997004.tar.gz: Verified!
Unpacking IO-Prompt-0.997004.tar.gz
Building IO-Prompt
Installing /home/ioanrogers/.plenv/versions/5.26.2/lib/perl5/site_perl/5.26.2/IO/Prompt.pm
-> OK
Successfully installed IO-Prompt-0.997004
Installing /home/ioanrogers/.plenv/versions/5.26.2/lib/perl5/site_perl/5.26.2/x86_64-linux/.meta/IO-Prompt-0.997004/install.json
Installing /home/ioanrogers/.plenv/versions/5.26.2/lib/perl5/site_perl/5.26.2/x86_64-linux/.meta/IO-Prompt-0.997004/MYMETA.json
Searching UUID::Tiny (0) on cpanmetadb ...
--> Working on UUID::Tiny
Fetching https://cpan.metacpan.org/authors/id/C/CA/CAUGUSTIN/UUID-Tiny-1.04.tar.gz
-> OK
-> OK
Verifying the signature of CHECKSUMS
Verified OK!
Verifying the SHA1 for UUID-Tiny-1.04.tar.gz
Checksum for UUID-Tiny-1.04.tar.gz: Verified!
Unpacking UUID-Tiny-1.04.tar.gz
Appending installation info to /home/ioanrogers/.plenv/versions/5.26.2/lib/perl5/5.26.2/x86_64-linux/perllocal.pod
Installing /home/ioanrogers/.plenv/versions/5.26.2/lib/perl5/site_perl/5.26.2/UUID/Tiny.pm
-> OK
Successfully installed UUID-Tiny-1.04
Installing /home/ioanrogers/.plenv/versions/5.26.2/lib/perl5/site_perl/5.26.2/x86_64-linux/.meta/UUID-Tiny-1.04/install.json
Installing /home/ioanrogers/.plenv/versions/5.26.2/lib/perl5/site_perl/5.26.2/x86_64-linux/.meta/UUID-Tiny-1.04/MYMETA.json
Searching Starman (0.3014) on cpanmetadb ...
--> Working on Starman
Fetching https://cpan.metacpan.org/authors/id/M/MI/MIYAGAWA/Starman-0.4014.tar.gz
-> OK
-> OK
Verifying the signature of CHECKSUMS
Verified OK!
Verifying the SHA1 for Starman-0.4014.tar.gz
Checksum for Starman-0.4014.tar.gz: Verified!
Unpacking Starman-0.4014.tar.gz
"/home/ioanrogers/.plenv/versions/5.26.2/bin/perl5.26.2" "-Iinc" -MExtUtils::Command::MM -e 'cp_nonempty' -- XS.bs blib/arch/auto/HTTP/Parser/XS/XS.bs 644
Appending installation info to /home/ioanrogers/.plenv/versions/5.26.2/lib/perl5/5.26.2/x86_64-linux/perllocal.pod
Files found in blib/arch: installing files in blib/lib into architecture dependent library tree
Installing /home/ioanrogers/.plenv/versions/5.26.2/lib/perl5/site_perl/5.26.2/x86_64-linux/auto/HTTP/Parser/XS/XS.so
Installing /home/ioanrogers/.plenv/versions/5.26.2/lib/perl5/site_perl/5.26.2/x86_64-linux/HTTP/Parser/XS.pm
Installing /home/ioanrogers/.plenv/versions/5.26.2/lib/perl5/site_perl/5.26.2/x86_64-linux/HTTP/Parser/XS/PP.pm
-> OK
Successfully installed HTTP-Parser-XS-0.17
Installing /home/ioanrogers/.plenv/versions/5.26.2/lib/perl5/site_perl/5.26.2/x86_64-linux/.meta/HTTP-Parser-XS-0.17/install.json
Installing /home/ioanrogers/.plenv/versions/5.26.2/lib/perl5/site_perl/5.26.2/x86_64-linux/.meta/HTTP-Parser-XS-0.17/MYMETA.json
Building and testing Starman-0.4014
cp lib/Starman/Server.pm blib/lib/Starman/Server.pm
cp lib/HTTP/Server/PSGI/Net/Server/PreFork.pm blib/lib/HTTP/Server/PSGI/Net/Server/PreFork.pm
cp lib/Plack/Handler/Starman.pm blib/lib/Plack/Handler/Starman.pm
cp lib/Starman.pm blib/lib/Starman.pm
cp script/starman blib/script/starman
[15:25:05] t/00_compile.t ........... ok        3 ms ( 0.00 usr  0.00 sys +  0.05 cusr  0.00 csys =  0.05 CPU)
[15:25:06] t/release-findbin.t ...... skipped: these tests are for release candidate testing
[15:25:06] t/release-pod-syntax.t ... skipped: these tests are for release candidate testing
[15:25:06] t/chunked_termination.t .. ok        3 ms ( 0.00 usr  0.00 sys +  0.15 cusr  0.01 csys =  0.16 CPU)
[15:25:06] t/release-rand.t ......... skipped: these tests are for release candidate testing
2018/04/16-15:25:06 Starman::Server (type Net::Server::PreFork) starting! pid(17039)
Binding to TCP port 38149 on host 127.0.0.1 with IPv4
Setting gid to "1854000021 1854000021 10 135 190 972 981 1854000000 1854000021 1854000040 1854100503 1854100505"
2018/04/16-15:25:06 Starman::Server (type Net::Server::PreFork) starting! pid(17040)
Binding to TCP port 46533 on host 127.0.0.1 with IPv4
Setting gid to "1854000021 1854000021 10 135 190 972 981 1854000000 1854000021 1854000040 1854100503 1854100505"
2018/04/16-15:25:06 Starman::Server (type Net::Server::PreFork) starting! pid(17042)
Binding to TCP port 46779 on host 127.0.0.1 with IPv4
Setting gid to "1854000021 1854000021 10 135 190 972 981 1854000000 1854000021 1854000040 1854100503 1854100505"
2018/04/16-15:25:06 Starman::Server (type Net::Server::PreFork) starting! pid(17041)
Binding to TCP port 44511 on host 127.0.0.1 with IPv4
Setting gid to "1854000021 1854000021 10 135 190 972 981 1854000000 1854000021 1854000040 1854100503 1854100505"
2018/04/16-15:25:06 Server closing!
[15:25:06] t/chunked_zero_length.t .. ok       58 ms ( 0.00 usr  0.00 sys +  0.21 cusr  0.04 csys =  0.25 CPU)
2018/04/16-15:25:06 Server closing!
[15:25:06] t/chunked_req.t .......... ok       66 ms ( 0.00 usr  0.00 sys +  0.42 cusr  0.07 csys =  0.49 CPU)
2018/04/16-15:25:06 Server closing!
2018/04/16-15:25:06 Starman::Server (type Net::Server::PreFork) starting! pid(17069)
Binding to TCP port 33659 on host 127.0.0.1 with IPv4
Setting gid to "1854000021 1854000021 10 135 190 972 981 1854000000 1854000021 1854000040 1854100503 1854100505"
2018/04/16-15:25:06 Starman::Server (type Net::Server::PreFork) starting! pid(17043)
Binding to TCP port 37403 on host 127.0.0.1 with IPv4
Setting gid to "1854000021 1854000021 10 135 190 972 981 1854000000 1854000021 1854000040 1854100503 1854100505"
2018/04/16-15:25:06 Server closing!
[15:25:06] t/lf_only_request.t ...... ok      132 ms ( 0.00 usr  0.00 sys +  0.65 cusr  0.13 csys =  0.78 CPU)
2018/04/16-15:25:06 Server closing!
2018/04/16-15:25:06 Server closing!
[15:25:06] t/no_chunked_head.t ...... ok      233 ms ( 0.01 usr  0.00 sys +  0.85 cusr  0.16 csys =  1.02 CPU)
2018/04/16-15:25:06 Starman::Server (type Net::Server::PreFork) starting! pid(17086)
Resolved [localhost]:41579 to [127.0.0.1]:41579, IPv4
Resolved [localhost]:41579 to [127.0.0.1]:41579, IPv4
Duplicate configuration (SSL) on [127.0.0.1]:41579 with IPv4) - skipping
Binding to SSL port 41579 on host 127.0.0.1 with IPv4
Setting gid to "1854000021 1854000021 10 135 190 972 981 1854000000 1854000021 1854000040 1854100503 1854100505"
Could not finalize SSL connection with client handle (SSL accept attempt failed)
2018/04/16-15:25:06 Server closing!
[15:25:06] t/harakiri.t ............. ok      259 ms ( 0.01 usr  0.00 sys +  1.26 cusr  0.33 csys =  1.60 CPU)
2018/04/16-15:25:06 Starman::Server (type Net::Server::PreFork) starting! pid(17083)
Resolved [localhost]:46037 to [127.0.0.1]:46037, IPv4
Resolved [localhost]:46037 to [127.0.0.1]:46037, IPv4
Duplicate configuration (SSL) on [127.0.0.1]:46037 with IPv4) - skipping
Binding to SSL port 46037 on host 127.0.0.1 with IPv4
Setting gid to "1854000021 1854000021 10 135 190 972 981 1854000000 1854000021 1854000040 1854100503 1854100505"
Could not finalize SSL connection with client handle (SSL accept attempt failed)
Child process 17091 exited with status 255
2018/04/16-15:25:06 Server closing!
[15:25:06] t/ssl.t .................. ok        9 ms ( 0.00 usr  0.00 sys +  0.68 cusr  0.24 csys =  0.92 CPU)
[15:25:06] t/ssl_largebody.t ........ ok       87 ms ( 0.00 usr  0.00 sys +  0.96 cusr  0.31 csys =  1.27 CPU)
2018/04/16-15:25:06 Starman::Server (type Net::Server::PreFork) starting! pid(17079)
Binding to TCP port 37115 on host 127.0.0.1 with IPv4
Setting gid to "1854000021 1854000021 10 135 190 972 981 1854000000 1854000021 1854000040 1854100503 1854100505"
2018/04/16-15:25:06 Server closing!
[15:25:06] t/suite.t ................ ok      177 ms ( 0.01 usr  0.00 sys +  1.26 cusr  0.36 csys =  1.63 CPU)
[15:25:06]
All tests successful.
Files=13, Tests=115,  1 wallclock secs ( 0.05 usr  0.02 sys +  2.51 cusr  0.56 csys =  3.14 CPU)
Result: PASS

------------------------------
PREREQUISITES
------------------------------

Prerequisite modules loaded:

    No requirements found

------------------------------
ENVIRONMENT AND OTHER CONTEXT
------------------------------

Environment variables:

    HARNESS_OPTIONS = j8
    HARNESS_TIMER = 1
    LANG = en_GB.UTF-8
    PATH = /home/ioanrogers/.plenv/versions/5.26.2/bin:/home/ioanrogers/.plenv/libexec:/home/ioanrogers/.plenv/plugins/perl-build/bin:/home/ioanrogers/.local/share/go/bin:/opt/rakudo-pkg/bin:/home/ioanrogers/.perl6/bin:/home/ioanrogers/.plenv/shims:~/.plenv/bin::/home/ioanrogers/bin:/home/ioanrogers/.local/bin:/usr/local/bin:/usr/bin:/bin:/usr/local/sbin:/sbin:/usr/sbin:/usr/games
    PERL_CPANM_OPT = --prompt --no-man-pages --verify --mirror https://cpan.metacpan.org
    SHELL = /bin/bash
    TERM = xterm-256color

Perl special variables (and OS-specific diagnostics, for MSWin32):

    EGID = 1854000021 10 135 190 972 981 1854000000 1854000021 1854000040 1854100503 1854100505
    EUID = 1854000021
    EXECUTABLE_NAME = /home/ioanrogers/.plenv/versions/5.26.2/bin/perl5.26.2
    GID = 1854000021 10 135 190 972 981 1854000000 1854000021 1854000040 1854100503 1854100505
    UID = 1854000021

Perl module toolchain versions installed:

    Module              Have      
    ------------------- ----------
    CPAN                2.18      
    CPAN::Meta          2.150010  
    Cwd                 3.67      
    ExtUtils::CBuilder  0.280225  
    ExtUtils::Command   7.24      
    ExtUtils::Install   2.04      
    ExtUtils::MakeMaker 7.24      
    ExtUtils::Manifest  1.70      
    ExtUtils::ParseXS   3.34      
    File::Spec          3.67      
    JSON                2.97001   
    JSON::PP            2.27400_02
    Module::Build       0.4224    
    Module::Signature   0.81      
    Parse::CPAN::Meta   2.150010  
    Test::Harness       3.38      
    Test::More          1.302122  
    YAML                n/a       
    YAML::Syck          n/a       
    version             0.9917    


--

Summary of my perl5 (revision 5 version 26 subversion 2) configuration:
   
  Platform:
    osname=linux
    osvers=4.15.14-300.fc27.x86_64
    archname=x86_64-linux
    uname='linux ioan-desktop.eng.sophos 4.15.14-300.fc27.x86_64 #1 smp thu mar 29 16:13:44 utc 2018 x86_64 x86_64 x86_64 gnulinux '
    config_args='-Dprefix=/home/ioanrogers/.plenv/versions/5.26.2 -de -Dusedevel -Dcc=clang -Doptimize=-O3 -Dccflags-march=native -flto -fstack-protector-strong -Wformat -Werror=format-security -Wl,-z,relro -pie -fPIE -Dcppflags=-Wdate-time -D_FORTIFY_SOURCE=2 -Dldflags=-Wl,-z,relro -Dman1dir=none -Dman3dir=none -A'eval:scriptdir=/home/ioanrogers/.plenv/versions/5.26.2/bin''
    hint=recommended
    useposix=true
    d_sigaction=define
    useithreads=undef
    usemultiplicity=undef
    use64bitint=define
    use64bitall=define
    uselongdouble=undef
    usemymalloc=n
    default_inc_excludes_dot=define
    bincompat5005=undef
  Compiler:
    cc='clang'
    ccflags ='-fno-strict-aliasing -pipe -fstack-protector-strong -I/usr/local/include -D_LARGEFILE_SOURCE -D_FILE_OFFSET_BITS=64 -D_FORTIFY_SOURCE=2'
    optimize='-O3'
    cppflags='-Wdate-time -D_FORTIFY_SOURCE=2 -fno-strict-aliasing -pipe -fstack-protector-strong -I/usr/local/include'
    ccversion=''
    gccversion='4.2.1 Compatible Clang 5.0.1 (tags/RELEASE_501/final)'
    gccosandvers=''
    intsize=4
    longsize=8
    ptrsize=8
    doublesize=8
    byteorder=12345678
    doublekind=3
    d_longlong=define
    longlongsize=8
    d_longdbl=define
    longdblsize=16
    longdblkind=3
    ivtype='long'
    ivsize=8
    nvtype='double'
    nvsize=8
    Off_t='off_t'
    lseeksize=8
    alignbytes=8
    prototype=define
  Linker and Libraries:
    ld='clang'
    ldflags ='-Wl,-z,relro -fstack-protector-strong -L/usr/local/lib'
    libpth=/usr/local/lib /usr/lib64/clang/5.0.1/lib /usr/lib /lib/../lib64 /usr/lib/../lib64 /lib /lib64 /usr/lib64 /usr/local/lib64
    libs=-lpthread -lnsl -lgdbm -ldb -ldl -lm -lcrypt -lutil -lc -lgdbm_compat
    perllibs=-lpthread -lnsl -ldl -lm -lcrypt -lutil -lc
    libc=libc-2.26.so
    so=so
    useshrplib=false
    libperl=libperl.a
    gnulibc_version='2.26'
  Dynamic Linking:
    dlsrc=dl_dlopen.xs
    dlext=so
    d_dlsymun=undef
    ccdlflags='-Wl,-E'
    cccdlflags='-fPIC'
    lddlflags='-shared -O3 -L/usr/local/lib -fstack-protector-strong'


Characteristics of this binary (from libperl): 
  Compile-time options:
    HAS_TIMES
    PERLIO_LAYERS
    PERL_COPY_ON_WRITE
    PERL_DONT_CREATE_GVSV
    PERL_MALLOC_WRAP
    PERL_OP_PARENT
    PERL_PRESERVE_IVUV
    PERL_USE_DEVEL
    USE_64_BIT_ALL
    USE_64_BIT_INT
    USE_LARGE_FILES
    USE_LOCALE
    USE_LOCALE_COLLATE
    USE_LOCALE_CTYPE
    USE_LOCALE_NUMERIC
    USE_LOCALE_TIME
    USE_PERLIO
    USE_PERL_ATOF
  Locally applied patches:
    Devel::PatchPerl 1.48
  Built under linux
  Compiled at Apr 16 2018 12:22:02
  %ENV:
    PERL_CPANM_OPT="--prompt --no-man-pages --verify --mirror https://cpan.metacpan.org"
  @INC:
    /home/ioanrogers/.plenv/versions/5.26.2/lib/perl5/site_perl/5.26.2/x86_64-linux
    /home/ioanrogers/.plenv/versions/5.26.2/lib/perl5/site_perl/5.26.2
    /home/ioanrogers/.plenv/versions/5.26.2/lib/perl5/5.26.2/x86_64-linux
    /home/ioanrogers/.plenv/versions/5.26.2/lib/perl5/5.26.2